Uber Exif Photo
By-line : francisdumadag
Copyright Notice : (c)GFD2011
Photometric Interpretation : RGB
Make : NIKON CORPORATION
Camera Model Name : NIKON D7000
Orientation : Horizontal (normal)
Samples Per Pixel : 3
Planar Configuration : Chunky
Software : Adobe Photoshop CS5 Windows
Modify Date : 2011:03:25 09:33:53
Artist : francisdumadag
Copyright : (c)GFD2011
Exposure Time : 20
F Number : 10.0
Exposure Program : Manual
ISO : 100
Sensitivity Type : Recommended Exposure Index
Date/Time Original : 2011:03:24 02:18:20
Create Date : 2011:03:24 02:18:20
Shutter Speed Value : 20
Aperture Value : 10.0
Exposure Compensation : +3
Max Aperture Value : 4.0
Subject Distance : 4294967295 m
Metering Mode : Spot
Light Source : Cool White Fluorescent
Flash : Off, Did not fire
Focal Length : 24.0 mm
User Comment : (c)all rights reserved GFDumadag
Color Space : sRGB
Exif Image Width : 2500
Exif Image Height : 1895
Sensing Method : One-chip color area
Scene Type : Directly photographed
CFA Pattern : [Red,Green][Green,Blue]
Custom Rendered : Normal
Exposure Mode : Manual
White Balance : Manual
Digital Zoom Ratio : 1
Focal Length In 35mm Format : 36 mm
Scene Capture Type : Standard
Gain Control : None
Contrast : Normal
Saturation : Normal
Sharpness : Normal
Subject Distance Range : Unknown
Serial Number : 8012503
Lens Info : 18-55mm f/3.5-5.6
Lens Model : 18.0-55.0 mm f/3.5-5.6
Profile Description : sRGB IEC61966-2.1
Creator Tool : Ver.1.01
Format : image/jpeg
Lens : 18.0-55.0 mm f/3.5-5.6
Image Number : 2928
Approximate Focus Distance : 4294967295
Version : 6.3
Process Version : 5.7
Color Temperature : 2000
Tint : -43
Exposure : 0.00
Shadows : 3
Brightness : +81
Luminance Smoothing : 0
Color Noise Reduction : 25
Chromatic Aberration R : 0
Chromatic Aberration B : 0
Vignette Amount : 0
Shadow Tint : 0
Red Hue : 0
Red Saturation : 0
Green Hue : 0
Green Saturation : 0
Blue Hue : 0
Blue Saturation : 0
Fill Light : 30
Vibrance : +38
Highlight Recovery : 11
Clarity : +70
Defringe : 0
Hue Adjustment Red : 0
Hue Adjustment Orange : 0
Hue Adjustment Yellow : 0
Hue Adjustment Green : 0
Hue Adjustment Aqua : 0
Hue Adjustment Blue : 0
Hue Adjustment Purple : 0
Hue Adjustment Magenta : 0
Saturation Adjustment Red : 0
Saturation Adjustment Orange : 0
Saturation Adjustment Yellow : 0
Saturation Adjustment Green : 0
Saturation Adjustment Aqua : 0
Saturation Adjustment Blue : 0
Saturation Adjustment Purple : 0
Saturation Adjustment Magenta : 0
Luminance Adjustment Red : 0
Luminance Adjustment Orange : 0
Luminance Adjustment Yellow : 0
Luminance Adjustment Green : 0
Luminance Adjustment Aqua : 0
Luminance Adjustment Blue : 0
Luminance Adjustment Purple : 0
Luminance Adjustment Magenta : 0
Split Toning Shadow Hue : 0
Split Toning Shadow Saturation : 0
Split Toning Highlight Hue : 0
Split Toning Highlight Saturation : 0
Split Toning Balance : 0
Parametric Shadows : 0
Parametric Darks : 0
Parametric Lights : 0
Parametric Highlights : 0
Parametric Shadow Split : 25
Parametric Midtone Split : 50
Parametric Highlight Split : 75
Sharpen Radius : +1.0
Sharpen Detail : 25
Sharpen Edge Masking : 0
Post Crop Vignette Amount : 0
Grain Amount : 0
Color Noise Reduction Detail : 50
Lens Profile Enable : 0
Lens Manual Distortion Amount : 0
Perspective Vertical : 0
Perspective Horizontal : 0
Perspective Rotate : 0.0
Perspective Scale : 100
Convert To Grayscale : False
Tone Curve Name : Medium Contrast
Camera Profile : Adobe Standard
Lens Profile Setup : LensDefaults
Has Settings : True
Has Crop : False
Already Applied : True
Color Mode : RGB
ICC Profile Name : sRGB IEC61966-2.1
Date Created : 2011:03:24 02:18:20.05
Creator : francisdumadag
Rights : (c)GFD2011
Tone Curve : 0, 0, 32, 22, 64, 56, 128, 128, 192, 196, 255, 255
Image Width : 300
Image Height : 227
Bits Per Sample : 8
Color Components : 3
Aperture : 10.0
Image Size : 300x227
Megapixels : 0.068
Scale Factor To 35 mm Equivalent : 1.5
Shutter Speed : 20
Create Date : 2011:03:24 02:18:20.50
Date/Time Original : 2011:03:24 02:18:20.50
Circle Of Confusion : 0.020 mm
Depth Of Field : inf (2.88 m - inf)
Field Of View : 53.1 deg
Focal Length : 24.0 mm (35 mm equivalent: 36.0 mm)
Hyperfocal Distance : 2.88 m
Light Value : 2.3
Lens ID : AF-S DX VR Zoom-Nikkor 18-55mm f/3.5-5.6G