Uber Exif Photo
Make : NIKON CORPORATION
Camera Model Name : NIKON D90
Software : Adobe Photoshop CS5 Windows
Modify Date : 2011:06:05 20:42:02
Exposure Time : 1/80
F Number : 4.5
Exposure Program : Program AE
ISO : 200
Date/Time Original : 2011:01:20 17:42:55
Create Date : 2011:01:20 17:42:55
Shutter Speed Value : 1/80
Aperture Value : 4.5
Exposure Compensation : 0
Max Aperture Value : 3.5
Subject Distance : 4294967295 m
Metering Mode : Multi-segment
Light Source : Unknown
Focal Length : 18.0 mm
User Comment : habullsh@emirates.net.ae
Sensing Method : One-chip color area
Scene Type : Directly photographed
CFA Pattern : [Green,Blue][Red,Green]
Custom Rendered : Normal
Exposure Mode : Auto
White Balance : Auto
Digital Zoom Ratio : 1
Focal Length In 35mm Format : 27 mm
Scene Capture Type : Standard
Gain Control : None
Contrast : Normal
Saturation : Normal
Sharpness : Normal
Subject Distance Range : Unknown
Profile Description : Adobe RGB (1998)
Date Created : 2011:01:20
Date/Time Digitized : 2011:01:20 17:42:55.00+04:00
Exif Image Width : 3430
Exif Image Height : 2278
Creator Tool : Adobe Photoshop CS5 Windows
Rating : 0
Raw File Name : DSC_0125B.jpg
Version : 6.0
Process Version : 5.7
Incremental Temperature : 0
Incremental Tint : 0
Exposure : 0.00
Shadows : 0
Brightness : 0
Luminance Smoothing : 18
Color Noise Reduction : 0
Chromatic Aberration R : 0
Chromatic Aberration B : 0
Vignette Amount : 0
Shadow Tint : 0
Red Hue : 0
Red Saturation : +27
Green Hue : 0
Green Saturation : 0
Blue Hue : 0
Blue Saturation : +43
Fill Light : 0
Vibrance : +73
Highlight Recovery : 0
Clarity : +54
Defringe : 0
Hue Adjustment Red : 0
Hue Adjustment Orange : 0
Hue Adjustment Yellow : 0
Hue Adjustment Green : 0
Hue Adjustment Aqua : 0
Hue Adjustment Blue : +3
Hue Adjustment Purple : 0
Hue Adjustment Magenta : 0
Saturation Adjustment Red : 0
Saturation Adjustment Orange : 0
Saturation Adjustment Yellow : 0
Saturation Adjustment Green : 0
Saturation Adjustment Aqua : 0
Saturation Adjustment Blue : 0
Saturation Adjustment Purple : 0
Saturation Adjustment Magenta : 0
Luminance Adjustment Red : 0
Luminance Adjustment Orange : 0
Luminance Adjustment Yellow : 0
Luminance Adjustment Green : 0
Luminance Adjustment Aqua : 0
Luminance Adjustment Blue : 0
Luminance Adjustment Purple : 0
Luminance Adjustment Magenta : 0
Split Toning Shadow Hue : 0
Split Toning Shadow Saturation : 0
Split Toning Highlight Hue : 231
Split Toning Highlight Saturation : 0
Split Toning Balance : 0
Parametric Shadows : +33
Parametric Darks : +13
Parametric Lights : 0
Parametric Highlights : 0
Parametric Shadow Split : 25
Parametric Midtone Split : 50
Parametric Highlight Split : 75
Sharpen Radius : +1.0
Sharpen Detail : 25
Sharpen Edge Masking : 0
Post Crop Vignette Amount : 0
Grain Amount : 0
Luminance Noise Reduction Detail : 50
Luminance Noise Reduction Contrast : 0
Convert To Grayscale : False
Tone Curve Name : Linear
Camera Profile : Embedded
Has Settings : True
Has Crop : False
Already Applied : True
Flash Fired : False
Flash Return : No return detection
Flash Mode : Unknown
Flash Function : False
Flash Red Eye Mode : False
Tone Curve : 0, 0, 255, 255
Image Width : 300
Image Height : 199
Bits Per Sample : 8
Color Components : 3
Aperture : 4.5
Image Size : 300x199
Megapixels : 0.060
Scale Factor To 35 mm Equivalent : 1.5
Shutter Speed : 1/80
Create Date : 2011:01:20 17:42:55.00
Date/Time Original : 2011:01:20 17:42:55.00
Flash : No Flash
Circle Of Confusion : 0.020 mm
Depth Of Field : inf (3.59 m - inf)
Field Of View : 67.4 deg
Focal Length : 18.0 mm (35 mm equivalent: 27.0 mm)
Hyperfocal Distance : 3.59 m
Light Value : 9.7