Uber Exif Photo
Make : NIKON CORPORATION
Camera Model Name : NIKON D90
Software : PhotoScape
Modify Date : 2010:07:03 22:47:37
Exposure Time : 0.5
F Number : 6.7
Exposure Program : Manual
ISO : 400
Date/Time Original : 2010:07:02 19:45:11
Create Date : 2010:07:02 19:45:11
Shutter Speed Value : 0.5
Aperture Value : 6.7
Exposure Compensation : +1
Max Aperture Value : 3.5
Metering Mode : Multi-segment
Light Source : Unknown
Focal Length : 10.0 mm
User Comment : habullsh@emirates.net.ae
Sensing Method : One-chip color area
Scene Type : Directly photographed
CFA Pattern : [Green,Blue][Red,Green]
Custom Rendered : Normal
Exposure Mode : Manual
White Balance : Auto
Digital Zoom Ratio : 1
Focal Length In 35mm Format : 15 mm
Scene Capture Type : Landscape
Gain Control : Low gain up
Contrast : Normal
Saturation : Normal
Sharpness : Normal
Subject Distance Range : Unknown
Profile Description : Adobe RGB (1998)
Rating Percent : 0
Date/Time Digitized : 2010:07:02 19:45:11.00+04:00
Exif Image Width : 4288
Exif Image Height : 2848
Creator Tool : Nikon Transfer 1.1 W
Serial Number : 2153885
Lens Info : 10-20mm f/3.5
Lens : 10.0-20.0 mm f/3.5
Image Number : 8043
Raw File Name : DSC_0361.JPG
Version : 4.6
Incremental Temperature : 0
Incremental Tint : 0
Exposure : +0.65
Shadows : 0
Brightness : +5
Luminance Smoothing : 92
Color Noise Reduction : 33
Chromatic Aberration R : 0
Chromatic Aberration B : 0
Vignette Amount : +86
Vignette Midpoint : 24
Shadow Tint : 0
Red Hue : 0
Red Saturation : 0
Green Hue : 0
Green Saturation : 0
Blue Hue : 0
Blue Saturation : 0
Fill Light : 0
Vibrance : +41
Highlight Recovery : 0
Clarity : 0
Defringe : 0
Hue Adjustment Red : 0
Hue Adjustment Orange : 0
Hue Adjustment Yellow : 0
Hue Adjustment Green : 0
Hue Adjustment Aqua : 0
Hue Adjustment Blue : 0
Hue Adjustment Purple : 0
Hue Adjustment Magenta : 0
Saturation Adjustment Red : 0
Saturation Adjustment Orange : 0
Saturation Adjustment Yellow : 0
Saturation Adjustment Green : 0
Saturation Adjustment Aqua : 0
Saturation Adjustment Blue : 0
Saturation Adjustment Purple : 0
Saturation Adjustment Magenta : 0
Luminance Adjustment Red : 0
Luminance Adjustment Orange : 0
Luminance Adjustment Yellow : 0
Luminance Adjustment Green : 0
Luminance Adjustment Aqua : 0
Luminance Adjustment Blue : 0
Luminance Adjustment Purple : 0
Luminance Adjustment Magenta : 0
Split Toning Shadow Hue : 0
Split Toning Shadow Saturation : 0
Split Toning Highlight Hue : 0
Split Toning Highlight Saturation : 0
Split Toning Balance : 0
Parametric Shadows : 0
Parametric Darks : 0
Parametric Lights : 0
Parametric Highlights : 0
Parametric Shadow Split : 25
Parametric Midtone Split : 50
Parametric Highlight Split : 75
Sharpen Radius : +1.0
Sharpen Detail : 25
Sharpen Edge Masking : 0
Post Crop Vignette Amount : 0
Convert To Grayscale : False
Tone Curve Name : Linear
Camera Profile : Embedded
Has Settings : True
Has Crop : False
Already Applied : True
Flash Fired : False
Flash Return : No return detection
Flash Mode : Unknown
Flash Function : False
Flash Red Eye Mode : False
Tone Curve : 0, 0, 255, 255
Image Width : 233
Image Height : 300
Bits Per Sample : 8
Color Components : 3
Aperture : 6.7
Image Size : 233x300
Megapixels : 0.070
Scale Factor To 35 mm Equivalent : 1.5
Shutter Speed : 0.5
Create Date : 2010:07:02 19:45:11.00
Date/Time Original : 2010:07:02 19:45:11.00
Flash : No Flash
Circle Of Confusion : 0.020 mm
Field Of View : 100.4 deg
Focal Length : 10.0 mm (35 mm equivalent: 15.0 mm)
Hyperfocal Distance : 0.75 m
Light Value : 4.5
Lens ID : 10.0-20.0mm f/3.5