Uber Exif Photo
Make : NIKON CORPORATION
Camera Model Name : NIKON D90
Software : PhotoScape
Modify Date : 2011:05:29 23:16:57
Exposure Time : 1/500
F Number : 11.0
Exposure Program : Program AE
ISO : 200
Date/Time Original : 2011:05:29 18:41:40
Create Date : 2011:05:29 18:41:40
Shutter Speed Value : 1/500
Aperture Value : 11.0
Exposure Compensation : 0
Max Aperture Value : 4.8
Subject Distance : 4294967295 m
Metering Mode : Multi-segment
Light Source : Unknown
Flash : No Flash
Focal Length : 48.0 mm
User Comment : habullsh@emirates.net.ae
Color Space : Uncalibrated
Exif Image Width : 4288
Exif Image Height : 2848
Sensing Method : One-chip color area
Scene Type : Directly photographed
CFA Pattern : [Green,Blue][Red,Green]
Custom Rendered : Normal
Exposure Mode : Auto
White Balance : Auto
Digital Zoom Ratio : 1
Focal Length In 35mm Format : 72 mm
Scene Capture Type : Landscape
Gain Control : None
Contrast : Normal
Saturation : High
Sharpness : Normal
Subject Distance Range : Unknown
Profile Description : Adobe RGB (1998)
Creator Tool : Ver.1.00
Rating : 0
Serial Number : 2153885
Lens Info : 18-105mm f/3.5-5.6
Lens : 18.0-105.0 mm f/3.5-5.6
Image Number : 21669
Raw File Name : DSC_0166.JPG
Version : 6.0
Process Version : 5.7
Incremental Temperature : -36
Incremental Tint : -2
Exposure : 0.00
Shadows : 0
Brightness : 0
Luminance Smoothing : 28
Color Noise Reduction : 33
Chromatic Aberration R : 0
Chromatic Aberration B : 0
Vignette Amount : 0
Shadow Tint : 0
Red Hue : +3
Red Saturation : +66
Green Hue : 0
Green Saturation : -100
Blue Hue : 0
Blue Saturation : 0
Fill Light : 0
Vibrance : +2
Highlight Recovery : 0
Clarity : +49
Defringe : 0
Hue Adjustment Red : -1
Hue Adjustment Orange : -2
Hue Adjustment Yellow : 0
Hue Adjustment Green : -73
Hue Adjustment Aqua : 0
Hue Adjustment Blue : 0
Hue Adjustment Purple : 0
Hue Adjustment Magenta : 0
Saturation Adjustment Red : 0
Saturation Adjustment Orange : 0
Saturation Adjustment Yellow : 0
Saturation Adjustment Green : 0
Saturation Adjustment Aqua : 0
Saturation Adjustment Blue : 0
Saturation Adjustment Purple : 0
Saturation Adjustment Magenta : 0
Luminance Adjustment Red : 0
Luminance Adjustment Orange : 0
Luminance Adjustment Yellow : 0
Luminance Adjustment Green : 0
Luminance Adjustment Aqua : 0
Luminance Adjustment Blue : 0
Luminance Adjustment Purple : 0
Luminance Adjustment Magenta : 0
Split Toning Shadow Hue : 0
Split Toning Shadow Saturation : 0
Split Toning Highlight Hue : 0
Split Toning Highlight Saturation : 0
Split Toning Balance : 0
Parametric Shadows : +100
Parametric Darks : -57
Parametric Lights : 0
Parametric Highlights : -12
Parametric Shadow Split : 25
Parametric Midtone Split : 50
Parametric Highlight Split : 75
Sharpen Radius : +1.0
Sharpen Detail : 25
Sharpen Edge Masking : 0
Post Crop Vignette Amount : 0
Grain Amount : 0
Luminance Noise Reduction Detail : 50
Color Noise Reduction Detail : 50
Luminance Noise Reduction Contrast : 0
Convert To Grayscale : False
Tone Curve Name : Linear
Camera Profile : Embedded
Has Settings : True
Has Crop : False
Already Applied : True
Format : image/jpeg
Color Mode : RGB
ICC Profile Name : Adobe RGB (1998)
Date Created : 2011:05:29 18:41:40
Tone Curve : 0, 0, 255, 255
Image Width : 300
Image Height : 199
Bits Per Sample : 8
Color Components : 3
Aperture : 11.0
Image Size : 300x199
Megapixels : 0.060
Scale Factor To 35 mm Equivalent : 1.5
Shutter Speed : 1/500
Create Date : 2011:05:29 18:41:40.00
Date/Time Original : 2011:05:29 18:41:40.00
Modify Date : 2011:05:29 23:16:57.00
Circle Of Confusion : 0.020 mm
Depth Of Field : inf (10.46 m - inf)
Field Of View : 28.1 deg
Focal Length : 48.0 mm (35 mm equivalent: 72.0 mm)
Hyperfocal Distance : 10.46 m
Light Value : 14.9
Lens ID : AF-S DX VR Zoom-Nikkor 18-105mm f/3.5-5.6G ED