Uber Exif Photo
Make : NIKON CORPORATION
Camera Model Name : NIKON D40
Software : Ver.1.11
Modify Date : 2011:04:10 09:03:00
Exposure Time : 1/250
F Number : 11.0
Exposure Program : Aperture-priority AE
ISO : 800
Date/Time Original : 2011:01:30 19:01:53
Create Date : 2011:01:30 19:01:53
Shutter Speed Value : 1/250
Aperture Value : 11.0
Exposure Compensation : 0
Max Aperture Value : 3.6
Subject Distance : 0.4 m
Metering Mode : Multi-segment
Light Source : Cloudy
Focal Length : 105.0 mm
Sensing Method : One-chip color area
Scene Type : Directly photographed
CFA Pattern : [Blue,Green][Green,Red]
Custom Rendered : Normal
Exposure Mode : Auto
White Balance : Manual
Digital Zoom Ratio : 1
Focal Length In 35mm Format : 157 mm
Scene Capture Type : Standard
Gain Control : Low gain up
Contrast : Normal
Saturation : High
Sharpness : Normal
Subject Distance Range : Unknown
Profile Description : sRGB IEC61966-2.1
Date/Time Digitized : 2011:01:30 19:01:53.30-05:00
Exif Image Width : 2949
Exif Image Height : 1890
Creator Tool : Adobe Photoshop Lightroom
Serial Number : 3487216
Lens Info : 105mm f/2.8
Lens : 105.0 mm f/2.8
Image Number : 33681
Version : 6.1
Process Version : 5.7
Incremental Temperature : -3
Incremental Tint : 0
Exposure : +0.10
Shadows : 0
Brightness : 0
Luminance Smoothing : 30
Color Noise Reduction : 0
Chromatic Aberration R : 0
Chromatic Aberration B : 0
Vignette Amount : 0
Shadow Tint : 0
Red Hue : 0
Red Saturation : 0
Green Hue : 0
Green Saturation : 0
Blue Hue : 0
Blue Saturation : 0
Fill Light : 0
Vibrance : 0
Highlight Recovery : 0
Clarity : +10
Defringe : 0
Hue Adjustment Red : 0
Hue Adjustment Orange : 0
Hue Adjustment Yellow : 0
Hue Adjustment Green : 0
Hue Adjustment Aqua : 0
Hue Adjustment Blue : 0
Hue Adjustment Purple : 0
Hue Adjustment Magenta : 0
Saturation Adjustment Red : 0
Saturation Adjustment Orange : 0
Saturation Adjustment Yellow : 0
Saturation Adjustment Green : 0
Saturation Adjustment Aqua : 0
Saturation Adjustment Blue : 0
Saturation Adjustment Purple : 0
Saturation Adjustment Magenta : 0
Luminance Adjustment Red : 0
Luminance Adjustment Orange : 0
Luminance Adjustment Yellow : 0
Luminance Adjustment Green : 0
Luminance Adjustment Aqua : 0
Luminance Adjustment Blue : 0
Luminance Adjustment Purple : 0
Luminance Adjustment Magenta : 0
Split Toning Shadow Hue : 0
Split Toning Shadow Saturation : 0
Split Toning Highlight Hue : 0
Split Toning Highlight Saturation : 0
Split Toning Balance : 0
Parametric Shadows : -2
Parametric Darks : -4
Parametric Lights : -3
Parametric Highlights : +5
Parametric Shadow Split : 25
Parametric Midtone Split : 50
Parametric Highlight Split : 75
Sharpen Radius : +1.0
Sharpen Detail : 25
Sharpen Edge Masking : 0
Post Crop Vignette Amount : -20
Post Crop Vignette Midpoint : 50
Post Crop Vignette Feather : 50
Post Crop Vignette Roundness : 0
Post Crop Vignette Style : Highlight Priority
Post Crop Vignette Highlight Contrast : 0
Grain Amount : 0
Luminance Noise Reduction Detail : 50
Luminance Noise Reduction Contrast : 0
Lens Profile Enable : 0
Lens Manual Distortion Amount : 0
Perspective Vertical : 0
Perspective Horizontal : 0
Perspective Rotate : 0.0
Perspective Scale : 100
Convert To Grayscale : False
Tone Curve Name : Linear
Camera Profile : Embedded
Lens Profile Setup : LensDefaults
Has Settings : True
Crop Top : 0.054945
Crop Left : 0
Crop Bottom : 1
Crop Right : 0.980512
Crop Angle : 0
Crop Constrain To Warp : 0
Crop Width : 2949
Crop Height : 1890
Crop Unit : pixels
Has Crop : True
Already Applied : True
Flash Fired : True
Flash Return : Return detected
Flash Mode : Auto
Flash Function : False
Flash Red Eye Mode : False
Tone Curve : 0, 0, 255, 255
Image Width : 300
Image Height : 192
Bits Per Sample : 8
Color Components : 3
Aperture : 11.0
Image Size : 300x192
Megapixels : 0.058
Scale Factor To 35 mm Equivalent : 1.5
Shutter Speed : 1/250
Create Date : 2011:01:30 19:01:53.30
Date/Time Original : 2011:01:30 19:01:53.30
Flash : Auto, Fired, Return detected
Circle Of Confusion : 0.020 mm
Depth Of Field : 0.005 m (0.398 - 0.402 m)
Field Of View : 13.1 deg
Focal Length : 105.0 mm (35 mm equivalent: 157.0 mm)
Hyperfocal Distance : 49.88 m
Light Value : 11.9
Lens ID : AF-S VR Micro-Nikkor 105mm f/2.8G IF-ED