Uber Exif Photo
Keywords : 2009, Hua Hin 2009, Matkat, Matkat ulkomaille, Vuosi
Make : NIKON CORPORATION
Camera Model Name : NIKON D80
Software : Adobe Photoshop Lightroom 5.7 (Windows)
Modify Date : 2014:12:02 16:34:24
Exposure Time : 1/250
F Number : 10.0
Exposure Program : Not Defined
ISO : 160
Date/Time Original : 2009:03:09 06:06:40
Create Date : 2009:03:09 06:06:40
Shutter Speed Value : 1/250
Aperture Value : 10.0
Exposure Compensation : 0
Max Aperture Value : 4.8
Subject Distance : 21.1 m
Metering Mode : Multi-segment
Light Source : Unknown
Flash : Off, Did not fire
Focal Length : 55.0 mm
Color Space : sRGB
Sensing Method : One-chip color area
Scene Type : Directly photographed
CFA Pattern : [Green,Blue][Red,Green]
Custom Rendered : Normal
Exposure Mode : Auto
White Balance : Auto
Digital Zoom Ratio : 1
Focal Length In 35mm Format : 82 mm
Scene Capture Type : Landscape
Gain Control : None
Contrast : High
Saturation : Normal
Sharpness : Hard
Subject Distance Range : Unknown
Serial Number : 4082623
Lens Info : 18-200mm f/3.5-5.6
Lens Model : 18.0-200.0 mm f/3.5-5.6
Profile Description : sRGB IEC61966-2.1
Creator Tool : Adobe Photoshop Lightroom 5.7 (Windows)
Lens : 18.0-200.0 mm f/3.5-5.6
Image Number : 7388
Approximate Focus Distance : 21.1
Date Created : 2009:03:09 06:06:40.60+02:00
Format : image/jpeg
Version : 8.7
Process Version : 6.7
Auto White Version : 134348800
Incremental Temperature : +1
Incremental Tint : +3
Luminance Smoothing : 63
Color Noise Reduction : 48
Vignette Amount : 0
Shadow Tint : 0
Red Hue : 0
Red Saturation : 0
Green Hue : 0
Green Saturation : 0
Blue Hue : 0
Blue Saturation : 0
Vibrance : 0
Hue Adjustment Red : 0
Hue Adjustment Orange : 0
Hue Adjustment Yellow : 0
Hue Adjustment Green : 0
Hue Adjustment Aqua : 0
Hue Adjustment Blue : 0
Hue Adjustment Purple : 0
Hue Adjustment Magenta : 0
Saturation Adjustment Red : 0
Saturation Adjustment Orange : 0
Saturation Adjustment Yellow : 0
Saturation Adjustment Green : 0
Saturation Adjustment Aqua : 0
Saturation Adjustment Blue : 0
Saturation Adjustment Purple : 0
Saturation Adjustment Magenta : 0
Luminance Adjustment Red : 0
Luminance Adjustment Orange : 0
Luminance Adjustment Yellow : 0
Luminance Adjustment Green : 0
Luminance Adjustment Aqua : 0
Luminance Adjustment Blue : 0
Luminance Adjustment Purple : 0
Luminance Adjustment Magenta : 0
Split Toning Shadow Hue : 0
Split Toning Shadow Saturation : 0
Split Toning Highlight Hue : 0
Split Toning Highlight Saturation : 0
Split Toning Balance : 0
Parametric Shadows : 0
Parametric Darks : 0
Parametric Lights : 0
Parametric Highlights : 0
Parametric Shadow Split : 25
Parametric Midtone Split : 50
Parametric Highlight Split : 75
Sharpen Radius : +1.0
Sharpen Detail : 25
Sharpen Edge Masking : 0
Post Crop Vignette Amount : 0
Grain Amount : 0
Luminance Noise Reduction Detail : 50
Color Noise Reduction Detail : 50
Luminance Noise Reduction Contrast : 0
Color Noise Reduction Smoothness : 50
Lens Profile Enable : 1
Lens Manual Distortion Amount : 0
Perspective Vertical : 0
Perspective Horizontal : 0
Perspective Rotate : 0.0
Perspective Scale : 100
Perspective Aspect : 0
Perspective Upright : Auto
Auto Lateral CA : 1
Exposure 2012 : -0.55
Contrast 2012 : +62
Highlights 2012 : -33
Shadows 2012 : +12
Whites 2012 : -38
Blacks 2012 : 0
Clarity 2012 : +43
Defringe Purple Amount : 0
Defringe Purple Hue Lo : 30
Defringe Purple Hue Hi : 70
Defringe Green Amount : 0
Defringe Green Hue Lo : 40
Defringe Green Hue Hi : 60
Convert To Grayscale : False
Tone Curve Name : Linear
Tone Curve Name 2012 : Medium Contrast
Camera Profile : Embedded
Lens Profile Setup : LensDefaults
Lens Profile Name : Adobe (Nikon AF-S DX VR Zoom-Nikkor 18-200mm f/3.5-5.6G IF-ED)
Lens Profile Filename : NIKON D90 (Nikon DX 18-200mm f3.5-5.6 G ED IF).lcp
Lens Profile Distortion Scale : 100
Lens Profile Chromatic Aberration Scale : 100
Lens Profile Vignetting Scale : 100
Has Settings : True
Has Crop : False
Already Applied : True
Hierarchical Subject : Matkat, Matkat|Matkat ulkomaille|Hua Hin 2009, Vuosi|2009
Subject : 2009, Hua Hin 2009, Matkat, Matkat ulkomaille, Vuosi
Tone Curve : 0, 0, 255, 255
Tone Curve Red : 0, 0, 255, 255
Tone Curve Green : 0, 0, 255, 255
Tone Curve Blue : 0, 0, 255, 255
Tone Curve PV2012 : 0, 0, 32, 22, 64, 56, 128, 128, 192, 196, 255, 255
Tone Curve PV2012 Red : 0, 0, 255, 255
Tone Curve PV2012 Green : 0, 0, 255, 255
Tone Curve PV2012 Blue : 0, 0, 255, 255
Derived From : Image Width : 300
Image Height : 201
Bits Per Sample : 8
Color Components : 3
Aperture : 10.0
Image Size : 300x201
Megapixels : 0.060
Scale Factor To 35 mm Equivalent : 1.5
Shutter Speed : 1/250
Create Date : 2009:03:09 06:06:40.60
Date/Time Original : 2009:03:09 06:06:40.60
Circle Of Confusion : 0.020 mm
Depth Of Field : inf (8.78 m - inf)
Field Of View : 24.8 deg
Focal Length : 55.0 mm (35 mm equivalent: 82.0 mm)
Hyperfocal Distance : 15.01 m
Light Value : 13.9
Lens ID : AF-S DX VR Zoom-Nikkor 18-200mm f/3.5-5.6G IF-ED or AF-S DX VR Zoom-Nikkor 18-200mm f/3.5-5.6G IF-ED [II]