Uber Exif Photo
Keywords : 2010, Hua Hin 2010 syksy, Matkat, Matkat ulkomaille, Vuosi
Make : NIKON CORPORATION
Camera Model Name : NIKON D80
Software : Adobe Photoshop Lightroom 3.4
Modify Date : 2011:05:19 11:14:38
Exposure Time : 1/200
F Number : 7.1
Exposure Program : Not Defined
ISO : 400
Date/Time Original : 2010:11:04 05:01:32
Create Date : 2010:11:04 05:01:32
Shutter Speed Value : 1/200
Aperture Value : 7.1
Exposure Compensation : 0
Max Aperture Value : 4.8
Subject Distance : 1.68 m
Metering Mode : Multi-segment
Light Source : Unknown
Flash : No Flash
Focal Length : 50.0 mm
Sensing Method : One-chip color area
Scene Type : Directly photographed
CFA Pattern : [Green,Blue][Red,Green]
Custom Rendered : Normal
Exposure Mode : Auto
White Balance : Auto
Digital Zoom Ratio : 1
Focal Length In 35mm Format : 75 mm
Scene Capture Type : Standard
Gain Control : Low gain up
Contrast : Normal
Saturation : Normal
Sharpness : Normal
Subject Distance Range : Unknown
Serial Number : 4082623
Lens Info : 18-200mm f/3.5-5.6
Lens Model : 18.0-200.0 mm f/3.5-5.6
Profile Description : Adobe RGB (1998)
Creator Tool : Adobe Photoshop Lightroom 3.4
Lens : 18.0-200.0 mm f/3.5-5.6
Image Number : 14965
Approximate Focus Distance : 1.68
Version : 6.4
Process Version : 5.7
Color Temperature : 4759
Tint : +1
Exposure : -0.14
Shadows : 13
Brightness : +50
Luminance Smoothing : 29
Color Noise Reduction : 25
Chromatic Aberration R : 0
Chromatic Aberration B : 0
Vignette Amount : 0
Shadow Tint : 0
Red Hue : 0
Red Saturation : 0
Green Hue : 0
Green Saturation : 0
Blue Hue : 0
Blue Saturation : 0
Fill Light : 18
Vibrance : 0
Highlight Recovery : 47
Clarity : 0
Defringe : 0
Hue Adjustment Red : 0
Hue Adjustment Orange : 0
Hue Adjustment Yellow : 0
Hue Adjustment Green : 0
Hue Adjustment Aqua : 0
Hue Adjustment Blue : 0
Hue Adjustment Purple : 0
Hue Adjustment Magenta : 0
Saturation Adjustment Red : -41
Saturation Adjustment Orange : -18
Saturation Adjustment Yellow : 0
Saturation Adjustment Green : 0
Saturation Adjustment Aqua : 0
Saturation Adjustment Blue : 0
Saturation Adjustment Purple : 0
Saturation Adjustment Magenta : 0
Luminance Adjustment Red : -2
Luminance Adjustment Orange : 0
Luminance Adjustment Yellow : 0
Luminance Adjustment Green : 0
Luminance Adjustment Aqua : 0
Luminance Adjustment Blue : 0
Luminance Adjustment Purple : 0
Luminance Adjustment Magenta : 0
Split Toning Shadow Hue : 0
Split Toning Shadow Saturation : 0
Split Toning Highlight Hue : 0
Split Toning Highlight Saturation : 0
Split Toning Balance : 0
Parametric Shadows : +26
Parametric Darks : +9
Parametric Lights : +16
Parametric Highlights : -22
Parametric Shadow Split : 25
Parametric Midtone Split : 50
Parametric Highlight Split : 75
Sharpen Radius : +1.0
Sharpen Detail : 25
Sharpen Edge Masking : 0
Post Crop Vignette Amount : 0
Grain Amount : 0
Luminance Noise Reduction Detail : 50
Color Noise Reduction Detail : 50
Luminance Noise Reduction Contrast : 0
Lens Profile Enable : 0
Lens Manual Distortion Amount : 0
Perspective Vertical : 0
Perspective Horizontal : 0
Perspective Rotate : 0.0
Perspective Scale : 100
Convert To Grayscale : False
Tone Curve Name : Medium Contrast
Camera Profile : Adobe Standard
Lens Profile Setup : LensDefaults
Has Settings : True
Crop Top : 0.096762
Crop Left : 0.289634
Crop Bottom : 0.7096
Crop Right : 0.611953
Crop Angle : -0.007829
Crop Constrain To Warp : 0
Crop Width : 1248
Crop Height : 1589
Crop Unit : pixels
Has Crop : True
Already Applied : True
Date Created : 2010:11:04 05:01:32.00+02:00
Subject : 2010, Hua Hin 2010 syksy, Matkat, Matkat ulkomaille, Vuosi
Tone Curve : 0, 0, 32, 22, 64, 56, 128, 128, 192, 196, 255, 255
Paint Correction What : Correction
Paint Correction Amount : 1.000000
Paint Correction Active : true
Paint Correction Exposure : -1.000000
Paint Correction Saturation : 0.000000
Paint Correction Contrast : 0.049000
Paint Correction Clarity : 1.000000
Paint Correction Sharpness : 1.000000
Paint Correction Brightness : -1.000000
Paint Correction Toning Hue : 245.000000
Paint Correction Toning Saturation : 0.000000
Paint Correction Mask What : Mask/Paint
Paint Correction Mask Value : 0.476000
Paint Correction Mask Radius : 0.043237
Paint Correction Mask Flow : 0.500000
Paint Correction Mask Center Weight : 0.028165
Gradient Based Corr What : Correction
Gradient Based Corr Amount : 1.000000
Gradient Based Corr Active : true
Gradient Based Corr Exposure : -0.610000
Gradient Based Corr Saturation : 0.000000
Gradient Based Corr Contrast : 0.049000
Gradient Based Corr Clarity : -1.000000
Gradient Based Corr Sharpness : -1.000000
Gradient Based Corr Brightness : 0.659000
Gradient Based Corr Toning Hue : 245.000000
Gradient Based Corr Toning Saturation : 0.000000
Gradient Based Corr Mask What : Mask/Gradient
Gradient Based Corr Mask Value : 1.000000
Gradient Based Corr Mask Zero X : 0.454974
Gradient Based Corr Mask Zero Y : 0.207827
Gradient Based Corr Mask Full X : 0.453432
Gradient Based Corr Mask Full Y : 0.071960
Image Width : 236
Image Height : 300
Bits Per Sample : 8
Color Components : 3
Aperture : 7.1
Image Size : 236x300
Megapixels : 0.071
Scale Factor To 35 mm Equivalent : 1.5
Shutter Speed : 1/200
Create Date : 2010:11:04 05:01:32.00
Date/Time Original : 2010:11:04 05:01:32.00
Circle Of Confusion : 0.020 mm
Depth Of Field : 0.31 m (1.54 - 1.85 m)
Field Of View : 27.0 deg
Focal Length : 50.0 mm (35 mm equivalent: 75.0 mm)
Hyperfocal Distance : 17.58 m
Light Value : 11.3
Lens ID : AF-S DX VR Zoom-Nikkor 18-200mm f/3.5-5.6G IF-ED or AF-S DX VR Zoom-Nikkor 18-200mm f/3.5-5.6G IF-ED [II]