Uber Exif Photo
Make : NIKON CORPORATION
Camera Model Name : NIKON D3100
Software : Nikon Transfer 2.0 W
Modify Date : 2011:03:07 00:32:55
Exposure Time : 1/10
F Number : 5.6
Exposure Program : Manual
ISO : 200
Sensitivity Type : Unknown
Date/Time Original : 2011:03:06 18:38:18
Create Date : 2011:03:06 18:38:18
Shutter Speed Value : 1/10
Aperture Value : 5.6
Exposure Compensation : 0
Max Aperture Value : 5.7
Subject Distance : 2.24 m
Metering Mode : Spot
Light Source : Unknown
Focal Length : 50.0 mm
Sensing Method : One-chip color area
Scene Type : Directly photographed
CFA Pattern : [Green,Blue][Red,Green]
Custom Rendered : Normal
Exposure Mode : Manual
White Balance : Auto
Digital Zoom Ratio : 1
Focal Length In 35mm Format : 75 mm
Scene Capture Type : Landscape
Gain Control : None
Contrast : Normal
Saturation : Normal
Sharpness : Normal
Subject Distance Range : Unknown
Serial Number : 8102295
Lens Info : 18-55mm f/3.5-5.599999999
Lens Model : 18.0-55.0 mm f/3.5-5.6
Profile Description : sRGB IEC61966-2.1
Rating Percent : 0
Date/Time Digitized : 2011:03:06 18:38:18.80+05:30
Exif Image Width : 3897
Exif Image Height : 2598
Creator Tool : Adobe Photoshop Lightroom 3.3
Lens : 18.0-55.0 mm f/3.5-5.6
Image Number : 1056
Approximate Focus Distance : 2.24
Version : 6.3
Process Version : 5.7
Color Temperature : 12500
Tint : +35
Exposure : +0.75
Shadows : 11
Brightness : +57
Luminance Smoothing : 18
Color Noise Reduction : 25
Chromatic Aberration R : 0
Chromatic Aberration B : 0
Vignette Amount : -61
Vignette Midpoint : 34
Shadow Tint : +8
Red Hue : +96
Red Saturation : +3
Green Hue : +11
Green Saturation : +25
Blue Hue : +11
Blue Saturation : -70
Fill Light : 0
Vibrance : 0
Highlight Recovery : 0
Clarity : +45
Defringe : 0
Hue Adjustment Red : 0
Hue Adjustment Orange : 0
Hue Adjustment Yellow : 0
Hue Adjustment Green : 0
Hue Adjustment Aqua : 0
Hue Adjustment Blue : 0
Hue Adjustment Purple : 0
Hue Adjustment Magenta : 0
Saturation Adjustment Red : 0
Saturation Adjustment Orange : 0
Saturation Adjustment Yellow : 0
Saturation Adjustment Green : 0
Saturation Adjustment Aqua : 0
Saturation Adjustment Blue : 0
Saturation Adjustment Purple : 0
Saturation Adjustment Magenta : 0
Luminance Adjustment Red : 0
Luminance Adjustment Orange : 0
Luminance Adjustment Yellow : 0
Luminance Adjustment Green : 0
Luminance Adjustment Aqua : 0
Luminance Adjustment Blue : 0
Luminance Adjustment Purple : 0
Luminance Adjustment Magenta : 0
Split Toning Shadow Hue : 0
Split Toning Shadow Saturation : 0
Split Toning Highlight Hue : 0
Split Toning Highlight Saturation : 0
Split Toning Balance : 0
Parametric Shadows : -14
Parametric Darks : -3
Parametric Lights : 0
Parametric Highlights : 0
Parametric Shadow Split : 25
Parametric Midtone Split : 50
Parametric Highlight Split : 75
Sharpen Radius : +1.0
Sharpen Detail : 25
Sharpen Edge Masking : 0
Post Crop Vignette Amount : 0
Grain Amount : 0
Luminance Noise Reduction Detail : 50
Color Noise Reduction Detail : 50
Luminance Noise Reduction Contrast : 0
Lens Profile Enable : 0
Lens Manual Distortion Amount : 0
Perspective Vertical : 0
Perspective Horizontal : 0
Perspective Rotate : 0.0
Perspective Scale : 100
Convert To Grayscale : False
Tone Curve Name : Linear
Camera Profile : Camera Standard
Lens Profile Setup : LensDefaults
Has Settings : True
Crop Top : 0
Crop Left : 0.071839
Crop Bottom : 0.845786
Crop Right : 0.917625
Crop Angle : 0
Crop Constrain To Warp : 0
Crop Width : 3897
Crop Height : 2598
Crop Unit : pixels
Has Crop : True
Already Applied : True
Flash Fired : False
Flash Return : No return detection
Flash Mode : Unknown
Flash Function : False
Flash Red Eye Mode : False
Tone Curve : 0, 0, 255, 255
Image Width : 300
Image Height : 200
Bits Per Sample : 8
Color Components : 3
Aperture : 5.6
Image Size : 300x200
Megapixels : 0.060
Scale Factor To 35 mm Equivalent : 1.5
Shutter Speed : 1/10
Create Date : 2011:03:06 18:38:18.80
Date/Time Original : 2011:03:06 18:38:18.80
Flash : No Flash
Circle Of Confusion : 0.020 mm
Depth Of Field : 0.44 m (2.04 - 2.48 m)
Field Of View : 27.0 deg
Focal Length : 50.0 mm (35 mm equivalent: 75.0 mm)
Hyperfocal Distance : 22.29 m
Light Value : 7.3
Lens ID : AF-S DX VR Zoom-Nikkor 18-55mm f/3.5-5.6G