Uber Exif Photo
Make : NIKON CORPORATION
Camera Model Name : NIKON D3100
Software : Adobe Photoshop CS5 Windows
Modify Date : 2011:05:10 16:51:26
Exposure Time : 1/125
F Number : 8.0
Exposure Program : Manual
ISO : 200
Date/Time Original : 2011:04:29 09:30:58
Create Date : 2011:04:29 09:30:58
Shutter Speed Value : 1/125
Aperture Value : 8.0
Exposure Compensation : 0
Max Aperture Value : 5.7
Subject Distance : 17.8 m
Metering Mode : Multi-segment
Light Source : Unknown
Focal Length : 270.0 mm
Sensing Method : One-chip color area
Scene Type : Directly photographed
CFA Pattern : [Green,Blue][Red,Green]
Custom Rendered : Normal
Exposure Mode : Manual
White Balance : Auto
Digital Zoom Ratio : 1
Focal Length In 35mm Format : 405 mm
Scene Capture Type : Standard
Gain Control : None
Contrast : Normal
Saturation : Normal
Sharpness : Normal
Subject Distance Range : Unknown
Profile Description : sRGB IEC61966-2.1
Rating Percent : 0
Creator Tool : Adobe Photoshop Lightroom
Serial Number : 8102295
Lens Info : 70-300mm f/4-5.59999999947846
Lens : 70.0-300.0 mm f/4.0-5.6
Image Number : 3327
Approximate Focus Distance : 17.8
Date Created : 2011:04:29 09:30:58.005+05:30
Format : image/tiff
Date/Time Digitized : 2011:04:29 09:30:58.50+05:30
Exif Image Width : 2091
Exif Image Height : 1358
Version : 5.7
Incremental Temperature : +17
Incremental Tint : +19
Exposure : 0.00
Shadows : 11
Brightness : +11
Luminance Smoothing : 11
Color Noise Reduction : 10
Chromatic Aberration R : 0
Chromatic Aberration B : 0
Vignette Amount : -40
Vignette Midpoint : 50
Shadow Tint : 0
Red Hue : 0
Red Saturation : 0
Green Hue : -12
Green Saturation : +64
Blue Hue : 0
Blue Saturation : 0
Fill Light : 70
Vibrance : +10
Highlight Recovery : 70
Clarity : +100
Defringe : 0
Hue Adjustment Red : 0
Hue Adjustment Orange : -26
Hue Adjustment Yellow : 0
Hue Adjustment Green : -5
Hue Adjustment Aqua : 0
Hue Adjustment Blue : 0
Hue Adjustment Purple : 0
Hue Adjustment Magenta : 0
Saturation Adjustment Red : 0
Saturation Adjustment Orange : -40
Saturation Adjustment Yellow : -64
Saturation Adjustment Green : 0
Saturation Adjustment Aqua : 0
Saturation Adjustment Blue : 0
Saturation Adjustment Purple : 0
Saturation Adjustment Magenta : 0
Luminance Adjustment Red : 0
Luminance Adjustment Orange : 0
Luminance Adjustment Yellow : 0
Luminance Adjustment Green : -100
Luminance Adjustment Aqua : 0
Luminance Adjustment Blue : 0
Luminance Adjustment Purple : +71
Luminance Adjustment Magenta : -26
Split Toning Shadow Hue : 0
Split Toning Shadow Saturation : 4
Split Toning Highlight Hue : 0
Split Toning Highlight Saturation : 5
Split Toning Balance : +36
Parametric Shadows : 0
Parametric Darks : 0
Parametric Lights : 0
Parametric Highlights : 0
Parametric Shadow Split : 25
Parametric Midtone Split : 50
Parametric Highlight Split : 75
Sharpen Radius : +1.0
Sharpen Detail : 25
Sharpen Edge Masking : 0
Post Crop Vignette Amount : 0
Convert To Grayscale : False
Tone Curve Name : Linear
Camera Profile : Embedded
Has Settings : True
Crop Top : 0
Crop Left : 0
Crop Bottom : 0.492673
Crop Right : 0.606853
Crop Angle : 0
Crop Width : 2091
Crop Height : 1358
Crop Unit : pixels
Has Crop : True
Already Applied : True
Flash Fired : False
Flash Return : No return detection
Flash Mode : Unknown
Flash Function : False
Flash Red Eye Mode : False
Tone Curve : 0, 0, 255, 255
Image Width : 300
Image Height : 195
Bits Per Sample : 8
Color Components : 3
Aperture : 8.0
Image Size : 300x195
Megapixels : 0.059
Scale Factor To 35 mm Equivalent : 1.5
Shutter Speed : 1/125
Create Date : 2011:04:29 09:30:58.50
Date/Time Original : 2011:04:29 09:30:58.50
Flash : No Flash
Circle Of Confusion : 0.020 mm
Depth Of Field : 1.37 m (17.14 - 18.51 m)
Field Of View : 5.1 deg
Focal Length : 270.0 mm (35 mm equivalent: 405.0 mm)
Hyperfocal Distance : 454.92 m
Light Value : 12.0
Lens ID : Sigma 70-300mm F4-5.6 APO DG Macro HSM