Uber Exif Photo
Make : NIKON CORPORATION
Camera Model Name : NIKON D90
Software : Ver.1.00
Modify Date : 2011:12:02 19:09:09
Exposure Time : 1/160
F Number : 8.0
Exposure Program : Aperture-priority AE
ISO : 400
Date/Time Original : 2011:10:13 14:05:57
Create Date : 2011:10:13 14:05:57
Shutter Speed Value : 1/160
Aperture Value : 8.0
Exposure Compensation : 0
Max Aperture Value : 4.0
Subject Distance : 4294967295 m
Metering Mode : Multi-segment
Light Source : Unknown
Focal Length : 28.0 mm
Sensing Method : One-chip color area
Scene Type : Directly photographed
CFA Pattern : [Green,Blue][Red,Green]
Custom Rendered : Normal
Exposure Mode : Auto
White Balance : Auto
Digital Zoom Ratio : 1
Focal Length In 35mm Format : 42 mm
Scene Capture Type : Standard
Gain Control : Low gain up
Contrast : Normal
Saturation : Normal
Sharpness : Normal
Subject Distance Range : Unknown
Profile Description : sRGB IEC61966-2.1
Date/Time Digitized : 2011:10:13 14:05:57.00+03:00
Exif Image Width : 1179
Exif Image Height : 700
Creator Tool : Adobe Photoshop Lightroom
Label : Green
Serial Number : 6571276
Lens Info : 18-105mm f/3.5-5.6
Lens : 18.0-105.0 mm f/3.5-5.6
Image Number : 4864
Version : 6.1
Process Version : 5.7
Color Temperature : 5550
Tint : +2
Exposure : 0.00
Shadows : 5
Brightness : +50
Luminance Smoothing : 40
Color Noise Reduction : 25
Chromatic Aberration R : 0
Chromatic Aberration B : 0
Vignette Amount : 0
Shadow Tint : 0
Red Hue : 0
Red Saturation : 0
Green Hue : 0
Green Saturation : 0
Blue Hue : 0
Blue Saturation : 0
Fill Light : 0
Vibrance : 0
Highlight Recovery : 0
Clarity : 0
Defringe : 0
Hue Adjustment Red : 0
Hue Adjustment Orange : 0
Hue Adjustment Yellow : +5
Hue Adjustment Green : +5
Hue Adjustment Aqua : 0
Hue Adjustment Blue : +5
Hue Adjustment Purple : 0
Hue Adjustment Magenta : 0
Saturation Adjustment Red : 0
Saturation Adjustment Orange : 0
Saturation Adjustment Yellow : 0
Saturation Adjustment Green : 0
Saturation Adjustment Aqua : 0
Saturation Adjustment Blue : 0
Saturation Adjustment Purple : 0
Saturation Adjustment Magenta : 0
Luminance Adjustment Red : 0
Luminance Adjustment Orange : 0
Luminance Adjustment Yellow : 0
Luminance Adjustment Green : 0
Luminance Adjustment Aqua : 0
Luminance Adjustment Blue : 0
Luminance Adjustment Purple : 0
Luminance Adjustment Magenta : 0
Split Toning Shadow Hue : 0
Split Toning Shadow Saturation : 0
Split Toning Highlight Hue : 0
Split Toning Highlight Saturation : 0
Split Toning Balance : 0
Parametric Shadows : 0
Parametric Darks : 0
Parametric Lights : 0
Parametric Highlights : 0
Parametric Shadow Split : 25
Parametric Midtone Split : 50
Parametric Highlight Split : 75
Sharpen Radius : +1.5
Sharpen Detail : 35
Sharpen Edge Masking : 0
Post Crop Vignette Amount : 0
Grain Amount : 0
Luminance Noise Reduction Detail : 50
Color Noise Reduction Detail : 50
Luminance Noise Reduction Contrast : 0
Lens Profile Enable : 0
Lens Manual Distortion Amount : 0
Perspective Vertical : 0
Perspective Horizontal : 0
Perspective Rotate : 0.0
Perspective Scale : 100
Convert To Grayscale : False
Tone Curve Name : Medium Contrast
Camera Profile : ACR 4.6
Lens Profile Setup : LensDefaults
Has Settings : True
Crop Top : 0
Crop Left : 0.052009
Crop Bottom : 0.847271
Crop Right : 1
Crop Angle : 0
Crop Constrain To Warp : 0
Crop Width : 1179
Crop Height : 700
Crop Unit : pixels
Has Crop : True
Already Applied : True
Flash Fired : False
Flash Return : No return detection
Flash Mode : Unknown
Flash Function : False
Flash Red Eye Mode : False
Tone Curve : 0, 0, 32, 22, 64, 56, 128, 128, 192, 196, 255, 255
Image Width : 300
Image Height : 178
Bits Per Sample : 8
Color Components : 3
Aperture : 8.0
Image Size : 300x178
Megapixels : 0.053
Scale Factor To 35 mm Equivalent : 1.5
Shutter Speed : 1/160
Create Date : 2011:10:13 14:05:57.00
Date/Time Original : 2011:10:13 14:05:57.00
Flash : No Flash
Circle Of Confusion : 0.020 mm
Depth Of Field : inf (4.89 m - inf)
Field Of View : 46.4 deg
Focal Length : 28.0 mm (35 mm equivalent: 42.0 mm)
Hyperfocal Distance : 4.89 m
Light Value : 11.3
Lens ID : AF-S DX VR Zoom-Nikkor 18-105mm f/3.5-5.6G ED