Uber Exif Photo
By-line : Gilles Sanchez
By-line Title : Nikon digital camera user
Copyright Notice : (C)2011 Gilles Sanchez, all rights reserved
Make : NIKON CORPORATION
Camera Model Name : NIKON D300S
Orientation : Horizontal (normal)
Software : Adobe Photoshop Elements 9.0 Windows
Modify Date : 2011:08:02 10:11:26
Artist : Gilles Sanchez
Copyright : (C)2011 Gilles Sanchez, all rights reserved
Exposure Time : 1/200
F Number : 9.0
Exposure Program : Aperture-priority AE
ISO : 100
Date/Time Original : 2011:07:29 06:48:40
Create Date : 2011:07:29 06:48:40
Shutter Speed Value : 1/200
Aperture Value : 9.0
Exposure Compensation : 0
Max Aperture Value : 4.9
Subject Distance : 4294967295 m
Metering Mode : Center-weighted average
Light Source : Fine Weather
Focal Length : 60.0 mm
User Comment : Gilles Sanchez
Color Space : sRGB
Exif Image Width : 4288
Exif Image Height : 2848
Sensing Method : One-chip color area
Scene Type : Directly photographed
CFA Pattern : [Red,Green][Green,Blue]
Custom Rendered : Normal
Exposure Mode : Auto
White Balance : Manual
Digital Zoom Ratio : 1
Focal Length In 35mm Format : 90 mm
Scene Capture Type : Standard
Gain Control : None
Contrast : Normal
Saturation : Normal
Sharpness : Normal
Subject Distance Range : Unknown
Serial Number : 6087821
Lens Info : 24-120mm f/3.5-5.6
Lens Model : 24.0-120.0 mm f/3.5-5.6
Profile Description : sRGB IEC61966-2.1
Format : image/jpeg
Authors Position : Nikon digital camera user
Date Created : 2011:07:29
Color Mode : RGB
ICC Profile Name : sRGB IEC61966-2.1
Rating Percent : 0
Creator Tool : Nikon Transfer 2.0 W
Rating : 0
Lens : 24.0-120.0 mm f/3.5-5.6
Image Number : 1370
Approximate Focus Distance : 4294967295
Raw File Name : _DSC1090.NEF
Version : 6.4.1
Process Version : 5.7
Color Temperature : 5000
Tint : +1
Exposure : +0.20
Shadows : 5
Brightness : +50
Luminance Smoothing : 0
Color Noise Reduction : 25
Chromatic Aberration R : 0
Chromatic Aberration B : 0
Vignette Amount : 0
Shadow Tint : 0
Red Hue : 0
Red Saturation : 0
Green Hue : 0
Green Saturation : 0
Blue Hue : 0
Blue Saturation : 0
Fill Light : 0
Vibrance : +13
Highlight Recovery : 0
Clarity : +38
Defringe : 0
Hue Adjustment Red : 0
Hue Adjustment Orange : 0
Hue Adjustment Yellow : 0
Hue Adjustment Green : 0
Hue Adjustment Aqua : 0
Hue Adjustment Blue : 0
Hue Adjustment Purple : 0
Hue Adjustment Magenta : 0
Saturation Adjustment Red : 0
Saturation Adjustment Orange : 0
Saturation Adjustment Yellow : 0
Saturation Adjustment Green : 0
Saturation Adjustment Aqua : 0
Saturation Adjustment Blue : 0
Saturation Adjustment Purple : 0
Saturation Adjustment Magenta : 0
Luminance Adjustment Red : 0
Luminance Adjustment Orange : 0
Luminance Adjustment Yellow : 0
Luminance Adjustment Green : 0
Luminance Adjustment Aqua : 0
Luminance Adjustment Blue : 0
Luminance Adjustment Purple : 0
Luminance Adjustment Magenta : 0
Split Toning Shadow Hue : 0
Split Toning Shadow Saturation : 0
Split Toning Highlight Hue : 0
Split Toning Highlight Saturation : 0
Split Toning Balance : 0
Parametric Shadows : 0
Parametric Darks : 0
Parametric Lights : 0
Parametric Highlights : 0
Parametric Shadow Split : 25
Parametric Midtone Split : 50
Parametric Highlight Split : 75
Sharpen Radius : +1.0
Sharpen Detail : 25
Sharpen Edge Masking : 0
Post Crop Vignette Amount : 0
Grain Amount : 0
Color Noise Reduction Detail : 50
Lens Profile Enable : 1
Lens Manual Distortion Amount : 0
Perspective Vertical : 0
Perspective Horizontal : 0
Perspective Rotate : 0.0
Perspective Scale : 100
Convert To Grayscale : False
Tone Curve Name : Medium Contrast
Camera Profile : Camera Standard
Lens Profile Setup : Custom
Lens Profile Name : Adobe (Nikon AF-S VR Zoom-NIKKOR 24-120mm f/3.5-5.6G IF-ED)
Lens Profile Filename : NIKON D3X (Nikon AF-S VR Zoom-NIKKOR 24-120mm f3.5-5.6G IF-ED) - RAW.lcp
Lens Profile Distortion Scale : 100
Lens Profile Chromatic Aberration Scale : 100
Lens Profile Vignetting Scale : 100
Has Settings : True
Has Crop : False
Already Applied : True
Date/Time Digitized : 2011:07:29 06:48:40+02:00
Creator : Gilles Sanchez
Rights : (C)2011 Gilles Sanchez, all rights reserved
Usage Terms : For consideration only, no reproduction without prior permission
Tone Curve : 0, 0, 32, 22, 64, 56, 128, 128, 192, 196, 255, 255
Flash Fired : False
Flash Return : No return detection
Flash Mode : Unknown
Flash Function : False
Flash Red Eye Mode : False
Image Width : 300
Image Height : 199
Bits Per Sample : 8
Color Components : 3
Aperture : 9.0
Image Size : 300x199
Megapixels : 0.060
Scale Factor To 35 mm Equivalent : 1.5
Shutter Speed : 1/200
Create Date : 2011:07:29 06:48:40.00
Date/Time Original : 2011:07:29 06:48:40.00
Modify Date : 2011:08:02 10:11:26.00
Flash : No Flash
Circle Of Confusion : 0.020 mm
Depth Of Field : inf (19.97 m - inf)
Field Of View : 22.6 deg
Focal Length : 60.0 mm (35 mm equivalent: 90.0 mm)
Hyperfocal Distance : 19.97 m
Light Value : 14.0
Lens ID : AF Zoom-Nikkor 24-120mm f/3.5-5.6D IF