Uber Exif Photo
By-line : Gilles Sanchez
By-line Title : Nikon digital camera user
Copyright Notice : (C)2011 Gilles Sanchez, all rights reserved
Make : NIKON CORPORATION
Camera Model Name : NIKON D80
Orientation : Horizontal (normal)
Software : Adobe Photoshop Elements 9.0 Windows
Modify Date : 2011:05:12 13:21:22
Artist : Gilles Sanchez
Copyright : (C)2011 Gilles Sanchez, all rights reserved
Exposure Time : 1/60
F Number : 11.0
Exposure Program : Aperture-priority AE
ISO : 100
Date/Time Original : 2011:05:03 14:59:39
Create Date : 2011:05:03 14:59:39
Shutter Speed Value : 1/60
Aperture Value : 11.0
Exposure Compensation : -1
Max Aperture Value : 3.9
Subject Distance : 2.66 m
Metering Mode : Multi-segment
Light Source : Unknown
Focal Length : 24.0 mm
User Comment : Gilles Sanchez
Color Space : sRGB
Exif Image Width : 3559
Exif Image Height : 2592
Sensing Method : One-chip color area
Scene Type : Directly photographed
CFA Pattern : [Green,Blue][Red,Green]
Custom Rendered : Normal
Exposure Mode : Auto
White Balance : Auto
Digital Zoom Ratio : 1
Focal Length In 35mm Format : 36 mm
Scene Capture Type : Standard
Gain Control : None
Contrast : Normal
Saturation : Normal
Sharpness : Normal
Subject Distance Range : Unknown
Lens Info : 18-200mm f/3.5-5.6
Lens Model : 18.0-200.0 mm f/3.5-5.6
Profile Description : sRGB IEC61966-2.1
Format : image/jpeg
Authors Position : Nikon digital camera user
Date Created : 2011:05:03
Color Mode : RGB
ICC Profile Name : sRGB IEC61966-2.1
Rating Percent : 0
Creator Tool : Adobe Photoshop CS5 Windows
Rating : 0
Lens : 18.0-200.0 mm f/3.5-5.6
Image Number : 20007
Approximate Focus Distance : 2.66
Raw File Name : DSC_1293.NEF
Version : 6.4
Process Version : 5.7
Color Temperature : 4950
Tint : -3
Exposure : 0.00
Shadows : 5
Brightness : +50
Luminance Smoothing : 0
Color Noise Reduction : 25
Chromatic Aberration R : 0
Chromatic Aberration B : 0
Vignette Amount : 0
Shadow Tint : 0
Red Hue : 0
Red Saturation : 0
Green Hue : 0
Green Saturation : 0
Blue Hue : 0
Blue Saturation : 0
Fill Light : 0
Vibrance : +28
Highlight Recovery : 23
Clarity : +30
Defringe : 0
Hue Adjustment Red : 0
Hue Adjustment Orange : 0
Hue Adjustment Yellow : 0
Hue Adjustment Green : 0
Hue Adjustment Aqua : 0
Hue Adjustment Blue : 0
Hue Adjustment Purple : 0
Hue Adjustment Magenta : 0
Saturation Adjustment Red : 0
Saturation Adjustment Orange : 0
Saturation Adjustment Yellow : 0
Saturation Adjustment Green : 0
Saturation Adjustment Aqua : 0
Saturation Adjustment Blue : 0
Saturation Adjustment Purple : 0
Saturation Adjustment Magenta : 0
Luminance Adjustment Red : 0
Luminance Adjustment Orange : 0
Luminance Adjustment Yellow : 0
Luminance Adjustment Green : 0
Luminance Adjustment Aqua : 0
Luminance Adjustment Blue : 0
Luminance Adjustment Purple : 0
Luminance Adjustment Magenta : 0
Split Toning Shadow Hue : 0
Split Toning Shadow Saturation : 0
Split Toning Highlight Hue : 0
Split Toning Highlight Saturation : 0
Split Toning Balance : 0
Parametric Shadows : 0
Parametric Darks : 0
Parametric Lights : 0
Parametric Highlights : 0
Parametric Shadow Split : 25
Parametric Midtone Split : 50
Parametric Highlight Split : 75
Sharpen Radius : +1.0
Sharpen Detail : 25
Sharpen Edge Masking : 0
Post Crop Vignette Amount : 0
Grain Amount : 0
Color Noise Reduction Detail : 50
Lens Profile Enable : 1
Lens Manual Distortion Amount : 0
Perspective Vertical : 0
Perspective Horizontal : 0
Perspective Rotate : 0.0
Perspective Scale : 100
Convert To Grayscale : False
Tone Curve Name : Medium Contrast
Camera Profile : Camera Landscape
Lens Profile Setup : LensDefaults
Lens Profile Name : Adobe (Nikon AF-S DX NIKKOR 18-200mm f/3.5-5.6G ED VR II)
Lens Profile Filename : NIKON D90 (Nikon AF-S DX NIKKOR 18-200mm f3.5-5.6G ED VR II) - RAW.lcp
Lens Profile Distortion Scale : 100
Lens Profile Chromatic Aberration Scale : 100
Lens Profile Vignetting Scale : 100
Has Settings : True
Crop Top : 0
Crop Left : 0
Crop Bottom : 1
Crop Right : 0.919265
Crop Angle : 0
Crop Constrain To Warp : 1
Has Crop : True
Already Applied : True
Date/Time Digitized : 2011:05:03 14:59:39+02:00
Creator : Gilles Sanchez
Rights : (C)2011 Gilles Sanchez, all rights reserved
Usage Terms : For consideration only, no reproduction without prior permission
Tone Curve : 0, 0, 32, 22, 64, 56, 128, 128, 192, 196, 255, 255
Flash Fired : False
Flash Return : No return detection
Flash Mode : Unknown
Flash Function : False
Flash Red Eye Mode : False
Image Width : 300
Image Height : 219
Bits Per Sample : 8
Color Components : 3
Aperture : 11.0
Image Size : 300x219
Megapixels : 0.066
Scale Factor To 35 mm Equivalent : 1.5
Shutter Speed : 1/60
Create Date : 2011:05:03 14:59:39.80
Date/Time Original : 2011:05:03 14:59:39.80
Modify Date : 2011:05:12 13:21:22.80
Flash : No Flash
Circle Of Confusion : 0.020 mm
Depth Of Field : inf (1.32 m - inf)
Field Of View : 53.1 deg
Focal Length : 24.0 mm (35 mm equivalent: 36.0 mm)
Hyperfocal Distance : 2.61 m
Light Value : 12.8
Lens ID : AF-S DX VR Zoom-Nikkor 18-200mm f/3.5-5.6G IF-ED [II] or AF-S DX VR Zoom-Nikkor 18-200mm f/3.5-5.6G IF-ED