Uber Exif Photo
By-line : Carey Moulton
Make : Canon
Camera Model Name : Canon EOS 40D
Orientation : Horizontal (normal)
Software : Adobe Photoshop CS5 Windows
Modify Date : 2011:07:10 16:13:29
Artist : Carey Moulton
Exposure Time : 1/10
Exposure Program : Aperture-priority AE
ISO : 800
Date/Time Original : 2010:04:30 19:53:09
Create Date : 2010:04:30 19:53:09
Shutter Speed Value : 1/10
Exposure Compensation : 0
Metering Mode : Center-weighted average
Flash : Off, Did not fire
Color Space : sRGB
Exif Image Width : 1365
Exif Image Height : 2048
Custom Rendered : Normal
Exposure Mode : Auto
White Balance : Auto
Scene Capture Type : Standard
Owner Name : Carey Moulton
Serial Number : 620202210
Profile Description : sRGB IEC61966-2.1
Rating : 0
Format : image/jpeg
Image Number : 0
Flash Compensation : 0
Firmware : 1.1.1
Date Created : 2010:04:30 19:53:09.002-04:00
Color Mode : RGB
ICC Profile Name : sRGB IEC61966-2.1
Raw File Name : _MG_6687.CR2
Version : 6.4.1
Process Version : 5.0
Color Temperature : 2700
Tint : +15
Exposure : 0.00
Shadows : 5
Brightness : +50
Contrast : +25
Saturation : 0
Sharpness : 25
Luminance Smoothing : 0
Color Noise Reduction : 25
Chromatic Aberration R : 0
Chromatic Aberration B : 0
Vignette Amount : 0
Shadow Tint : 0
Red Hue : 0
Red Saturation : 0
Green Hue : 0
Green Saturation : 0
Blue Hue : 0
Blue Saturation : 0
Fill Light : 14
Vibrance : 0
Highlight Recovery : 50
Clarity : 0
Defringe : 0
Hue Adjustment Red : 0
Hue Adjustment Orange : 0
Hue Adjustment Yellow : 0
Hue Adjustment Green : 0
Hue Adjustment Aqua : 0
Hue Adjustment Blue : 0
Hue Adjustment Purple : 0
Hue Adjustment Magenta : 0
Saturation Adjustment Red : 0
Saturation Adjustment Orange : 0
Saturation Adjustment Yellow : 0
Saturation Adjustment Green : 0
Saturation Adjustment Aqua : 0
Saturation Adjustment Blue : 0
Saturation Adjustment Purple : 0
Saturation Adjustment Magenta : 0
Luminance Adjustment Red : 0
Luminance Adjustment Orange : +48
Luminance Adjustment Yellow : +33
Luminance Adjustment Green : -64
Luminance Adjustment Aqua : +88
Luminance Adjustment Blue : -100
Luminance Adjustment Purple : 0
Luminance Adjustment Magenta : 0
Split Toning Shadow Hue : 0
Split Toning Shadow Saturation : 0
Split Toning Highlight Hue : 0
Split Toning Highlight Saturation : 0
Split Toning Balance : 0
Parametric Shadows : +58
Parametric Darks : -48
Parametric Lights : -23
Parametric Highlights : +44
Parametric Shadow Split : 25
Parametric Midtone Split : 50
Parametric Highlight Split : 75
Sharpen Radius : +1.0
Sharpen Detail : 25
Sharpen Edge Masking : 0
Post Crop Vignette Amount : 0
Grain Amount : 0
Lens Profile Enable : 0
Lens Manual Distortion Amount : 0
Perspective Vertical : 0
Perspective Horizontal : 0
Perspective Rotate : 0.0
Perspective Scale : 100
Convert To Grayscale : False
Tone Curve Name : Medium Contrast
Camera Profile : ACR 4.4
Lens Profile Setup : LensDefaults
Has Settings : True
Crop Top : 0
Crop Left : 0.009893
Crop Bottom : 1
Crop Right : 0.990107
Crop Angle : 0.530501
Crop Constrain To Warp : 1
Has Crop : True
Already Applied : True
Creator : Carey Moulton
Tone Curve : 0, 0, 32, 22, 64, 56, 128, 128, 192, 196, 255, 255
Image Width : 200
Image Height : 300
Bits Per Sample : 8
Color Components : 3
Image Size : 200x300
Megapixels : 0.060
Scale Factor To 35 mm Equivalent : 1.6
Shutter Speed : 1/10
Create Date : 2010:04:30 19:53:09.02
Date/Time Original : 2010:04:30 19:53:09.02
Modify Date : 2011:07:10 16:13:29.02
Circle Of Confusion : 0.019 mm