Uber Exif Photo
Make : NIKON CORPORATION
Camera Model Name : NIKON D200
Software : Ver.1.00
Modify Date : 2011:05:21 02:39:37
Exposure Time : 1/250
F Number : 8.0
Exposure Program : Program AE
ISO : 320
Date/Time Original : 2007:09:07 17:30:38
Create Date : 2007:09:07 17:30:38
Shutter Speed Value : 1/250
Aperture Value : 8.0
Exposure Compensation : 0
Max Aperture Value : 4.4
Subject Distance : 1.68 m
Metering Mode : Spot
Light Source : Unknown
Focal Length : 46.0 mm
Sensing Method : One-chip color area
Scene Type : Directly photographed
CFA Pattern : [Green,Red][Blue,Green]
Custom Rendered : Normal
Exposure Mode : Auto
White Balance : Auto
Digital Zoom Ratio : 1
Focal Length In 35mm Format : 69 mm
Scene Capture Type : Standard
Gain Control : None
Contrast : Normal
Saturation : Normal
Sharpness : Normal
Subject Distance Range : Unknown
Date/Time Digitized : 2007:09:07 17:30:38.65-03:00
Exif Image Width : 3872
Exif Image Height : 1906
Creator Tool : Adobe Photoshop Lightroom
Lens Info : 18-70mm f/3.5-4.5
Lens : 18.0-70.0 mm f/3.5-4.5
Image Number : 11361
Version : 6.1
Process Version : 5.7
Incremental Temperature : +59
Incremental Tint : 0
Exposure : +0.82
Shadows : 30
Brightness : +36
Luminance Smoothing : 45
Color Noise Reduction : 0
Chromatic Aberration R : 0
Chromatic Aberration B : 0
Vignette Amount : -86
Vignette Midpoint : 0
Shadow Tint : 0
Red Hue : 0
Red Saturation : 0
Green Hue : 0
Green Saturation : 0
Blue Hue : 0
Blue Saturation : 0
Fill Light : 35
Highlight Recovery : 82
Clarity : 0
Defringe : 0
Gray Mixer Red : -10
Gray Mixer Orange : -19
Gray Mixer Yellow : -22
Gray Mixer Green : -26
Gray Mixer Aqua : -17
Gray Mixer Blue : +9
Gray Mixer Purple : +14
Gray Mixer Magenta : +3
Split Toning Shadow Hue : 0
Split Toning Shadow Saturation : 0
Split Toning Highlight Hue : 0
Split Toning Highlight Saturation : 0
Split Toning Balance : 0
Parametric Shadows : -63
Parametric Darks : +22
Parametric Lights : -100
Parametric Highlights : +100
Parametric Shadow Split : 25
Parametric Midtone Split : 50
Parametric Highlight Split : 75
Sharpen Radius : +0.5
Sharpen Detail : 0
Sharpen Edge Masking : 58
Post Crop Vignette Amount : 0
Grain Amount : 0
Luminance Noise Reduction Detail : 50
Luminance Noise Reduction Contrast : 0
Lens Profile Enable : 0
Lens Manual Distortion Amount : -81
Perspective Vertical : -1
Perspective Horizontal : 0
Perspective Rotate : -0.1
Perspective Scale : 150
Convert To Grayscale : True
Tone Curve Name : Linear
Camera Profile : Embedded
Lens Profile Setup : LensDefaults
Has Settings : True
Crop Top : 0
Crop Left : 0
Crop Bottom : 0.735294
Crop Right : 1
Crop Angle : 0
Crop Constrain To Warp : 1
Crop Width : 3872
Crop Height : 1906
Crop Unit : pixels
Has Crop : True
Already Applied : True
Flash Fired : False
Flash Return : No return detection
Flash Mode : Unknown
Flash Function : False
Flash Red Eye Mode : False
Tone Curve : 0, 0, 255, 255
Paint Correction What : Correction
Paint Correction Amount : 1.000000
Paint Correction Active : true
Paint Correction Exposure : -0.105000
Paint Correction Saturation : 0.000000
Paint Correction Contrast : 0.000000
Paint Correction Clarity : 0.000000
Paint Correction Sharpness : 0.000000
Paint Correction Brightness : 0.000000
Paint Correction Toning Hue : 240.000000
Paint Correction Toning Saturation : 0.000000
Paint Correction Mask What : Mask/Paint
Paint Correction Mask Value : 0.888000
Paint Correction Mask Radius : 0.087950
Paint Correction Mask Flow : 0.565000
Paint Correction Mask Center Weight : 0.051900
Image Width : 300
Image Height : 148
Bits Per Sample : 8
Color Components : 1
Aperture : 8.0
Image Size : 300x148
Megapixels : 0.044
Scale Factor To 35 mm Equivalent : 1.5
Shutter Speed : 1/250
Create Date : 2007:09:07 17:30:38.65
Date/Time Original : 2007:09:07 17:30:38.65
Flash : No Flash
Circle Of Confusion : 0.020 mm
Depth Of Field : 0.42 m (1.50 - 1.92 m)
Field Of View : 29.2 deg
Focal Length : 46.0 mm (35 mm equivalent: 69.0 mm)
Hyperfocal Distance : 13.20 m
Light Value : 12.3
Lens ID : AF-S DX Zoom-Nikkor 18-70mm f/3.5-4.5G IF-ED