Uber Exif Photo
Copyright Notice : Mofeed's Photo
Make : NIKON CORPORATION
Camera Model Name : NIKON D90
Software : Ver.1.00
Modify Date : 2011:03:06 01:18:25
Copyright : Mofeed's Photo
Exposure Time : 1/125
F Number : 11.0
Exposure Program : Manual
ISO : 250
Date/Time Original : 2011:03:01 15:50:03
Create Date : 2011:03:01 15:50:03
Shutter Speed Value : 1/125
Aperture Value : 11.0
Exposure Compensation : 0
Max Aperture Value : 2.9
Subject Distance : 1.12 m
Metering Mode : Multi-segment
Light Source : Unknown
Focal Length : 105.0 mm
Sensing Method : One-chip color area
Scene Type : Directly photographed
CFA Pattern : [Green,Blue][Red,Green]
Custom Rendered : Normal
Exposure Mode : Manual
White Balance : Auto
Digital Zoom Ratio : 1
Focal Length In 35mm Format : 157 mm
Scene Capture Type : Standard
Gain Control : None
Contrast : Normal
Saturation : Normal
Sharpness : Hard
Subject Distance Range : Unknown
Profile Description : sRGB IEC61966-2.1
Date/Time Digitized : 2011:03:01 15:50:03.00+03:00
Exif Image Width : 2939
Exif Image Height : 2099
Creator Tool : Adobe Photoshop Lightroom
Serial Number : 8271991
Lens Info : 105mm f/2.8
Lens : 105.0 mm f/2.8
Image Number : 11761
Version : 6.1
Process Version : 5.7
Color Temperature : 4150
Tint : +3
Exposure : +0.97
Shadows : 6
Brightness : +33
Luminance Smoothing : 0
Color Noise Reduction : 33
Chromatic Aberration R : 0
Chromatic Aberration B : 0
Vignette Amount : +45
Vignette Midpoint : 100
Shadow Tint : 0
Red Hue : 0
Red Saturation : 0
Green Hue : 0
Green Saturation : 0
Blue Hue : 0
Blue Saturation : 0
Fill Light : 41
Vibrance : +45
Highlight Recovery : 0
Clarity : +43
Defringe : 0
Hue Adjustment Red : 0
Hue Adjustment Orange : 0
Hue Adjustment Yellow : 0
Hue Adjustment Green : 0
Hue Adjustment Aqua : 0
Hue Adjustment Blue : 0
Hue Adjustment Purple : 0
Hue Adjustment Magenta : 0
Saturation Adjustment Red : -17
Saturation Adjustment Orange : 0
Saturation Adjustment Yellow : -1
Saturation Adjustment Green : -1
Saturation Adjustment Aqua : 0
Saturation Adjustment Blue : 0
Saturation Adjustment Purple : 0
Saturation Adjustment Magenta : -3
Luminance Adjustment Red : +68
Luminance Adjustment Orange : +52
Luminance Adjustment Yellow : +44
Luminance Adjustment Green : +69
Luminance Adjustment Aqua : 0
Luminance Adjustment Blue : 0
Luminance Adjustment Purple : 0
Luminance Adjustment Magenta : 0
Split Toning Shadow Hue : 0
Split Toning Shadow Saturation : 0
Split Toning Highlight Hue : 182
Split Toning Highlight Saturation : 0
Split Toning Balance : 0
Parametric Shadows : -26
Parametric Darks : -35
Parametric Lights : +20
Parametric Highlights : +75
Parametric Shadow Split : 25
Parametric Midtone Split : 50
Parametric Highlight Split : 75
Sharpen Radius : +1.0
Sharpen Detail : 25
Sharpen Edge Masking : 5
Post Crop Vignette Amount : -31
Post Crop Vignette Midpoint : 50
Post Crop Vignette Feather : 50
Post Crop Vignette Roundness : 0
Post Crop Vignette Style : Paint Overlay
Grain Amount : 0
Color Noise Reduction Detail : 31
Lens Profile Enable : 0
Lens Manual Distortion Amount : -13
Perspective Vertical : 0
Perspective Horizontal : 0
Perspective Rotate : +4.3
Perspective Scale : 100
Convert To Grayscale : False
Tone Curve Name : Medium Contrast
Camera Profile : ACR 4.6
Lens Profile Setup : LensDefaults
Has Settings : True
Crop Top : 0.20481
Crop Left : 0.115417
Crop Bottom : 0.94199
Crop Right : 0.800884
Crop Angle : 0
Crop Constrain To Warp : 0
Crop Width : 2939
Crop Height : 2099
Crop Unit : pixels
Has Crop : True
Already Applied : True
Flash Fired : False
Flash Return : No return detection
Flash Mode : Unknown
Flash Function : False
Flash Red Eye Mode : False
Rights : Mofeed's Photo
Tone Curve : 0, 0, 32, 22, 64, 56, 128, 128, 192, 196, 255, 255
Image Width : 300
Image Height : 214
Bits Per Sample : 8
Color Components : 3
Aperture : 11.0
Image Size : 300x214
Megapixels : 0.064
Scale Factor To 35 mm Equivalent : 1.5
Shutter Speed : 1/125
Create Date : 2011:03:01 15:50:03.00
Date/Time Original : 2011:03:01 15:50:03.00
Flash : No Flash
Circle Of Confusion : 0.020 mm
Depth Of Field : 0.05 m (1.10 - 1.14 m)
Field Of View : 13.1 deg
Focal Length : 105.0 mm (35 mm equivalent: 157.0 mm)
Hyperfocal Distance : 49.88 m
Light Value : 12.6
Lens ID : AF-S VR Micro-Nikkor 105mm f/2.8G IF-ED