Uber Exif Photo
Make : NIKON CORPORATION
Camera Model Name : NIKON D90
Software : Adobe Photoshop Lightroom 4.4 (Macintosh)
Modify Date : 2013:04:15 19:48:14
Exposure Time : 1/3200
F Number : 5.6
Exposure Program : Manual
ISO : 500
Date/Time Original : 2013:04:15 13:03:13
Create Date : 2013:04:15 13:03:13
Shutter Speed Value : 1/3200
Aperture Value : 5.6
Exposure Compensation : 0
Max Aperture Value : 5.7
Metering Mode : Multi-segment
Light Source : Unknown
Flash : No Flash
Focal Length : 700.0 mm
Sensing Method : One-chip color area
Scene Type : Directly photographed
CFA Pattern : [Green,Blue][Red,Green]
Custom Rendered : Normal
Exposure Mode : Manual
White Balance : Auto
Digital Zoom Ratio : 1
Focal Length In 35mm Format : 1050 mm
Scene Capture Type : Standard
Gain Control : Low gain up
Contrast : Normal
Saturation : High
Sharpness : Hard
Subject Distance Range : Unknown
Serial Number : 5074305
Lens Info : 500mm f/4
Lens Model : 500.0 mm f/4.0
Profile Description : sRGB IEC61966-2.1
Creator Tool : Adobe Photoshop Lightroom 4.4 (Macintosh)
Lens : 500.0 mm f/4.0
Image Number : 15445
Approximate Focus Distance : 11.9
Date Created : 2013:04:15 13:03:13.00
Format : image/jpeg
Version : 7.4
Process Version : 6.7
Incremental Temperature : 0
Incremental Tint : 0
Luminance Smoothing : 47
Color Noise Reduction : 58
Vignette Amount : 0
Shadow Tint : 0
Red Hue : 0
Red Saturation : 0
Green Hue : 0
Green Saturation : 0
Blue Hue : 0
Blue Saturation : 0
Vibrance : +27
Hue Adjustment Red : 0
Hue Adjustment Orange : 0
Hue Adjustment Yellow : 0
Hue Adjustment Green : 0
Hue Adjustment Aqua : 0
Hue Adjustment Blue : 0
Hue Adjustment Purple : 0
Hue Adjustment Magenta : 0
Saturation Adjustment Red : 0
Saturation Adjustment Orange : 0
Saturation Adjustment Yellow : 0
Saturation Adjustment Green : 0
Saturation Adjustment Aqua : 0
Saturation Adjustment Blue : 0
Saturation Adjustment Purple : 0
Saturation Adjustment Magenta : 0
Luminance Adjustment Red : 0
Luminance Adjustment Orange : 0
Luminance Adjustment Yellow : 0
Luminance Adjustment Green : 0
Luminance Adjustment Aqua : 0
Luminance Adjustment Blue : 0
Luminance Adjustment Purple : 0
Luminance Adjustment Magenta : 0
Split Toning Shadow Hue : 0
Split Toning Shadow Saturation : 0
Split Toning Highlight Hue : 0
Split Toning Highlight Saturation : 0
Split Toning Balance : 0
Parametric Shadows : 0
Parametric Darks : 0
Parametric Lights : 0
Parametric Highlights : 0
Parametric Shadow Split : 25
Parametric Midtone Split : 50
Parametric Highlight Split : 75
Sharpen Radius : +1.8
Sharpen Detail : 61
Sharpen Edge Masking : 54
Post Crop Vignette Amount : 0
Grain Amount : 0
Luminance Noise Reduction Detail : 50
Color Noise Reduction Detail : 50
Luminance Noise Reduction Contrast : 39
Lens Profile Enable : 0
Lens Manual Distortion Amount : 0
Perspective Vertical : 0
Perspective Horizontal : 0
Perspective Rotate : 0.0
Perspective Scale : 100
Auto Lateral CA : 0
Exposure 2012 : 0.00
Contrast 2012 : +22
Highlights 2012 : -7
Shadows 2012 : +60
Whites 2012 : -20
Blacks 2012 : -24
Clarity 2012 : +33
Defringe Purple Amount : 0
Defringe Purple Hue Lo : 30
Defringe Purple Hue Hi : 70
Defringe Green Amount : 0
Defringe Green Hue Lo : 40
Defringe Green Hue Hi : 60
Convert To Grayscale : False
Tone Curve Name 2012 : Linear
Camera Profile : Embedded
Lens Profile Setup : LensDefaults
Has Settings : True
Crop Top : 0.058431
Crop Left : 0.276054
Crop Bottom : 0.934892
Crop Right : 0.781597
Crop Angle : 0
Crop Constrain To Warp : 0
Crop Width : 2168
Crop Height : 2496
Crop Unit : pixels
Has Crop : True
Already Applied : True
Tone Curve PV2012 : 0, 0, 255, 255
Tone Curve PV2012 Red : 0, 0, 255, 255
Tone Curve PV2012 Green : 0, 0, 255, 255
Tone Curve PV2012 Blue : 0, 0, 255, 255
Image Width : 261
Image Height : 300
Bits Per Sample : 8
Color Components : 3
Aperture : 5.6
Image Size : 261x300
Megapixels : 0.078
Scale Factor To 35 mm Equivalent : 1.5
Shutter Speed : 1/3200
Create Date : 2013:04:15 13:03:13.00
Date/Time Original : 2013:04:15 13:03:13.00
Circle Of Confusion : 0.020 mm
Depth Of Field : 0.06 m (11.87 - 11.93 m)
Field Of View : 2.0 deg
Focal Length : 700.0 mm (35 mm equivalent: 1050.0 mm)
Hyperfocal Distance : 4368.26 m
Light Value : 14.3
Lens ID : AF-S Nikkor 500mm f/4D IF-ED II