Uber Exif Photo
Keywords : antennae, Bee, butterfly, crane, Insects, Invertebrate, lepidoptera, papilio rutulus, swallowtail, Western Tiger Swallowtail, winged
By-line : Jeffrey Banke
By-line Title : Photographer
Copyright Notice : Copyright © 2012 Jeff Banke All rights reserved
Caption-Abstract : Western Tiger Swallowtail
Copyright Flag : True
Image Description : Western Tiger Swallowtail
Make : NIKON CORPORATION
Camera Model Name : NIKON D70s
Orientation : Horizontal (normal)
Software : Adobe Photoshop CS5 Windows
Modify Date : 2014:05:06 17:00:52
Artist : Jeffrey Banke
Copyright : Copyright © 2012 Jeff Banke All rights reserved
Exposure Time : 1/500
F Number : 8.0
Exposure Program : Manual
ISO : 200
Date/Time Original : 2012:05:24 10:12:59
Create Date : 2012:05:24 10:12:59
Shutter Speed Value : 1/500
Aperture Value : 8.0
Exposure Compensation : +4
Max Aperture Value : 4.0
Subject Distance : 0.03 m
Metering Mode : Spot
Light Source : Flash
Flash : No Flash
Focal Length : 300.0 mm
User Comment : (C) 2007 JEFF BANKE
Color Space : sRGB
Exif Image Width : 2013
Exif Image Height : 2000
Sensing Method : One-chip color area
Scene Type : Directly photographed
CFA Pattern : [Blue,Green][Green,Red]
Custom Rendered : Normal
Exposure Mode : Manual
White Balance : Manual
Digital Zoom Ratio : 1
Focal Length In 35mm Format : 450 mm
Scene Capture Type : Standard
Gain Control : None
Contrast : Normal
Saturation : Normal
Sharpness : Normal
Subject Distance Range : Unknown
Serial Number : 1004ed50
Lens Info : 300mm f/4
Lens Model : 300.0 mm f/4.0
Profile Description : sRGB IEC61966-2.1
Creator Tool : Adobe Photoshop CS5 Windows
Rating : 5
Label : Review
Lens : 300.0 mm f/4.0
Image Number : 27784
Approximate Focus Distance : 0.03
Date Created : 2012:05:24 10:12:59.009-07:00
Authors Position : Photographer
Preserved File Name : 20120524_0597.NEF
Format : image/jpeg
Marked : True
Raw File Name : 24052012-hawk, aircraft, butterfly-D70s-0597.NEF
Version : 6.7
Process Version : 5.7
Color Temperature : 5650
Tint : 0
Exposure : +0.05
Shadows : 0
Brightness : +50
Luminance Smoothing : 0
Color Noise Reduction : 25
Vignette Amount : 0
Shadow Tint : 0
Red Hue : 0
Red Saturation : 0
Green Hue : 0
Green Saturation : 0
Blue Hue : 0
Blue Saturation : 0
Fill Light : 11
Vibrance : +32
Highlight Recovery : 18
Clarity : 0
Defringe : 0
Hue Adjustment Red : 0
Hue Adjustment Orange : 0
Hue Adjustment Yellow : 0
Hue Adjustment Green : 0
Hue Adjustment Aqua : 0
Hue Adjustment Blue : 0
Hue Adjustment Purple : 0
Hue Adjustment Magenta : 0
Saturation Adjustment Red : 0
Saturation Adjustment Orange : 0
Saturation Adjustment Yellow : 0
Saturation Adjustment Green : 0
Saturation Adjustment Aqua : 0
Saturation Adjustment Blue : 0
Saturation Adjustment Purple : 0
Saturation Adjustment Magenta : 0
Luminance Adjustment Red : 0
Luminance Adjustment Orange : 0
Luminance Adjustment Yellow : 0
Luminance Adjustment Green : 0
Luminance Adjustment Aqua : 0
Luminance Adjustment Blue : 0
Luminance Adjustment Purple : 0
Luminance Adjustment Magenta : 0
Split Toning Shadow Hue : 0
Split Toning Shadow Saturation : 0
Split Toning Highlight Hue : 0
Split Toning Highlight Saturation : 0
Split Toning Balance : 0
Parametric Shadows : 0
Parametric Darks : 0
Parametric Lights : 0
Parametric Highlights : 0
Parametric Shadow Split : 25
Parametric Midtone Split : 50
Parametric Highlight Split : 75
Sharpen Radius : +1.0
Sharpen Detail : 25
Sharpen Edge Masking : 0
Post Crop Vignette Amount : 0
Grain Amount : 0
Color Noise Reduction Detail : 50
Lens Profile Enable : 1
Lens Manual Distortion Amount : 0
Perspective Vertical : 0
Perspective Horizontal : 0
Perspective Rotate : 0.0
Perspective Scale : 100
Auto Lateral CA : 1
Exposure 2012 : 0.00
Contrast 2012 : 0
Highlights 2012 : 0
Shadows 2012 : 0
Whites 2012 : 0
Blacks 2012 : 0
Clarity 2012 : 0
Convert To Grayscale : False
Tone Curve Name : Medium Contrast
Tone Curve Name 2012 : Linear
Camera Profile : Camera Neutral
Lens Profile Setup : Custom
Lens Profile Name : Adobe (Nikon AF-S NIKKOR 300mm f/4D IF-ED)
Lens Profile Filename : NIKON D3X (Nikon AF-S NIKKOR 300mm f4D IF-ED) - RAW.lcp
Lens Profile Distortion Scale : 100
Lens Profile Chromatic Aberration Scale : 100
Lens Profile Vignetting Scale : 100
Has Settings : True
Has Crop : False
Already Applied : True
Creator : Jeffrey Banke
Rights : Copyright © 2012 Jeff Banke All rights reserved
Subject : antennae, Bee, butterfly, crane, Insects, Invertebrate, lepidoptera, papilio rutulus, swallowtail, Western Tiger Swallowtail, winged
Description : Western Tiger Swallowtail
Tone Curve : 0, 0, 32, 22, 64, 56, 128, 128, 192, 196, 255, 255
Tone Curve Red : 0, 0, 255, 255
Tone Curve Green : 0, 0, 255, 255
Tone Curve Blue : 0, 0, 255, 255
Tone Curve PV2012 : 0, 0, 255, 255
Tone Curve PV2012 Red : 0, 0, 255, 255
Tone Curve PV2012 Green : 0, 0, 255, 255
Tone Curve PV2012 Blue : 0, 0, 255, 255
Creator Address : 3499 La Mesa Drive
Creator City : Hayward
Creator Region : California
Creator Postal Code : 94542
Creator Country : USA
Creator Work Telephone : 510-501-4502 cell, 510-581-0349 office
Creator Work Email : j.banke@comcast.net
Creator Work URL : WWW.xlr8photo.com
Hierarchical Subject : Invertebrate, Invertebrate|Insects, Invertebrate|Insects|antennae, Invertebrate|Insects|Bee, Invertebrate|Insects|butterfly, Invertebrate|Insects|butterfly|Western Tiger Swallowtail|papilio rutulus, Invertebrate|Insects|butterfly|Western Tiger Swallowtail, Invertebrate|Insects|winged, Invertebrate|Insects|lepidoptera, Transportation|crane, Invertebrate|Insects|butterfly|swallowtail
Image Width : 300
Image Height : 298
Bits Per Sample : 8
Color Components : 3
Aperture : 8.0
Image Size : 300x298
Megapixels : 0.089
Scale Factor To 35 mm Equivalent : 1.5
Shutter Speed : 1/500
Create Date : 2012:05:24 10:12:59.9
Date/Time Original : 2012:05:24 10:12:59.9
Circle Of Confusion : 0.020 mm
Depth Of Field : -0.00 m (0.03 - 0.03 m)
Field Of View : 4.6 deg
Focal Length : 300.0 mm (35 mm equivalent: 450.0 mm)
Hyperfocal Distance : 561.63 m
Light Value : 14.0
Lens ID : AF Nikkor 300mm f/4 IF-ED