Uber Exif Photo
Object Name : Angel Island & Golden Gate Bridge
Keywords : afternoon, automobile, bridge, California, clouds, fogbank, Golden Gate Bridge, hilltop, landscape, panorama, picturesque, puffy, San Francisco, summer, sunny, Transportation
By-line : Jeffrey Banke
By-line Title : Photographer
Copyright Notice : Copyright © 2008 Jeff Banke all rights reserved
Caption-Abstract : Angel Island & Golden Gate Bridge
Copyright Flag : True
Image Description : Angel Island & Golden Gate Bridge
Make : NIKON CORPORATION
Camera Model Name : NIKON D100
Orientation : Horizontal (normal)
Software : Adobe Photoshop CS5 Windows
Modify Date : 2012:04:10 11:20:22
Artist : Jeffrey Banke
Copyright : Copyright © 2008 Jeff Banke all rights reserved
Exposure Time : 1/200
F Number : 11.0
Exposure Program : Manual
ISO : 200
Date/Time Original : 2008:08:28 14:10:22
Create Date : 2008:08:28 14:10:22
Shutter Speed Value : 1/200
Aperture Value : 11.0
Exposure Compensation : 0
Max Aperture Value : 3.9
Metering Mode : Spot
Light Source : Flash
Flash : No Flash
Focal Length : 29.0 mm
User Comment : (C) 2007 JEFF BANKE
Color Space : sRGB
Exif Image Width : 2943
Exif Image Height : 1655
Sensing Method : One-chip color area
Scene Type : Directly photographed
CFA Pattern : [Green,Red][Blue,Green]
Custom Rendered : Normal
Exposure Mode : Manual
White Balance : Manual
Digital Zoom Ratio : 1
Focal Length In 35mm Format : 43 mm
Scene Capture Type : Standard
Gain Control : None
Contrast : Normal
Saturation : Normal
Sharpness : Soft
Subject Distance Range : Unknown
Lens Info : 18-70mm f/3.5-4.5
Lens Model : 18.0-70.0 mm f/3.5-4.5
Profile Description : sRGB IEC61966-2.1
Creator Tool : Adobe Photoshop CS5 Windows
Rating : 5
Label : Review
Lens : 18.0-70.0 mm f/3.5-4.5
Authors Position : Photographer
Headline : Angel Island & Golden Gate Bridge
Date Created : 2008:08:28 14:10:22.006-07:00
Preserved File Name : 28082008-D100-Angel Islandn -039JBB.NEF
Format : image/jpeg
Raw File Name : 28082008-D100-Angel Island & GGB -039JBB.NEF
Version : 6.6
Process Version : 5.7
Color Temperature : 5600
Tint : -1
Exposure : 0.00
Shadows : 8
Brightness : +51
Luminance Smoothing : 0
Color Noise Reduction : 25
Chromatic Aberration R : 0
Chromatic Aberration B : 0
Vignette Amount : 0
Shadow Tint : 0
Red Hue : 0
Red Saturation : 0
Green Hue : 0
Green Saturation : 0
Blue Hue : 0
Blue Saturation : 0
Fill Light : 23
Vibrance : +38
Highlight Recovery : 0
Clarity : 0
Defringe : 0
Hue Adjustment Red : 0
Hue Adjustment Orange : 0
Hue Adjustment Yellow : 0
Hue Adjustment Green : 0
Hue Adjustment Aqua : 0
Hue Adjustment Blue : 0
Hue Adjustment Purple : 0
Hue Adjustment Magenta : 0
Saturation Adjustment Red : 0
Saturation Adjustment Orange : 0
Saturation Adjustment Yellow : 0
Saturation Adjustment Green : 0
Saturation Adjustment Aqua : 0
Saturation Adjustment Blue : 0
Saturation Adjustment Purple : 0
Saturation Adjustment Magenta : 0
Luminance Adjustment Red : 0
Luminance Adjustment Orange : 0
Luminance Adjustment Yellow : 0
Luminance Adjustment Green : 0
Luminance Adjustment Aqua : 0
Luminance Adjustment Blue : 0
Luminance Adjustment Purple : 0
Luminance Adjustment Magenta : 0
Split Toning Shadow Hue : 0
Split Toning Shadow Saturation : 0
Split Toning Highlight Hue : 0
Split Toning Highlight Saturation : 0
Split Toning Balance : 0
Parametric Shadows : 0
Parametric Darks : 0
Parametric Lights : 0
Parametric Highlights : 0
Parametric Shadow Split : 25
Parametric Midtone Split : 50
Parametric Highlight Split : 75
Sharpen Radius : +1.0
Sharpen Detail : 25
Sharpen Edge Masking : 0
Post Crop Vignette Amount : 0
Grain Amount : 0
Color Noise Reduction Detail : 50
Lens Profile Enable : 0
Lens Manual Distortion Amount : 0
Perspective Vertical : 0
Perspective Horizontal : 0
Perspective Rotate : 0.0
Perspective Scale : 100
Convert To Grayscale : False
Tone Curve Name : Medium Contrast
Camera Profile : Camera Landscape
Lens Profile Setup : LensDefaults
Has Settings : True
Crop Top : 0.116423
Crop Left : 0
Crop Bottom : 0.883577
Crop Right : 1
Crop Angle : -2.332704
Crop Constrain To Warp : 1
Crop Width : 9
Crop Height : 16
Crop Unit : Unknown (3)
Has Crop : True
Already Applied : True
Marked : True
Creator : Jeffrey Banke
Title : Angel Island & Golden Gate Bridge
Rights : Copyright © 2008 Jeff Banke all rights reserved
Subject : afternoon, automobile, bridge, California, clouds, fogbank, Golden Gate Bridge, hilltop, landscape, panorama, picturesque, puffy, San Francisco, summer, sunny, Transportation
Description : Angel Island & Golden Gate Bridge
Tone Curve : 0, 0, 32, 22, 64, 56, 128, 128, 192, 196, 255, 255
Creator Address : 3499 La Mesa Drive
Creator City : Hayward
Creator Region : California
Creator Postal Code : 94542
Creator Country : USA
Creator Work Telephone : 510-581-0349 office, 510-501-4502 cell
Creator Work Email : j.banke@comcast.net
Creator Work URL : www.xlr8photo.com
Hierarchical Subject : States|California, weather|puffy, weather|clouds, weather|sunny, Transportation, Transportation|automobile, Transportation|bridge, Seasons and time|afternoon, Seasons and time|summer, scenic description|fogbank, scenic description|hilltop, scenic description|landscape, scenic description|panorama, scenic description|picturesque, Cities, towns and villages|Californian cities|"San Francisco", Buildings, type|bridge, Landmarks & Monuments|Golden Gate Bridge
Image Width : 300
Image Height : 169
Bits Per Sample : 8
Color Components : 3
Aperture : 11.0
Image Size : 300x169
Megapixels : 0.051
Scale Factor To 35 mm Equivalent : 1.5
Shutter Speed : 1/200
Create Date : 2008:08:28 14:10:22.6
Date/Time Original : 2008:08:28 14:10:22.6
Circle Of Confusion : 0.020 mm
Field Of View : 45.4 deg
Focal Length : 29.0 mm (35 mm equivalent: 43.0 mm)
Hyperfocal Distance : 3.77 m
Light Value : 13.6
Lens ID : 18.0-70.0mm f/3.5-4.5