Uber Exif Photo
Caption-Abstract : American Black bear in Yosemite National Park.
By-line : Jeff Banke
By-line Title : Photographer
Keywords : americanus, bear, black, brown, Carnivora, Carnivore, cinnnamon, feeding, Food, Forest, green, indigenous, mammal, mammalia, Omnivore, Park, searching, tree, Ursidae, Ursus, USA, Walking, wild, Yosemite
Copyright Notice : Copyright (C) Jeff Banke 2009 All Rights reserved
Image Description : American Black bear in Yosemite National Park.
Make : NIKON CORPORATION
Camera Model Name : NIKON D300
Orientation : Horizontal (normal)
Software : Adobe Photoshop CS4 Windows
Modify Date : 2010:09:14 09:33:55
Artist : Jeff Banke
Copyright : Copyright (C) Jeff Banke 2009 All Rights reserved
Exposure Time : 1/250
F Number : 6.3
Exposure Program : Manual
ISO : 200
Date/Time Original : 2009:05:28 02:24:45
Create Date : 2009:05:28 02:24:45
Shutter Speed Value : 1/250
Aperture Value : 6.3
Exposure Compensation : 0
Max Aperture Value : 5.7
Metering Mode : Spot
Light Source : Fine Weather
Focal Length : 400.0 mm
Color Space : Uncalibrated
Exif Image Width : 3715
Exif Image Height : 2500
Sensing Method : One-chip color area
Scene Type : Directly photographed
CFA Pattern : [Red,Green][Green,Blue]
Custom Rendered : Normal
Exposure Mode : Manual
White Balance : Manual
Digital Zoom Ratio : 1
Focal Length In 35mm Format : 600 mm
Scene Capture Type : Standard
Gain Control : None
Contrast : Normal
Saturation : Normal
Sharpness : Normal
Subject Distance Range : Unknown
Profile Description : Adobe RGB (1998)
Date/Time Digitized : 2009:05:28 02:24:45.42-07:00
Creator Tool : Ver.1.00
Rating : 5
Serial Number : 3029064
Lens Info : 70-200mm f/2.8
Lens : 70.0-200.0 mm f/2.8
Image Number : 6882
Authors Position : Photographer
Headline : American Black bear in Yosemite national park
Sidecar For Extension : NEF
Color Mode : RGB
ICC Profile Name : Adobe RGB (1998)
Format : image/jpeg
Raw File Name : _JBB6806.NEF
Version : 5.3
Color Temperature : 5650
Tint : -7
Exposure : +1.00
Shadows : 1
Brightness : +50
Luminance Smoothing : 0
Color Noise Reduction : 25
Chromatic Aberration R : 0
Chromatic Aberration B : 0
Vignette Amount : 0
Shadow Tint : 0
Red Hue : 0
Red Saturation : 0
Green Hue : 0
Green Saturation : 0
Blue Hue : 0
Blue Saturation : 0
Fill Light : 0
Vibrance : +10
Highlight Recovery : 0
Clarity : +17
Defringe : 0
Hue Adjustment Red : 0
Hue Adjustment Orange : 0
Hue Adjustment Yellow : 0
Hue Adjustment Green : 0
Hue Adjustment Aqua : 0
Hue Adjustment Blue : 0
Hue Adjustment Purple : 0
Hue Adjustment Magenta : 0
Saturation Adjustment Red : 0
Saturation Adjustment Orange : 0
Saturation Adjustment Yellow : 0
Saturation Adjustment Green : 0
Saturation Adjustment Aqua : 0
Saturation Adjustment Blue : 0
Saturation Adjustment Purple : 0
Saturation Adjustment Magenta : 0
Luminance Adjustment Red : 0
Luminance Adjustment Orange : 0
Luminance Adjustment Yellow : 0
Luminance Adjustment Green : 0
Luminance Adjustment Aqua : 0
Luminance Adjustment Blue : 0
Luminance Adjustment Purple : 0
Luminance Adjustment Magenta : 0
Split Toning Shadow Hue : 0
Split Toning Shadow Saturation : 0
Split Toning Highlight Hue : 0
Split Toning Highlight Saturation : 0
Split Toning Balance : 0
Parametric Shadows : 0
Parametric Darks : 0
Parametric Lights : 0
Parametric Highlights : 0
Parametric Shadow Split : 25
Parametric Midtone Split : 50
Parametric Highlight Split : 75
Sharpen Radius : +1.1
Sharpen Detail : 25
Sharpen Edge Masking : 0
Post Crop Vignette Amount : 0
Convert To Grayscale : False
Tone Curve Name : Medium Contrast
Camera Profile : Adobe Standard
Has Settings : True
Has Crop : False
Already Applied : True
Flash Fired : False
Flash Return : No return detection
Flash Mode : Unknown
Flash Function : False
Flash Red Eye Mode : False
Subject : americanus, bear, black, brown, Carnivora, Carnivore, cinnnamon, feeding, Food, Forest, green, indigenous, mammal, mammalia, Omnivore, Park, searching, tree, Ursidae, Ursus, USA, Walking, wild, Yosemite
Creator : Jeff Banke
Description : American Black bear in Yosemite National Park.
Rights : Copyright (C) Jeff Banke 2009 All Rights reserved
Tone Curve : 0, 0, 32, 22, 64, 56, 128, 128, 192, 196, 255, 255
Hierarchical Subject : Actions|feeding, Actions|searching, Actions|Walking, Colors|green, Colors|brown, Colors|black, Countries|USA, Food, Forest, Forest|tree, Mammals|American animals|bear, Mammals|American animals|bear|americanus, Mammals|American animals|bear|cinnnamon, Mammals|American animals|bear|Ursidae, Mammals|American animals|bear|Ursus, Mammals|Carnivora, Mammals|Carnivore, Mammals|Omnivore, Mammals|mammal, Mammals|mammalia, Mammals|indigenous, Places|Park, Places|places in california|Yosemite, Mammals|wild
Creator Address : 3499 La Mesa Drive
Creator City : Hayward
Creator Region : CA
Creator Postal Code : 94542
Creator Country : USA
Creator Work Telephone : 510-581-0349
Creator Work Email : j.banke@comcast.net
Creator Work URL : www.xlr8photo.com
Usage Terms : Copyright
Image Width : 300
Image Height : 202
Bits Per Sample : 8
Color Components : 3
Aperture : 6.3
Image Size : 300x202
Megapixels : 0.061
Scale Factor To 35 mm Equivalent : 1.5
Shutter Speed : 1/250
Create Date : 2009:05:28 02:24:45.42
Date/Time Original : 2009:05:28 02:24:45.42
Modify Date : 2010:09:14 09:33:55.42
Flash : No Flash
Circle Of Confusion : 0.020 mm
Field Of View : 3.4 deg
Focal Length : 400.0 mm (35 mm equivalent: 600.0 mm)
Hyperfocal Distance : 1267.89 m
Light Value : 12.3
Lens ID : 70.0-200.0mm f/2.8