Uber Exif Photo
Caption-Abstract : Gray heron wading in a lake and reading a sign that says wading is prohibited :)
By-line : Jeff Banke
By-line Title : Photographer
Object Name : gray heron
Keywords : ardea cinerea, Aves, Birds, blue, ciconiiformes, early, feather, feeding, fishing, Gray, green, grey, Heron, lake, morning, plumage, stalking, wading, Walking, watching, water, Waterfowl, wild, Wildlife, reading, sign, prohibited
Copyright Notice : Copyright Jeff Banke 2007 all right reserved
Copyright Flag : True
Image Description : Gray heron wading in a lake and reading a sign that says wading is prohibited :)
Make : NIKON CORPORATION
Camera Model Name : NIKON D70s
Orientation : Horizontal (normal)
Software : Adobe Photoshop CS4 Windows
Modify Date : 2009:08:07 11:56:47
Artist : Jeff Banke
Copyright : Copyright Jeff Banke 2007 all right reserved
Exposure Time : 1/160
F Number : 9.0
Exposure Program : Manual
ISO : 200
Date/Time Original : 2007:03:13 06:07:56
Create Date : 2007:03:13 06:07:56
Shutter Speed Value : 1/160
Aperture Value : 9.0
Exposure Compensation : -2
Max Aperture Value : 2.8
Metering Mode : Spot
Light Source : Fine Weather
Focal Length : 200.0 mm
Color Space : Uncalibrated
Exif Image Width : 2790
Exif Image Height : 2000
Sensing Method : One-chip color area
Scene Type : Directly photographed
CFA Pattern : [Blue,Green][Green,Red]
Custom Rendered : Normal
Exposure Mode : Manual
White Balance : Manual
Digital Zoom Ratio : 1
Focal Length In 35mm Format : 300 mm
Scene Capture Type : Standard
Gain Control : None
Contrast : Normal
Saturation : Normal
Sharpness : Normal
Subject Distance Range : Unknown
Profile Description : ProPhoto RGB
Date/Time Digitized : 2007:03:13 06:07:56.80-07:00
Creator Tool : Ver.1.00
Rating : 5
Lens Info : 70-200mm f/2.8
Lens : 70.0-200.0 mm f/2.8
Image Number : 12260
Authors Position : Photographer
Headline : birds
Sidecar For Extension : NEF
Color Mode : RGB
ICC Profile Name : ProPhoto RGB
Format : image/jpeg
Raw File Name : DSC_1961.NEF
Version : 5.3
Color Temperature : 4850
Tint : -4
Exposure : -1.75
Shadows : 26
Brightness : +92
Luminance Smoothing : 0
Color Noise Reduction : 25
Chromatic Aberration R : 0
Chromatic Aberration B : 0
Vignette Amount : 0
Shadow Tint : 0
Red Hue : 0
Red Saturation : 0
Green Hue : 0
Green Saturation : 0
Blue Hue : 0
Blue Saturation : 0
Fill Light : 0
Vibrance : +28
Highlight Recovery : 0
Clarity : 0
Defringe : 0
Hue Adjustment Red : 0
Hue Adjustment Orange : 0
Hue Adjustment Yellow : 0
Hue Adjustment Green : 0
Hue Adjustment Aqua : 0
Hue Adjustment Blue : 0
Hue Adjustment Purple : 0
Hue Adjustment Magenta : 0
Saturation Adjustment Red : 0
Saturation Adjustment Orange : 0
Saturation Adjustment Yellow : 0
Saturation Adjustment Green : 0
Saturation Adjustment Aqua : 0
Saturation Adjustment Blue : 0
Saturation Adjustment Purple : 0
Saturation Adjustment Magenta : 0
Luminance Adjustment Red : 0
Luminance Adjustment Orange : 0
Luminance Adjustment Yellow : 0
Luminance Adjustment Green : 0
Luminance Adjustment Aqua : 0
Luminance Adjustment Blue : 0
Luminance Adjustment Purple : 0
Luminance Adjustment Magenta : 0
Split Toning Shadow Hue : 0
Split Toning Shadow Saturation : 0
Split Toning Highlight Hue : 0
Split Toning Highlight Saturation : 0
Split Toning Balance : 0
Parametric Shadows : 0
Parametric Darks : 0
Parametric Lights : 0
Parametric Highlights : 0
Parametric Shadow Split : 25
Parametric Midtone Split : 50
Parametric Highlight Split : 75
Sharpen Radius : +1.0
Sharpen Detail : 25
Sharpen Edge Masking : 0
Post Crop Vignette Amount : 0
Convert To Grayscale : False
Tone Curve Name : Medium Contrast
Camera Profile : ACR 2.4
Has Settings : True
Has Crop : False
Already Applied : True
Marked : True
Flash Fired : False
Flash Return : No return detection
Flash Mode : Unknown
Flash Function : False
Flash Red Eye Mode : False
Creator : Jeff Banke
Rights : Copyright Jeff Banke 2007 all right reserved
Subject : ardea cinerea, Aves, Birds, blue, ciconiiformes, early, feather, feeding, fishing, Gray, green, grey, Heron, lake, morning, plumage, stalking, wading, Walking, watching, water, Waterfowl, wild, Wildlife, reading, sign, prohibited
Title : gray heron
Description : Gray heron wading in a lake and reading a sign that says wading is prohibited :)
Tone Curve : 0, 0, 32, 22, 64, 56, 128, 128, 192, 196, 255, 255
Creator Address : 3499 La Mesa Drive
Creator City : Hayward
Creator Region : California
Creator Postal Code : 94542
Creator Country : USA
Creator Work Telephone : 510-581-0349 office, 510-501-4502 cell
Creator Work Email : j.banke@comcast.net
Creator Work URL : www.xlr8photo.com
Hierarchical Subject : Birds|Aves, Birds|Waterfowl|Heron, Colors|blue, Colors|grey, Colors|green, Birds|Waterfowl, Birds|Waterfowl|Heron|Gray, Birds|Waterfowl|Heron|Gray|"ardea cinerea", Birds|Waterfowl|Heron|ciconiiformes, Birds, Birds|feather, scenic description|water, scenic description|lake, Mammals|wild, Mammals|Wildlife, Actions|feeding, Actions|stalking, Actions|fishing, Actions|wading, Actions|watching, Actions|Walking, Seasons and time|early, Seasons and time|morning, Birds|plumage
Image Width : 300
Image Height : 215
Bits Per Sample : 8
Color Components : 3
Aperture : 9.0
Image Size : 300x215
Megapixels : 0.065
Scale Factor To 35 mm Equivalent : 1.5
Shutter Speed : 1/160
Create Date : 2007:03:13 06:07:56.80
Date/Time Original : 2007:03:13 06:07:56.80
Modify Date : 2009:08:07 11:56:47.80
Flash : No Flash
Circle Of Confusion : 0.020 mm
Field Of View : 6.9 deg
Focal Length : 200.0 mm (35 mm equivalent: 300.0 mm)
Hyperfocal Distance : 221.88 m
Light Value : 12.7
Lens ID : 70.0-200.0mm f/2.8