Uber Exif Photo
Caption-Abstract : long straight road across Death Valley with a distant motor vehicvle coming towards the camera, a deep blue sky late in the afternoon, and a small puffy clouds in the sky
By-line : Jeffrey Banke
By-line Title : Photographer
Object Name : Death Valley
Keywords : arid, automobile, barren, blue, bright, California, clouds, death, desert, diminutive, distant, enormous, far, grass, highway, hill, horizon, lonely, long, mountainous, mountains, Park, pavement, picturesque, road, sand, scrub, sky, straight, sunny, sunshine, USA, valley, vehicle, vibrant, winter, wispy, Yellow
Copyright Notice : Copyright © Jeff Banke 2007 all rights reserved.
Copyright Flag : True
Image Description : long straight road across Death Valley with a distant motor vehicvle coming towards the camera, a deep blue sky late in the afternoon, and a small puffy clouds in the sky
Make : NIKON CORPORATION
Camera Model Name : NIKON D70s
Orientation : Horizontal (normal)
Software : Adobe Photoshop CS4 Windows
Modify Date : 2010:08:30 19:52:53
Artist : Jeffrey Banke
Copyright : Copyright © Jeff Banke 2007 all rights reserved.
Exposure Time : 1/200
F Number : 8.0
Exposure Program : Manual
ISO : 200
Date/Time Original : 2007:02:27 13:23:33
Create Date : 2007:02:27 13:23:33
Shutter Speed Value : 1/200
Aperture Value : 8.0
Exposure Compensation : -5/3
Max Aperture Value : 3.5
Metering Mode : Spot
Light Source : Flash
Focal Length : 18.0 mm
Color Space : sRGB
Exif Image Width : 2000
Exif Image Height : 3008
Sensing Method : One-chip color area
Scene Type : Directly photographed
CFA Pattern : [Blue,Green][Green,Red]
Custom Rendered : Normal
Exposure Mode : Manual
White Balance : Manual
Digital Zoom Ratio : 1
Focal Length In 35mm Format : 27 mm
Scene Capture Type : Standard
Gain Control : None
Contrast : Normal
Saturation : Normal
Sharpness : Normal
Subject Distance Range : Unknown
Profile Description : sRGB IEC61966-2.1
Date/Time Digitized : 2007:02:27 13:23:33.80-08:00
Rating : 5
Creator Tool : Ver.1.00
Serial Number : 1004ed50
Image Number : 11153
Lens : 18.0-70.0 mm f/3.5-4.5
Lens Info : 18-70mm f/3.5-4.5
ICC Profile Name : sRGB IEC61966-2.1
Color Mode : RGB
Sidecar For Extension : NEF
Authors Position : Photographer
Format : image/jpeg
Already Applied : True
Has Crop : False
Has Settings : True
Camera Profile : Camera Landscape
Tone Curve Name : Medium Contrast
Convert To Grayscale : False
Grain Amount : 0
Post Crop Vignette Amount : 0
Sharpen Edge Masking : 0
Sharpen Detail : 13
Sharpen Radius : +1.0
Parametric Highlight Split : 75
Parametric Midtone Split : 50
Parametric Shadow Split : 25
Parametric Highlights : 0
Parametric Lights : 0
Parametric Darks : 0
Parametric Shadows : 0
Split Toning Balance : 0
Split Toning Highlight Saturation : 0
Split Toning Highlight Hue : 0
Split Toning Shadow Saturation : 0
Split Toning Shadow Hue : 0
Luminance Adjustment Magenta : 0
Luminance Adjustment Purple : 0
Luminance Adjustment Blue : 0
Luminance Adjustment Aqua : 0
Luminance Adjustment Green : 0
Luminance Adjustment Yellow : 0
Luminance Adjustment Orange : 0
Luminance Adjustment Red : 0
Saturation Adjustment Magenta : 0
Saturation Adjustment Purple : 0
Saturation Adjustment Blue : 0
Saturation Adjustment Aqua : 0
Saturation Adjustment Green : 0
Saturation Adjustment Yellow : 0
Saturation Adjustment Orange : 0
Saturation Adjustment Red : 0
Hue Adjustment Magenta : 0
Hue Adjustment Purple : 0
Hue Adjustment Blue : 0
Hue Adjustment Aqua : 0
Hue Adjustment Green : 0
Hue Adjustment Yellow : 0
Hue Adjustment Orange : 0
Hue Adjustment Red : 0
Defringe : 0
Clarity : 0
Highlight Recovery : 0
Vibrance : +28
Fill Light : 0
Blue Saturation : 0
Blue Hue : 0
Green Saturation : 0
Green Hue : 0
Red Saturation : 0
Red Hue : 0
Shadow Tint : 0
Vignette Midpoint : 50
Vignette Amount : +7
Chromatic Aberration B : 0
Chromatic Aberration R : 0
Color Noise Reduction : 25
Luminance Smoothing : 0
Brightness : +68
Shadows : 6
Exposure : +0.60
Tint : 0
Color Temperature : 5850
Process Version : 5.0
Version : 5.7
Raw File Name : DSC_0854.NEF
Marked : True
Flash Fired : False
Flash Return : No return detection
Flash Mode : Unknown
Flash Function : False
Flash Red Eye Mode : False
Creator : Jeffrey Banke
Subject : arid, automobile, barren, blue, bright, California, clouds, death, desert, diminutive, distant, enormous, far, grass, highway, hill, horizon, lonely, long, mountainous, mountains, Park, pavement, picturesque, road, sand, scrub, sky, straight, sunny, sunshine, USA, valley, vehicle, vibrant, winter, wispy, Yellow
Title : Death Valley
Description : long straight road across Death Valley with a distant motor vehicvle coming towards the camera, a deep blue sky late in the afternoon, and a small puffy clouds in the sky
Rights : Copyright © Jeff Banke 2007 all rights reserved.
Tone Curve : 0, 0, 32, 22, 64, 56, 128, 128, 192, 196, 255, 255
Creator Address : 3499 La Mesa Drive
Creator City : Hayward
Creator Region : California
Creator Postal Code : 94542
Creator Country : USA
Creator Work Telephone : 510-501-4502
Creator Work Email : j.banke@comcast.net
Image Width : 199
Image Height : 300
Bits Per Sample : 8
Color Components : 3
Aperture : 8.0
Image Size : 199x300
Megapixels : 0.060
Scale Factor To 35 mm Equivalent : 1.5
Shutter Speed : 1/200
Create Date : 2007:02:27 13:23:33.8
Date/Time Original : 2007:02:27 13:23:33.8
Modify Date : 2010:08:30 19:52:53.80
Flash : No Flash
Circle Of Confusion : 0.020 mm
Field Of View : 67.4 deg
Focal Length : 18.0 mm (35 mm equivalent: 27.0 mm)
Hyperfocal Distance : 2.02 m
Light Value : 12.6
Lens ID : 18.0-70.0mm f/3.5-4.5