Uber Exif Photo
By-line : Jeffrey Banke
By-line Title : Photographer
Object Name : Crater Lake, Oregon
Keywords : oregon, crater lake, volcanic, caldera, lake, natural, crater, mountain, cliffs, blue, deep, clouds
Copyright Notice : Copyright 2007 Jeff Banke use without permission is prohibited
Copyright Flag : True
Make : NIKON CORPORATION
Camera Model Name : NIKON D100
Orientation : Horizontal (normal)
Software : Adobe Photoshop CS4 Windows
Modify Date : 2010:01:20 18:46:10
Artist : Jeffrey Banke
Copyright : Copyright 2007 Jeff Banke use without permission is prohibited
Exposure Time : 1/200
F Number : 11.0
Exposure Program : Manual
ISO : 200
Date/Time Original : 2007:08:21 11:34:34
Create Date : 2007:08:21 11:34:34
Shutter Speed Value : 1/200
Aperture Value : 11.0
Exposure Compensation : 0
Max Aperture Value : 3.5
Metering Mode : Center-weighted average
Light Source : Fine Weather
Focal Length : 18.0 mm
Color Space : Uncalibrated
Exif Image Width : 5000
Exif Image Height : 1936
Sensing Method : One-chip color area
Scene Type : Directly photographed
CFA Pattern : [Green,Red][Blue,Green]
Custom Rendered : Normal
Exposure Mode : Manual
White Balance : Manual
Digital Zoom Ratio : 1
Focal Length In 35mm Format : 27 mm
Scene Capture Type : Standard
Gain Control : None
Contrast : Normal
Saturation : Normal
Sharpness : Normal
Subject Distance Range : Unknown
Profile Description : ProPhoto RGB
Date/Time Digitized : 2007:08:21 11:34:34.30-07:00
Lens : 18.0-70.0 mm f/3.5-4.5
Lens Info : 18-70mm f/3.5-4.5
Authors Position : Photographer
Sidecar For Extension : NEF
Color Mode : RGB
ICC Profile Name : ProPhoto RGB
Creator Tool : Ver.2.00
Rating : 5
Marked : True
Format : image/jpeg
Raw File Name : DSC_0352.NEF
Version : 5.3
Color Temperature : 5500
Tint : 0
Exposure : 0.00
Shadows : 0
Brightness : +50
Luminance Smoothing : 0
Color Noise Reduction : 25
Chromatic Aberration R : 0
Chromatic Aberration B : 0
Vignette Amount : 0
Shadow Tint : 0
Red Hue : 0
Red Saturation : 0
Green Hue : 0
Green Saturation : 0
Blue Hue : 0
Blue Saturation : 0
Fill Light : 0
Vibrance : +18
Highlight Recovery : 8
Clarity : 0
Defringe : 0
Hue Adjustment Red : 0
Hue Adjustment Orange : 0
Hue Adjustment Yellow : 0
Hue Adjustment Green : 0
Hue Adjustment Aqua : 0
Hue Adjustment Blue : 0
Hue Adjustment Purple : 0
Hue Adjustment Magenta : 0
Saturation Adjustment Red : 0
Saturation Adjustment Orange : 0
Saturation Adjustment Yellow : 0
Saturation Adjustment Green : 0
Saturation Adjustment Aqua : 0
Saturation Adjustment Blue : 0
Saturation Adjustment Purple : 0
Saturation Adjustment Magenta : 0
Luminance Adjustment Red : 0
Luminance Adjustment Orange : 0
Luminance Adjustment Yellow : 0
Luminance Adjustment Green : 0
Luminance Adjustment Aqua : 0
Luminance Adjustment Blue : 0
Luminance Adjustment Purple : 0
Luminance Adjustment Magenta : 0
Split Toning Shadow Hue : 0
Split Toning Shadow Saturation : 0
Split Toning Highlight Hue : 0
Split Toning Highlight Saturation : 0
Split Toning Balance : 0
Parametric Shadows : 0
Parametric Darks : 0
Parametric Lights : 0
Parametric Highlights : 0
Parametric Shadow Split : 25
Parametric Midtone Split : 50
Parametric Highlight Split : 75
Sharpen Radius : +1.0
Sharpen Detail : 25
Sharpen Edge Masking : 0
Post Crop Vignette Amount : 0
Convert To Grayscale : False
Tone Curve Name : Medium Contrast
Camera Profile : Camera Landscape
Has Settings : True
Has Crop : False
Already Applied : True
Flash Fired : False
Flash Return : No return detection
Flash Mode : Unknown
Flash Function : False
Flash Red Eye Mode : False
Creator : Jeffrey Banke
Rights : Copyright 2007 Jeff Banke use without permission is prohibited
Title : Crater Lake, Oregon
Subject : oregon, crater lake, volcanic, caldera, lake, natural, crater, mountain, cliffs, blue, deep, clouds
Tone Curve : 0, 0, 32, 22, 64, 56, 128, 128, 192, 196, 255, 255
Image Width : 300
Image Height : 116
Bits Per Sample : 8
Color Components : 3
Aperture : 11.0
Image Size : 300x116
Megapixels : 0.035
Scale Factor To 35 mm Equivalent : 1.5
Shutter Speed : 1/200
Create Date : 2007:08:21 11:34:34.30
Date/Time Original : 2007:08:21 11:34:34.30
Modify Date : 2010:01:20 18:46:10.30
Flash : No Flash
Circle Of Confusion : 0.020 mm
Field Of View : 67.4 deg
Focal Length : 18.0 mm (35 mm equivalent: 27.0 mm)
Hyperfocal Distance : 1.47 m
Light Value : 13.6
Lens ID : 18.0-70.0mm f/3.5-4.5