Uber Exif Photo
Caption-Abstract : Shrimp lunch on a skewer, with mushrooms, pasta, cauliflower, red peppers, and onions on a Christmas plate.
By-line : Jeffrey Banke
By-line Title : Photographer
Copyright Notice : Copyright © 2008 Jeff Banke all rights reserved
Copyright Flag : True
Image Description : Shrimp lunch on a skewer, with mushrooms, pasta, cauliflower, red peppers, and onions on a Christmas plate.
Make : NIKON CORPORATION
Camera Model Name : NIKON D100
Orientation : Horizontal (normal)
Software : Adobe Photoshop CS4 Windows
Modify Date : 2010:04:28 20:18:44
Artist : Jeffrey Banke
Copyright : Copyright © 2008 Jeff Banke all rights reserved
Exposure Time : 1/100
Exposure Program : Manual
ISO : 200
Date/Time Original : 2008:08:24 18:17:57
Create Date : 2008:08:24 18:17:57
Shutter Speed Value : 1/100
Exposure Compensation : 0
Max Aperture Value : 1.0
Metering Mode : Spot
Light Source : Fine Weather
User Comment : (C) 2007 JEFF BANKE
Color Space : Uncalibrated
Exif Image Width : 3008
Exif Image Height : 2000
Sensing Method : One-chip color area
Scene Type : Directly photographed
CFA Pattern : [Green,Red][Blue,Green]
Custom Rendered : Normal
Exposure Mode : Manual
White Balance : Manual
Digital Zoom Ratio : 1
Scene Capture Type : Standard
Gain Control : None
Contrast : Normal
Saturation : Normal
Sharpness : Soft
Subject Distance Range : Unknown
Profile Description : Adobe RGB (1998)
Date/Time Digitized : 2008:08:24 18:17:57.80-07:00
Creator Tool : Ver.2.00
Rating : 5
Lens Info : 0mm f/0
Lens : 0.0 mm f/0.0
Authors Position : Photographer
Sidecar For Extension : NEF
Color Mode : RGB
ICC Profile Name : Adobe RGB (1998)
Preserved File Name : DSC_8272.NEF
Format : image/jpeg
Raw File Name : 24082008-D100-food, shrimp, scallops, bruschetta-052JBB.NEF
Version : 5.3
Color Temperature : 5050
Tint : -4
Exposure : -0.45
Shadows : 5
Brightness : +50
Luminance Smoothing : 0
Color Noise Reduction : 25
Chromatic Aberration R : 0
Chromatic Aberration B : 0
Vignette Amount : 0
Shadow Tint : 0
Red Hue : 0
Red Saturation : 0
Green Hue : 0
Green Saturation : 0
Blue Hue : 0
Blue Saturation : 0
Fill Light : 0
Vibrance : 0
Highlight Recovery : 13
Clarity : 0
Defringe : 0
Hue Adjustment Red : 0
Hue Adjustment Orange : 0
Hue Adjustment Yellow : 0
Hue Adjustment Green : 0
Hue Adjustment Aqua : 0
Hue Adjustment Blue : 0
Hue Adjustment Purple : 0
Hue Adjustment Magenta : 0
Saturation Adjustment Red : 0
Saturation Adjustment Orange : 0
Saturation Adjustment Yellow : 0
Saturation Adjustment Green : 0
Saturation Adjustment Aqua : 0
Saturation Adjustment Blue : 0
Saturation Adjustment Purple : 0
Saturation Adjustment Magenta : 0
Luminance Adjustment Red : 0
Luminance Adjustment Orange : 0
Luminance Adjustment Yellow : 0
Luminance Adjustment Green : 0
Luminance Adjustment Aqua : 0
Luminance Adjustment Blue : 0
Luminance Adjustment Purple : 0
Luminance Adjustment Magenta : 0
Split Toning Shadow Hue : 0
Split Toning Shadow Saturation : 0
Split Toning Highlight Hue : 0
Split Toning Highlight Saturation : 0
Split Toning Balance : 0
Parametric Shadows : 0
Parametric Darks : 0
Parametric Lights : 0
Parametric Highlights : 0
Parametric Shadow Split : 25
Parametric Midtone Split : 50
Parametric Highlight Split : 75
Sharpen Radius : +1.0
Sharpen Detail : 25
Sharpen Edge Masking : 0
Post Crop Vignette Amount : 0
Convert To Grayscale : False
Tone Curve Name : Medium Contrast
Camera Profile : Camera Landscape
Has Settings : True
Has Crop : False
Already Applied : True
Marked : True
Flash Fired : False
Flash Return : No return detection
Flash Mode : Unknown
Flash Function : False
Flash Red Eye Mode : False
Description : Shrimp lunch on a skewer, with mushrooms, pasta, cauliflower, red peppers, and onions on a Christmas plate.
Creator : Jeffrey Banke
Rights : Copyright © 2008 Jeff Banke all rights reserved
Tone Curve : 0, 0, 32, 22, 64, 56, 128, 128, 192, 196, 255, 255
Creator Address : 3499 La Mesa Drive
Creator City : Hayward
Creator Region : California
Creator Postal Code : 94542
Creator Country : USA
Creator Work Telephone : 510-581-0349 office, 510-501-4502 cell
Creator Work Email : j.banke@comcast.net
Creator Work URL : www.xlr8photo.com
Image Width : 300
Image Height : 200
Bits Per Sample : 8
Color Components : 3
Image Size : 300x200
Megapixels : 0.060
Shutter Speed : 1/100
Create Date : 2008:08:24 18:17:57.80
Date/Time Original : 2008:08:24 18:17:57.80
Modify Date : 2010:04:28 20:18:44.80
Flash : No Flash
Lens ID : 0.0mm f/0.0