Uber Exif Photo
Copyright Notice : Jaime Dormer Ph:+61488300400
Make : NIKON CORPORATION
Camera Model Name : NIKON D700
Orientation : Horizontal (normal)
Software : Adobe Photoshop CS5 Macintosh
Modify Date : 2011:03:14 21:30:01
Copyright : Jaime Dormer Ph:+61488300400
Exposure Time : 1/350
F Number : 2.8
Exposure Program : Aperture-priority AE
ISO : 200
Sensitivity Type : Unknown
Date/Time Original : 2010:11:09 16:57:40
Create Date : 2010:11:09 16:57:40
Shutter Speed Value : 1/350
Aperture Value : 2.8
Exposure Compensation : 0
Max Aperture Value : 2.8
Subject Distance : 0.6 m
Metering Mode : Multi-segment
Light Source : Unknown
Flash : No Flash
Focal Length : 26.0 mm
Color Space : sRGB
Exif Image Width : 4687
Exif Image Height : 3625
Sensing Method : One-chip color area
Scene Type : Directly photographed
CFA Pattern : [Red,Green][Green,Blue]
Custom Rendered : Normal
Exposure Mode : Auto
White Balance : Auto
Digital Zoom Ratio : 1
Focal Length In 35mm Format : 26 mm
Scene Capture Type : Standard
Gain Control : None
Contrast : Normal
Saturation : Normal
Sharpness : Normal
Subject Distance Range : Unknown
Serial Number : 2184333
Lens Info : 24-70mm f/2.8
Lens Model : 24.0-70.0 mm f/2.8
GPS Version ID : 2.2.0.0
GPS Latitude Ref : South
GPS Longitude Ref : West
GPS Altitude Ref : Above Sea Level
GPS Time Stamp : 19:54:47
GPS Satellites : 07
GPS Date Stamp : 2010:11:09
Profile Description : sRGB IEC61966-2.1
Creator Tool : Ver.1.02
Rating : 0
Format : image/jpeg
Lens : 24.0-70.0 mm f/2.8
Image Number : 22361
Approximate Focus Distance : 0.6
Raw File Name : 20101109-AntarcticaTrip-2780.NEF
Version : 6.3
Process Version : 5.7
Color Temperature : 5650
Tint : -7
Exposure : 0.00
Shadows : 16
Brightness : +8
Luminance Smoothing : 0
Color Noise Reduction : 25
Chromatic Aberration R : 0
Chromatic Aberration B : 0
Vignette Amount : 0
Shadow Tint : 0
Red Hue : 0
Red Saturation : 0
Green Hue : 0
Green Saturation : 0
Blue Hue : 0
Blue Saturation : 0
Fill Light : 0
Vibrance : 0
Highlight Recovery : 6
Clarity : +37
Defringe : 0
Hue Adjustment Red : 0
Hue Adjustment Orange : 0
Hue Adjustment Yellow : 0
Hue Adjustment Green : 0
Hue Adjustment Aqua : 0
Hue Adjustment Blue : 0
Hue Adjustment Purple : 0
Hue Adjustment Magenta : 0
Saturation Adjustment Red : 0
Saturation Adjustment Orange : 0
Saturation Adjustment Yellow : 0
Saturation Adjustment Green : 0
Saturation Adjustment Aqua : 0
Saturation Adjustment Blue : 0
Saturation Adjustment Purple : 0
Saturation Adjustment Magenta : 0
Luminance Adjustment Red : 0
Luminance Adjustment Orange : 0
Luminance Adjustment Yellow : 0
Luminance Adjustment Green : 0
Luminance Adjustment Aqua : 0
Luminance Adjustment Blue : 0
Luminance Adjustment Purple : 0
Luminance Adjustment Magenta : 0
Split Toning Shadow Hue : 0
Split Toning Shadow Saturation : 0
Split Toning Highlight Hue : 0
Split Toning Highlight Saturation : 0
Split Toning Balance : 0
Parametric Shadows : 0
Parametric Darks : 0
Parametric Lights : 0
Parametric Highlights : 0
Parametric Shadow Split : 25
Parametric Midtone Split : 50
Parametric Highlight Split : 75
Sharpen Radius : +1.1
Sharpen Detail : 13
Sharpen Edge Masking : 0
Post Crop Vignette Amount : -48
Post Crop Vignette Midpoint : 50
Post Crop Vignette Feather : 50
Post Crop Vignette Roundness : 0
Post Crop Vignette Style : Highlight Priority
Post Crop Vignette Highlight Contrast : 0
Grain Amount : 0
Color Noise Reduction Detail : 50
Lens Profile Enable : 1
Lens Manual Distortion Amount : 0
Perspective Vertical : 0
Perspective Horizontal : 0
Perspective Rotate : 0.0
Perspective Scale : 100
Convert To Grayscale : False
Tone Curve Name : Medium Contrast
Camera Profile : Adobe Standard
Lens Profile Setup : LensDefaults
Lens Profile Name : Adobe (Nikon AF-S NIKKOR 24-70mm f/2.8G ED)
Lens Profile Filename : NIKON D3X (Nikon FX 24-70mm f2.8 G ED) - RAW.lcp
Lens Profile Distortion Scale : 100
Lens Profile Chromatic Aberration Scale : 100
Lens Profile Vignetting Scale : 100
Has Settings : True
Crop Top : 0
Crop Left : 0.006876
Crop Bottom : 1
Crop Right : 0.993124
Crop Angle : 0.317132
Crop Constrain To Warp : 0
Crop Width : 2
Crop Height : 3
Crop Unit : Unknown (3)
Has Crop : True
Already Applied : True
Color Mode : RGB
ICC Profile Name : sRGB IEC61966-2.1
Date Created : 2010:11:09 16:57:40.092
Rights : Jaime Dormer Ph:+61488300400
Tone Curve : 0, 0, 32, 22, 64, 56, 128, 128, 192, 196, 255, 255
Derived From : Image Width : 300
Image Height : 232
Bits Per Sample : 8
Color Components : 3
Aperture : 2.8
Image Size : 300x232
Megapixels : 0.070
Scale Factor To 35 mm Equivalent : 1.0
Shutter Speed : 1/350
Create Date : 2010:11:09 16:57:40.92
Date/Time Original : 2010:11:09 16:57:40.92
Modify Date : 2011:03:14 21:30:01.92
GPS Altitude : 5 m Above Sea Level
GPS Date/Time : 2010:11:09 19:54:47Z
GPS Latitude : 62 deg 35' 24.76" S
GPS Longitude : 59 deg 54' 12.79" W
Circle Of Confusion : 0.030 mm
Depth Of Field : 0.09 m (0.56 - 0.65 m)
Field Of View : 69.4 deg
Focal Length : 26.0 mm (35 mm equivalent: 26.0 mm)
GPS Position : 62 deg 35' 24.76" S, 59 deg 54' 12.79" W
Hyperfocal Distance : 8.04 m
Light Value : 10.4
Lens ID : AF-S Zoom-Nikkor 24-70mm f/2.8G ED