Uber Exif Photo
Copyright Notice : Jaime Dormer 0488300400
Make : NIKON CORPORATION
Camera Model Name : NIKON D300S
Orientation : Horizontal (normal)
Software : Adobe Photoshop CS5 Macintosh
Modify Date : 2011:03:14 21:02:04
Copyright : Jaime Dormer 0488300400
Exposure Time : 1/2000
F Number : 4.5
Exposure Program : Aperture-priority AE
ISO : 200
Sensitivity Type : Unknown
Date/Time Original : 2010:11:08 11:24:32
Create Date : 2010:11:08 11:24:32
Shutter Speed Value : 1/2000
Aperture Value : 4.5
Exposure Compensation : -1/3
Max Aperture Value : 2.8
Subject Distance : 10 m
Metering Mode : Multi-segment
Light Source : Unknown
Flash : No Flash
Focal Length : 200.0 mm
Color Space : sRGB
Exif Image Width : 3817
Exif Image Height : 2952
Sensing Method : One-chip color area
Scene Type : Directly photographed
CFA Pattern : [Red,Green][Green,Blue]
Custom Rendered : Normal
Exposure Mode : Auto
White Balance : Auto
Digital Zoom Ratio : 1
Focal Length In 35mm Format : 300 mm
Scene Capture Type : Standard
Gain Control : None
Contrast : Normal
Saturation : Normal
Sharpness : Normal
Subject Distance Range : Unknown
Serial Number : 2014869
Lens Info : 70-200mm f/2.8
Lens Model : 70.0-200.0 mm f/2.8
GPS Version ID : 2.2.0.0
GPS Latitude Ref : South
GPS Longitude Ref : West
GPS Altitude Ref : Above Sea Level
GPS Time Stamp : 14:24:08
GPS Satellites : 10
GPS Date Stamp : 2010:11:08
Profile Description : sRGB IEC61966-2.1
Creator Tool : Ver.1.01
Rating : 0
Format : image/jpeg
Lens : 70.0-200.0 mm f/2.8
Image Number : 21784
Approximate Focus Distance : 10
Raw File Name : 20101108-AntarcticaTrip-2048.NEF
Version : 6.3
Process Version : 5.7
Color Temperature : 5700
Tint : +1
Exposure : +0.40
Shadows : 13
Brightness : 0
Luminance Smoothing : 0
Color Noise Reduction : 25
Chromatic Aberration R : 0
Chromatic Aberration B : 0
Vignette Amount : 0
Shadow Tint : 0
Red Hue : 0
Red Saturation : 0
Green Hue : 0
Green Saturation : 0
Blue Hue : 0
Blue Saturation : 0
Fill Light : 6
Vibrance : 0
Highlight Recovery : 0
Clarity : +30
Defringe : 0
Hue Adjustment Red : 0
Hue Adjustment Orange : 0
Hue Adjustment Yellow : 0
Hue Adjustment Green : 0
Hue Adjustment Aqua : 0
Hue Adjustment Blue : 0
Hue Adjustment Purple : 0
Hue Adjustment Magenta : 0
Saturation Adjustment Red : 0
Saturation Adjustment Orange : 0
Saturation Adjustment Yellow : 0
Saturation Adjustment Green : 0
Saturation Adjustment Aqua : 0
Saturation Adjustment Blue : 0
Saturation Adjustment Purple : 0
Saturation Adjustment Magenta : 0
Luminance Adjustment Red : 0
Luminance Adjustment Orange : 0
Luminance Adjustment Yellow : 0
Luminance Adjustment Green : 0
Luminance Adjustment Aqua : 0
Luminance Adjustment Blue : 0
Luminance Adjustment Purple : 0
Luminance Adjustment Magenta : 0
Split Toning Shadow Hue : 0
Split Toning Shadow Saturation : 0
Split Toning Highlight Hue : 0
Split Toning Highlight Saturation : 0
Split Toning Balance : 0
Parametric Shadows : 0
Parametric Darks : 0
Parametric Lights : 0
Parametric Highlights : 0
Parametric Shadow Split : 25
Parametric Midtone Split : 50
Parametric Highlight Split : 75
Sharpen Radius : +1.1
Sharpen Detail : 12
Sharpen Edge Masking : 0
Post Crop Vignette Amount : 0
Grain Amount : 0
Color Noise Reduction Detail : 50
Lens Profile Enable : 1
Lens Manual Distortion Amount : 0
Perspective Vertical : 0
Perspective Horizontal : 0
Perspective Rotate : 0.0
Perspective Scale : 100
Convert To Grayscale : False
Tone Curve Name : Medium Contrast
Camera Profile : Adobe Standard
Lens Profile Setup : LensDefaults
Lens Profile Name : Adobe (Nikon AF-S VR Zoom-Nikkor 70-200mm f/2.8G IF-ED)
Lens Profile Filename : NIKON D3X (Nikon FX 70-200mm f2.8 G IF ED) - RAW.lcp
Lens Profile Distortion Scale : 100
Lens Profile Chromatic Aberration Scale : 100
Lens Profile Vignetting Scale : 100
Has Settings : True
Crop Top : 0
Crop Left : 0
Crop Bottom : 0.803089
Crop Right : 0.800092
Crop Angle : 0
Crop Constrain To Warp : 0
Crop Width : 2
Crop Height : 3
Crop Unit : Unknown (3)
Has Crop : True
Already Applied : True
Color Mode : RGB
ICC Profile Name : sRGB IEC61966-2.1
Date Created : 2010:11:08 11:24:32.093
Rights : Jaime Dormer 0488300400
Tone Curve : 0, 0, 32, 22, 64, 56, 128, 128, 192, 196, 255, 255
Derived From : Image Width : 300
Image Height : 232
Bits Per Sample : 8
Color Components : 3
Aperture : 4.5
Image Size : 300x232
Megapixels : 0.070
Scale Factor To 35 mm Equivalent : 1.5
Shutter Speed : 1/2000
Create Date : 2010:11:08 11:24:32.93
Date/Time Original : 2010:11:08 11:24:32.93
Modify Date : 2011:03:14 21:02:04.93
GPS Altitude : 15 m Above Sea Level
GPS Date/Time : 2010:11:08 14:24:08Z
GPS Latitude : 64 deg 49' 36.94" S
GPS Longitude : 63 deg 29' 35.50" W
Circle Of Confusion : 0.020 mm
Depth Of Field : 0.44 m (9.78 - 10.23 m)
Field Of View : 6.9 deg
Focal Length : 200.0 mm (35 mm equivalent: 300.0 mm)
GPS Position : 64 deg 49' 36.94" S, 63 deg 29' 35.50" W
Hyperfocal Distance : 443.76 m
Light Value : 14.3
Lens ID : AF-S VR Zoom-Nikkor 70-200mm f/2.8G IF-ED