Uber Exif Photo
By-line : Bob McCaw
By-line Title : Nikon Bob
Copyright Notice : (C)2010 Bob McCaw, all rights reserved
Make : NIKON CORPORATION
Camera Model Name : NIKON D90
Orientation : Horizontal (normal)
Software : Adobe Photoshop CS5 Windows
Modify Date : 2010:10:30 17:10:22
Artist : Bob McCaw
Copyright : (C)2010 Bob McCaw, all rights reserved
Exposure Time : 1/125
F Number : 8.0
Exposure Program : Aperture-priority AE
ISO : 720
Sensitivity Type : Unknown
Date/Time Original : 2010:10:28 17:21:43
Create Date : 2010:10:28 17:21:43
Shutter Speed Value : 1/125
Aperture Value : 8.0
Exposure Compensation : +1
Max Aperture Value : 3.6
Subject Distance : 4294967295 m
Metering Mode : Multi-segment
Light Source : Unknown
Flash : No Flash
Focal Length : 22.0 mm
User Comment : Bob McCaw 916 716-6162
Color Space : Uncalibrated
Exif Image Width : 3000
Exif Image Height : 2400
Sensing Method : One-chip color area
Scene Type : Directly photographed
CFA Pattern : [Green,Blue][Red,Green]
Custom Rendered : Normal
Exposure Mode : Auto
White Balance : Auto
Digital Zoom Ratio : 1
Focal Length In 35mm Format : 33 mm
Scene Capture Type : Standard
Gain Control : Low gain up
Contrast : Normal
Saturation : Normal
Sharpness : Normal
Subject Distance Range : Unknown
Serial Number : 3291688
Lens Info : 18-55mm f/3.5-5.6
Lens Model : 18.0-55.0 mm f/3.5-5.6
Format : image/jpeg
Authors Position : Nikon Bob
Sidecar For Extension : NEF
Color Mode : RGB
ICC Profile Name : Adobe RGB (1998)
Date Created : 2010:10:28 17:21:43
Rating Percent : 0
Creator Tool : Nikon Transfer 1.1 W
Rating : 0
Lens : 18.0-55.0 mm f/3.5-5.6
Image Number : 10568
Approximate Focus Distance : 4294967295
Raw File Name : _DSC7883_4766.NEF
Version : 6.2
Process Version : 5.7
Color Temperature : 4800
Tint : -13
Exposure : -0.35
Shadows : 6
Brightness : 0
Luminance Smoothing : 0
Color Noise Reduction : 25
Chromatic Aberration R : 0
Chromatic Aberration B : 0
Vignette Amount : 0
Shadow Tint : 0
Red Hue : 0
Red Saturation : 0
Green Hue : 0
Green Saturation : 0
Blue Hue : 0
Blue Saturation : 0
Fill Light : 51
Highlight Recovery : 17
Clarity : 0
Defringe : 0
Gray Mixer Red : -100
Gray Mixer Orange : -88
Gray Mixer Yellow : -8
Gray Mixer Green : -27
Gray Mixer Aqua : -18
Gray Mixer Blue : -42
Gray Mixer Purple : +15
Gray Mixer Magenta : -8
Split Toning Shadow Hue : 0
Split Toning Shadow Saturation : 0
Split Toning Highlight Hue : 0
Split Toning Highlight Saturation : 0
Split Toning Balance : 0
Parametric Shadows : 0
Parametric Darks : 0
Parametric Lights : 0
Parametric Highlights : 0
Parametric Shadow Split : 25
Parametric Midtone Split : 50
Parametric Highlight Split : 75
Sharpen Radius : +1.0
Sharpen Detail : 25
Sharpen Edge Masking : 0
Post Crop Vignette Amount : 0
Grain Amount : 0
Color Noise Reduction Detail : 50
Lens Profile Enable : 0
Lens Manual Distortion Amount : 0
Perspective Vertical : 0
Perspective Horizontal : 0
Perspective Rotate : 0.0
Perspective Scale : 100
Convert To Grayscale : True
Tone Curve Name : Medium Contrast
Camera Profile : Adobe Standard
Lens Profile Setup : LensDefaults
Has Settings : True
Has Crop : False
Already Applied : True
Creator : Bob McCaw
Rights : (C)2010 Bob McCaw, all rights reserved
Usage Terms : For consideration only, no reproduction without prior permission
Tone Curve : 0, 0, 32, 22, 64, 56, 128, 128, 192, 196, 255, 255
Paint Correction What : Correction
Paint Correction Amount : 1.000000
Paint Correction Active : true
Paint Correction Exposure : -0.787500
Paint Correction Saturation : 0.360000
Paint Correction Contrast : 0.390000
Paint Correction Clarity : 0.840000
Paint Correction Sharpness : 0.300000
Paint Correction Brightness : 0.850000
Paint Correction Toning Hue : 214.000000
Paint Correction Toning Saturation : 0.550000
Paint Correction Mask What : Mask/Paint
Paint Correction Mask Value : 0.660000
Paint Correction Mask Radius : 0.380811
Paint Correction Mask Flow : 0.953642
Paint Correction Mask Center Weight : 0.100966
Image Width : 300
Image Height : 240
Bits Per Sample : 8
Color Components : 1
Aperture : 8.0
Image Size : 300x240
Megapixels : 0.072
Scale Factor To 35 mm Equivalent : 1.5
Shutter Speed : 1/125
Create Date : 2010:10:28 17:21:43.00
Date/Time Original : 2010:10:28 17:21:43.00
Modify Date : 2010:10:30 17:10:22.00
Circle Of Confusion : 0.020 mm
Depth Of Field : inf (3.02 m - inf)
Field Of View : 57.2 deg
Focal Length : 22.0 mm (35 mm equivalent: 33.0 mm)
Hyperfocal Distance : 3.02 m
Light Value : 10.1
Lens ID : AF-S DX Zoom-Nikkor 18-55mm f/3.5-5.6G ED II