Uber Exif Photo
By-line : DDDDDDMPMueller
By-line Title : Photogpher/Owner
Copyright Notice : MPM STUDIOS
Make : NIKON CORPORATION
Camera Model Name : NIKON D700
Orientation : Horizontal (normal)
Software : Adobe Photoshop Elements 8.0 Windows
Modify Date : 2011:11:12 18:19:38
Artist : DDDDDDMPMueller
Copyright : MPM STUDIOS
Exposure Time : 1/1000
F Number : 8.0
Exposure Program : Shutter speed priority AE
ISO : 1000
Date/Time Original : 2011:11:05 16:46:50
Create Date : 2011:11:05 16:46:50
Shutter Speed Value : 1/1000
Aperture Value : 8.0
Exposure Compensation : 0
Max Aperture Value : 6.3
Subject Distance : 42.2 m
Metering Mode : Multi-segment
Light Source : Fine Weather
Focal Length : 500.0 mm
Color Space : sRGB
Exif Image Width : 1024
Exif Image Height : 740
Sensing Method : One-chip color area
Scene Type : Directly photographed
CFA Pattern : [Red,Green][Green,Blue]
Custom Rendered : Normal
Exposure Mode : Auto
White Balance : Manual
Digital Zoom Ratio : 1
Focal Length In 35mm Format : 500 mm
Scene Capture Type : Standard
Gain Control : High gain up
Contrast : Normal
Saturation : Normal
Sharpness : Normal
Subject Distance Range : Unknown
Profile Description : sRGB IEC61966-2.1
Creator Tool : Adobe Photoshop Lightroom 3.5 (Windows)
Rating : 0
Serial Number : 2027496
Lens Info : 150-500mm f/5-6.3
Lens : 150.0-500.0 mm f/5.0-6.3
Image Number : 3571
Approximate Focus Distance : 42.2
Date Created : 2011:11:05
Authors Position : Photogpher/Owner
Color Mode : RGB
ICC Profile Name : sRGB IEC61966-2.1
Format : image/jpeg
Date/Time Digitized : 2011:11:05 16:46:50.3-07:00
Raw File Name : _DSP2935.dng
Version : 5.5
Color Temperature : 5500
Tint : +10
Exposure : +0.40
Shadows : 5
Brightness : +66
Luminance Smoothing : 90
Color Noise Reduction : 75
Chromatic Aberration R : 0
Chromatic Aberration B : 0
Vignette Amount : 0
Shadow Tint : 0
Red Hue : 0
Red Saturation : 0
Green Hue : 0
Green Saturation : 0
Blue Hue : 0
Blue Saturation : 0
Fill Light : 5
Vibrance : +40
Highlight Recovery : 10
Clarity : +20
Defringe : 0
Hue Adjustment Red : 0
Hue Adjustment Orange : 0
Hue Adjustment Yellow : 0
Hue Adjustment Green : 0
Hue Adjustment Aqua : 0
Hue Adjustment Blue : 0
Hue Adjustment Purple : 0
Hue Adjustment Magenta : 0
Saturation Adjustment Red : 0
Saturation Adjustment Orange : 0
Saturation Adjustment Yellow : 0
Saturation Adjustment Green : 0
Saturation Adjustment Aqua : 0
Saturation Adjustment Blue : 0
Saturation Adjustment Purple : 0
Saturation Adjustment Magenta : 0
Luminance Adjustment Red : 0
Luminance Adjustment Orange : 0
Luminance Adjustment Yellow : 0
Luminance Adjustment Green : 0
Luminance Adjustment Aqua : 0
Luminance Adjustment Blue : 0
Luminance Adjustment Purple : 0
Luminance Adjustment Magenta : 0
Split Toning Shadow Hue : 0
Split Toning Shadow Saturation : 0
Split Toning Highlight Hue : 0
Split Toning Highlight Saturation : 0
Split Toning Balance : 0
Parametric Shadows : 0
Parametric Darks : 0
Parametric Lights : 0
Parametric Highlights : 0
Parametric Shadow Split : 25
Parametric Midtone Split : 50
Parametric Highlight Split : 75
Sharpen Radius : +3.0
Sharpen Detail : 45
Sharpen Edge Masking : 45
Post Crop Vignette Amount : 0
Convert To Grayscale : False
Tone Curve Name : Medium Contrast
Camera Profile : Adobe Standard
Has Settings : True
Crop Top : 0.149082
Crop Left : 0.244677
Crop Bottom : 0.717131
Crop Right : 0.768112
Crop Angle : 0
Has Crop : True
Already Applied : True
Creator : DDDDDDMPMueller
Rights : MPM STUDIOS
Flash Fired : False
Flash Return : No return detection
Flash Mode : Unknown
Flash Function : False
Flash Red Eye Mode : False
Tone Curve : 0, 0, 32, 22, 64, 56, 128, 128, 192, 196, 255, 255
Creator Postal Code : 98257
Creator Work Telephone : 360-630-5557
Creator Region : Wasington
Creator Country : USA
Creator City : La Conner
Creator Work Email : dschultz742@gmail.com
Creator Address : 775 Shelter Bay Drive
Creator Work URL : www.davidschultzphotography.com
Usage Terms : All Rights Reserved
Image Width : 300
Image Height : 217
Bits Per Sample : 8
Color Components : 3
Aperture : 8.0
Image Size : 300x217
Megapixels : 0.065
Scale Factor To 35 mm Equivalent : 1.0
Shutter Speed : 1/1000
Create Date : 2011:11:05 16:46:50.3
Date/Time Original : 2011:11:05 16:46:50.3
Flash : No Flash
Circle Of Confusion : 0.030 mm
Depth Of Field : 3.39 m (40.57 - 43.96 m)
Field Of View : 4.1 deg
Focal Length : 500.0 mm (35 mm equivalent: 500.0 mm)
Hyperfocal Distance : 1040.06 m
Light Value : 12.6
Lens ID : Sigma 150-500mm F5-6.3 DG OS APO HSM