Uber Exif Photo
Make : NIKON CORPORATION
Camera Model Name : NIKON D300
Orientation : Horizontal (normal)
Software : Adobe Photoshop Elements 8.0 Windows
Modify Date : 2011:06:01 22:39:59
Exposure Time : 1/320
F Number : 6.3
Exposure Program : Program AE
ISO : 200
Date/Time Original : 2011:05:20 01:43:31
Create Date : 2011:05:20 01:43:31
Shutter Speed Value : 1/320
Aperture Value : 6.3
Exposure Compensation : -2/3
Max Aperture Value : 3.7
Metering Mode : Multi-segment
Light Source : Cloudy
Focal Length : 19.0 mm
User Comment : Copyright 2011 DS Photography LLC
Color Space : sRGB
Exif Image Width : 1024
Exif Image Height : 680
Sensing Method : One-chip color area
Scene Type : Directly photographed
CFA Pattern : [Red,Green][Green,Blue]
Custom Rendered : Normal
Exposure Mode : Auto
White Balance : Manual
Digital Zoom Ratio : 1
Focal Length In 35mm Format : 28 mm
Scene Capture Type : Standard
Gain Control : None
Contrast : Normal
Saturation : Normal
Sharpness : Normal
Subject Distance Range : Unknown
Profile Description : sRGB IEC61966-2.1
Date/Time Digitized : 2011:05:20 01:43:31Z
Creator Tool : Ver.1.00
Rating : 0
Serial Number : 3006270
Lens Info : 16-85mm f/3.5-5.6
Lens : 16.0-85.0 mm f/3.5-5.6
Image Number : 45008
Raw File Name : _DSP4952.NEF
Version : 5.5
Color Temperature : 5650
Tint : -1
Exposure : 0.00
Shadows : 0
Brightness : +50
Luminance Smoothing : 0
Color Noise Reduction : 25
Chromatic Aberration R : 0
Chromatic Aberration B : 0
Vignette Amount : 0
Shadow Tint : 0
Red Hue : 0
Red Saturation : 0
Green Hue : 0
Green Saturation : 0
Blue Hue : 0
Blue Saturation : 0
Fill Light : 0
Vibrance : 0
Highlight Recovery : 21
Clarity : +20
Defringe : 0
Hue Adjustment Red : 0
Hue Adjustment Orange : 0
Hue Adjustment Yellow : 0
Hue Adjustment Green : 0
Hue Adjustment Aqua : 0
Hue Adjustment Blue : 0
Hue Adjustment Purple : 0
Hue Adjustment Magenta : 0
Saturation Adjustment Red : 0
Saturation Adjustment Orange : 0
Saturation Adjustment Yellow : 0
Saturation Adjustment Green : 0
Saturation Adjustment Aqua : 0
Saturation Adjustment Blue : 0
Saturation Adjustment Purple : 0
Saturation Adjustment Magenta : 0
Luminance Adjustment Red : 0
Luminance Adjustment Orange : 0
Luminance Adjustment Yellow : 0
Luminance Adjustment Green : 0
Luminance Adjustment Aqua : 0
Luminance Adjustment Blue : 0
Luminance Adjustment Purple : 0
Luminance Adjustment Magenta : 0
Split Toning Shadow Hue : 0
Split Toning Shadow Saturation : 0
Split Toning Highlight Hue : 0
Split Toning Highlight Saturation : 0
Split Toning Balance : 0
Parametric Shadows : 0
Parametric Darks : 0
Parametric Lights : 0
Parametric Highlights : 0
Parametric Shadow Split : 25
Parametric Midtone Split : 50
Parametric Highlight Split : 75
Sharpen Radius : +1.0
Sharpen Detail : 25
Sharpen Edge Masking : 0
Post Crop Vignette Amount : 0
Convert To Grayscale : False
Tone Curve Name : Medium Contrast
Camera Profile : Adobe Standard
Has Settings : True
Has Crop : False
Already Applied : True
Sidecar For Extension : NEF
Color Mode : RGB
ICC Profile Name : sRGB IEC61966-2.1
Format : image/jpeg
Flash Fired : False
Flash Return : No return detection
Flash Mode : Unknown
Flash Function : False
Flash Red Eye Mode : False
Tone Curve : 0, 0, 32, 22, 64, 56, 128, 128, 192, 196, 255, 255
Image Width : 300
Image Height : 199
Bits Per Sample : 8
Color Components : 3
Aperture : 6.3
Image Size : 300x199
Megapixels : 0.060
Scale Factor To 35 mm Equivalent : 1.5
Shutter Speed : 1/320
Modify Date : 2011:06:01 22:39:59.25
Flash : No Flash
Circle Of Confusion : 0.020 mm
Field Of View : 65.5 deg
Focal Length : 19.0 mm (35 mm equivalent: 28.0 mm)
Hyperfocal Distance : 2.81 m
Light Value : 12.6
Lens ID : 16.0-85.0mm f/3.5-5.6