Uber Exif Photo
By-line : Michael J. Avilez
Copyright Notice : Michael J. Avilez
Copyright Flag : True
Make : NIKON CORPORATION
Camera Model Name : NIKON D300
Software : Adobe Photoshop CS4 Macintosh
Modify Date : 2011:01:09 14:18:18
Artist : Michael J. Avilez
Copyright : Michael J. Avilez
Exposure Time : 1/125
F Number : 10.0
Exposure Program : Manual
ISO : 200
Sensitivity Type : Unknown
Date/Time Original : 2010:01:31 20:15:21
Create Date : 2010:01:31 20:15:21
Shutter Speed Value : 1/125
Aperture Value : 10.0
Exposure Compensation : 0
Max Aperture Value : 2.8
Subject Distance : 3.55 m
Metering Mode : Multi-segment
Light Source : Flash
Focal Length : 38.0 mm
User Comment : (C) Michael J. Avilez 2008
Sensing Method : One-chip color area
Scene Type : Directly photographed
CFA Pattern : [Red,Green][Green,Blue]
Custom Rendered : Normal
Exposure Mode : Manual
White Balance : Manual
Digital Zoom Ratio : 1
Focal Length In 35mm Format : 57 mm
Scene Capture Type : Standard
Gain Control : None
Contrast : Normal
Saturation : Normal
Sharpness : Normal
Subject Distance Range : Unknown
Serial Number : 3059647
Lens Info : 24-70mm f/2.8
Lens Model : 24.0-70.0 mm f/2.8
Date/Time Digitized : 2010:01:31 20:15:21.43-05:00
Exif Image Width : 531
Exif Image Height : 800
Color Space : Uncalibrated
Creator Tool : Adobe Photoshop Lightroom 3.3
Format : application/vnd.adobe.photoshop
Lens : 24.0-70.0 mm f/2.8
Image Number : 11831
Approximate Focus Distance : 3.55
Marked : True
Version : 6.3
Process Version : 5.7
Incremental Temperature : 0
Incremental Tint : 0
Exposure : -0.25
Shadows : 0
Brightness : 0
Luminance Smoothing : 0
Color Noise Reduction : 0
Chromatic Aberration R : 0
Chromatic Aberration B : 0
Vignette Amount : 0
Shadow Tint : 0
Red Hue : 0
Red Saturation : 0
Green Hue : 0
Green Saturation : 0
Blue Hue : 0
Blue Saturation : 0
Fill Light : 0
Vibrance : 0
Highlight Recovery : 0
Clarity : 0
Defringe : 0
Hue Adjustment Red : 0
Hue Adjustment Orange : 0
Hue Adjustment Yellow : 0
Hue Adjustment Green : 0
Hue Adjustment Aqua : 0
Hue Adjustment Blue : 0
Hue Adjustment Purple : 0
Hue Adjustment Magenta : 0
Saturation Adjustment Red : 0
Saturation Adjustment Orange : 0
Saturation Adjustment Yellow : 0
Saturation Adjustment Green : 0
Saturation Adjustment Aqua : 0
Saturation Adjustment Blue : 0
Saturation Adjustment Purple : 0
Saturation Adjustment Magenta : 0
Luminance Adjustment Red : 0
Luminance Adjustment Orange : 0
Luminance Adjustment Yellow : 0
Luminance Adjustment Green : 0
Luminance Adjustment Aqua : 0
Luminance Adjustment Blue : 0
Luminance Adjustment Purple : 0
Luminance Adjustment Magenta : 0
Split Toning Shadow Hue : 0
Split Toning Shadow Saturation : 0
Split Toning Highlight Hue : 0
Split Toning Highlight Saturation : 0
Split Toning Balance : 0
Parametric Shadows : 0
Parametric Darks : 0
Parametric Lights : 0
Parametric Highlights : +49
Parametric Shadow Split : 25
Parametric Midtone Split : 50
Parametric Highlight Split : 75
Sharpen Radius : +1.0
Sharpen Detail : 25
Sharpen Edge Masking : 0
Post Crop Vignette Amount : 0
Grain Amount : 0
Lens Profile Enable : 0
Lens Manual Distortion Amount : 0
Perspective Vertical : 0
Perspective Horizontal : 0
Perspective Rotate : 0.0
Perspective Scale : 100
Convert To Grayscale : False
Tone Curve Name : Linear
Camera Profile : Embedded
Lens Profile Setup : LensDefaults
Has Settings : True
Crop Top : 0.036841
Crop Left : 0
Crop Bottom : 0.976315
Crop Right : 0.939474
Crop Angle : 0
Crop Constrain To Warp : 0
Crop Width : 531
Crop Height : 800
Crop Unit : pixels
Has Crop : True
Already Applied : True
Flash Fired : False
Flash Return : No return detection
Flash Mode : Unknown
Flash Function : False
Flash Red Eye Mode : False
Creator : Michael J. Avilez
Rights : Michael J. Avilez
Tone Curve : 0, 0, 255, 255
Image Width : 199
Image Height : 300
Bits Per Sample : 8
Color Components : 1
Aperture : 10.0
Image Size : 199x300
Megapixels : 0.060
Scale Factor To 35 mm Equivalent : 1.5
Shutter Speed : 1/125
Create Date : 2010:01:31 20:15:21.43
Date/Time Original : 2010:01:31 20:15:21.43
Flash : No Flash
Circle Of Confusion : 0.020 mm
Depth Of Field : 4.54 m (2.39 - 6.92 m)
Field Of View : 35.1 deg
Focal Length : 38.0 mm (35 mm equivalent: 57.0 mm)
Hyperfocal Distance : 7.21 m
Light Value : 12.6
Lens ID : Sigma 24-70mm F2.8 IF EX DG HSM