Uber Exif Photo
By-line : Ray Hamer
Copyright Notice : Copyright 2009 Ray Hamer All Rights Reserved
Make : NIKON CORPORATION
Camera Model Name : NIKON D200
Software : Ver.2.00
Modify Date : 2009:07:04 08:48:24
Artist : Ray Hamer
Copyright : Copyright 2009 Ray Hamer All Rights Reserved
Exposure Time : 1/125
F Number : 6.3
Exposure Program : Program AE
ISO : 200
Date/Time Original : 2009:06:27 01:52:53
Create Date : 2009:06:27 01:52:53
Shutter Speed Value : 1/125
Aperture Value : 6.3
Exposure Compensation : -1/3
Max Aperture Value : 3.2
Metering Mode : Multi-segment
Light Source : Fine Weather
Focal Length : 105.0 mm
User Comment : (C)RAY_HAMER_2008_ALLRIGHTS RESERUED
Sensing Method : One-chip color area
Scene Type : Directly photographed
CFA Pattern : [Green,Red][Blue,Green]
Custom Rendered : Normal
Exposure Mode : Auto
White Balance : Manual
Digital Zoom Ratio : 1
Focal Length In 35mm Format : 157 mm
Scene Capture Type : Standard
Gain Control : None
Contrast : Normal
Saturation : High
Sharpness : Hard
Subject Distance Range : Unknown
Profile Description : Adobe RGB (1998)
Date/Time Digitized : 2009:06:27 01:52:53.08-07:00
Exif Image Width : 3872
Exif Image Height : 2592
Creator Tool : Ver.2.00
Rating : 0
Lens Info : 105mm f/2.8
Lens : 105.0 mm f/2.8
Image Number : 13694
Raw File Name : 090627_0123.NEF
Version : 4.6
Color Temperature : 5500
Tint : +10
Exposure : +1.10
Shadows : 5
Brightness : +50
Luminance Smoothing : 0
Color Noise Reduction : 25
Chromatic Aberration R : 0
Chromatic Aberration B : 0
Vignette Amount : 0
Shadow Tint : 0
Red Hue : 0
Red Saturation : 0
Green Hue : 0
Green Saturation : 0
Blue Hue : 0
Blue Saturation : 0
Fill Light : 20
Vibrance : +6
Highlight Recovery : 0
Clarity : +49
Defringe : 0
Hue Adjustment Red : 0
Hue Adjustment Orange : 0
Hue Adjustment Yellow : 0
Hue Adjustment Green : 0
Hue Adjustment Aqua : 0
Hue Adjustment Blue : 0
Hue Adjustment Purple : 0
Hue Adjustment Magenta : 0
Saturation Adjustment Red : 0
Saturation Adjustment Orange : 0
Saturation Adjustment Yellow : 0
Saturation Adjustment Green : 0
Saturation Adjustment Aqua : 0
Saturation Adjustment Blue : 0
Saturation Adjustment Purple : 0
Saturation Adjustment Magenta : 0
Luminance Adjustment Red : 0
Luminance Adjustment Orange : 0
Luminance Adjustment Yellow : 0
Luminance Adjustment Green : 0
Luminance Adjustment Aqua : 0
Luminance Adjustment Blue : 0
Luminance Adjustment Purple : 0
Luminance Adjustment Magenta : 0
Split Toning Shadow Hue : 0
Split Toning Shadow Saturation : 0
Split Toning Highlight Hue : 0
Split Toning Highlight Saturation : 0
Split Toning Balance : 0
Parametric Shadows : 0
Parametric Darks : 0
Parametric Lights : 0
Parametric Highlights : 0
Parametric Shadow Split : 25
Parametric Midtone Split : 50
Parametric Highlight Split : 75
Sharpen Radius : +1.0
Sharpen Detail : 25
Sharpen Edge Masking : 0
Post Crop Vignette Amount : 0
Convert To Grayscale : False
Tone Curve Name : Medium Contrast
Camera Profile : ACR 4.4
Has Settings : True
Has Crop : False
Already Applied : True
Flash Fired : True
Flash Return : Return detected
Flash Mode : Unknown
Flash Function : False
Flash Red Eye Mode : False
Creator : Ray Hamer
Rights : Copyright 2009 Ray Hamer All Rights Reserved
Tone Curve : 0, 0, 32, 22, 64, 56, 128, 128, 192, 196, 255, 255
Image Width : 300
Image Height : 201
Bits Per Sample : 8
Color Components : 3
Aperture : 6.3
Image Size : 300x201
Megapixels : 0.060
Scale Factor To 35 mm Equivalent : 1.5
Shutter Speed : 1/125
Create Date : 2009:06:27 01:52:53.08
Date/Time Original : 2009:06:27 01:52:53.08
Flash : Fired, Return detected
Circle Of Confusion : 0.020 mm
Field Of View : 13.1 deg
Focal Length : 105.0 mm (35 mm equivalent: 157.0 mm)
Hyperfocal Distance : 87.09 m
Light Value : 11.3
Lens ID : 105.0mm f/2.8