Uber Exif Photo
By-line : ARTURO SALCIDO HERNANDEZ
Copyright Notice : 2010
Photometric Interpretation : RGB
Make : NIKON CORPORATION
Camera Model Name : NIKON D300S
Orientation : Horizontal (normal)
Samples Per Pixel : 3
Software : Adobe Photoshop CS5 Windows
Modify Date : 2011:01:01 20:58:04
Artist : ARTURO SALCIDO HERNANDEZ
Copyright : 2010
Exposure Time : 1/500
F Number : 5.3
Exposure Program : Aperture-priority AE
ISO : 200
Date/Time Original : 2011:01:01 15:29:45
Create Date : 2011:01:01 15:29:45
Shutter Speed Value : 1/500
Aperture Value : 5.3
Exposure Compensation : +2/3
Max Aperture Value : 5.5
Subject Distance : 4294967295 m
Metering Mode : Multi-segment
Light Source : Unknown
Flash : No Flash
Focal Length : 75.0 mm
Color Space : Uncalibrated
Exif Image Width : 2630
Exif Image Height : 3959
Sensing Method : One-chip color area
Scene Type : Directly photographed
CFA Pattern : [Red,Green][Green,Blue]
Custom Rendered : Normal
Exposure Mode : Auto
White Balance : Auto
Digital Zoom Ratio : 1
Focal Length In 35mm Format : 112 mm
Scene Capture Type : Standard
Gain Control : None
Contrast : Normal
Saturation : Normal
Sharpness : Normal
Subject Distance Range : Unknown
Profile Description : Adobe RGB (1998)
Creator Tool : Ver.1.01
Serial Number : 3010893
Lens Info : 18-105mm f/3.5-5.6
Lens : 18.0-105.0 mm f/3.5-5.6
Image Number : 39921
Version : 6.1
Process Version : 5.7
Color Temperature : 5400
Tint : +1
Exposure : +0.50
Shadows : 5
Brightness : +57
Luminance Smoothing : 0
Color Noise Reduction : 26
Chromatic Aberration R : 0
Chromatic Aberration B : 0
Vignette Amount : 0
Shadow Tint : 0
Red Hue : 0
Red Saturation : 0
Green Hue : 0
Green Saturation : 0
Blue Hue : 0
Blue Saturation : 0
Fill Light : 0
Vibrance : 0
Highlight Recovery : 0
Clarity : +52
Defringe : 0
Hue Adjustment Red : 0
Hue Adjustment Orange : 0
Hue Adjustment Yellow : 0
Hue Adjustment Green : 0
Hue Adjustment Aqua : 0
Hue Adjustment Blue : 0
Hue Adjustment Purple : 0
Hue Adjustment Magenta : 0
Saturation Adjustment Red : +16
Saturation Adjustment Orange : 0
Saturation Adjustment Yellow : -45
Saturation Adjustment Green : -54
Saturation Adjustment Aqua : +27
Saturation Adjustment Blue : +29
Saturation Adjustment Purple : 0
Saturation Adjustment Magenta : 0
Luminance Adjustment Red : -19
Luminance Adjustment Orange : 0
Luminance Adjustment Yellow : 0
Luminance Adjustment Green : 0
Luminance Adjustment Aqua : +44
Luminance Adjustment Blue : +37
Luminance Adjustment Purple : 0
Luminance Adjustment Magenta : 0
Split Toning Shadow Hue : 233
Split Toning Shadow Saturation : 78
Split Toning Highlight Hue : 78
Split Toning Highlight Saturation : 58
Split Toning Balance : 0
Parametric Shadows : -25
Parametric Darks : -6
Parametric Lights : 0
Parametric Highlights : 0
Parametric Shadow Split : 25
Parametric Midtone Split : 50
Parametric Highlight Split : 75
Sharpen Radius : +1.0
Sharpen Detail : 25
Sharpen Edge Masking : 0
Post Crop Vignette Amount : 0
Grain Amount : 0
Color Noise Reduction Detail : 50
Lens Profile Enable : 0
Lens Manual Distortion Amount : 0
Perspective Vertical : 0
Perspective Horizontal : 0
Perspective Rotate : 0.0
Perspective Scale : 100
Convert To Grayscale : False
Tone Curve Name : Linear
Camera Profile : Adobe Standard
Lens Profile Setup : LensDefaults
Has Settings : True
Crop Top : 0.078096
Crop Left : 0.021823
Crop Bottom : 0.921904
Crop Right : 0.978177
Crop Angle : -3.2203
Crop Constrain To Warp : 0
Crop Width : 3959
Crop Height : 2630
Crop Unit : pixels
Has Crop : True
Already Applied : True
Color Mode : RGB
ICC Profile Name : Adobe RGB (1998)
Date Created : 2011:01:01 15:29:45.032
Format : image/jpeg
Tone Curve : 0, 0, 255, 255
Creator : ARTURO SALCIDO HERNANDEZ
Rights : 2010
Image Width : 199
Image Height : 300
Bits Per Sample : 8
Color Components : 3
Aperture : 5.3
Image Size : 199x300
Megapixels : 0.060
Scale Factor To 35 mm Equivalent : 1.5
Shutter Speed : 1/500
Create Date : 2011:01:01 15:29:45.32
Date/Time Original : 2011:01:01 15:29:45.32
Circle Of Confusion : 0.020 mm
Depth Of Field : inf (52.75 m - inf)
Field Of View : 18.3 deg
Focal Length : 75.0 mm (35 mm equivalent: 112.0 mm)
Hyperfocal Distance : 52.75 m
Light Value : 12.8
Lens ID : AF-S DX VR Zoom-Nikkor 18-105mm f/3.5-5.6G ED