Uber Exif Photo
By-line : ARTURO SALCIDO HERNANDEZ
Copyright Notice : 2010
Make : NIKON CORPORATION
Camera Model Name : NIKON D300S
Software : Ver.1.01
Modify Date : 2010:12:29 11:18:52
Artist : ARTURO SALCIDO HERNANDEZ
Copyright : 2010
Exposure Time : 1/400
F Number : 3.8
Exposure Program : Aperture-priority AE
ISO : 200
Date/Time Original : 2010:12:28 17:11:20
Create Date : 2010:12:28 17:11:20
Shutter Speed Value : 1/400
Aperture Value : 3.8
Exposure Compensation : 0
Max Aperture Value : 3.7
Subject Distance : 4294967295 m
Metering Mode : Multi-segment
Light Source : Unknown
Focal Length : 21.0 mm
Sensing Method : One-chip color area
Scene Type : Directly photographed
CFA Pattern : [Red,Green][Green,Blue]
Custom Rendered : Normal
Exposure Mode : Auto
White Balance : Auto
Digital Zoom Ratio : 1
Focal Length In 35mm Format : 31 mm
Scene Capture Type : Standard
Gain Control : None
Contrast : Normal
Saturation : Normal
Sharpness : Normal
Subject Distance Range : Unknown
Profile Description : Adobe RGB (1998)
Date/Time Digitized : 2010:12:28 17:11:20.33-07:00
Exif Image Width : 4170
Exif Image Height : 2770
Creator Tool : Adobe Photoshop Lightroom
Serial Number : 3010893
Lens Info : 18-105mm f/3.5-5.6
Lens : 18.0-105.0 mm f/3.5-5.6
Image Number : 39466
Version : 6.1
Process Version : 5.7
Color Temperature : 5300
Tint : -3
Exposure : +0.15
Shadows : 6
Brightness : +41
Luminance Smoothing : 0
Color Noise Reduction : 25
Chromatic Aberration R : 0
Chromatic Aberration B : 0
Vignette Amount : 0
Shadow Tint : 0
Red Hue : 0
Red Saturation : 0
Green Hue : 0
Green Saturation : 0
Blue Hue : 0
Blue Saturation : 0
Fill Light : 0
Vibrance : 0
Highlight Recovery : 3
Clarity : +49
Defringe : 0
Hue Adjustment Red : 0
Hue Adjustment Orange : 0
Hue Adjustment Yellow : 0
Hue Adjustment Green : 0
Hue Adjustment Aqua : 0
Hue Adjustment Blue : 0
Hue Adjustment Purple : 0
Hue Adjustment Magenta : 0
Saturation Adjustment Red : 0
Saturation Adjustment Orange : 0
Saturation Adjustment Yellow : 0
Saturation Adjustment Green : 0
Saturation Adjustment Aqua : 0
Saturation Adjustment Blue : 0
Saturation Adjustment Purple : 0
Saturation Adjustment Magenta : 0
Luminance Adjustment Red : 0
Luminance Adjustment Orange : 0
Luminance Adjustment Yellow : 0
Luminance Adjustment Green : 0
Luminance Adjustment Aqua : 0
Luminance Adjustment Blue : 0
Luminance Adjustment Purple : 0
Luminance Adjustment Magenta : 0
Split Toning Shadow Hue : 0
Split Toning Shadow Saturation : 0
Split Toning Highlight Hue : 0
Split Toning Highlight Saturation : 0
Split Toning Balance : 0
Parametric Shadows : 0
Parametric Darks : 0
Parametric Lights : 0
Parametric Highlights : 0
Parametric Shadow Split : 25
Parametric Midtone Split : 50
Parametric Highlight Split : 75
Sharpen Radius : +1.0
Sharpen Detail : 25
Sharpen Edge Masking : 0
Post Crop Vignette Amount : 0
Grain Amount : 0
Color Noise Reduction Detail : 50
Lens Profile Enable : 0
Lens Manual Distortion Amount : 0
Perspective Vertical : 0
Perspective Horizontal : 0
Perspective Rotate : 0.0
Perspective Scale : 100
Convert To Grayscale : False
Tone Curve Name : Medium Contrast
Camera Profile : Adobe Standard
Lens Profile Setup : LensDefaults
Has Settings : True
Crop Top : 0.02784
Crop Left : 0.007779
Crop Bottom : 0.97216
Crop Right : 0.992221
Crop Angle : -1.08964
Crop Constrain To Warp : 0
Crop Width : 4170
Crop Height : 2770
Crop Unit : pixels
Has Crop : True
Already Applied : True
Flash Fired : False
Flash Return : No return detection
Flash Mode : Unknown
Flash Function : False
Flash Red Eye Mode : False
Creator : ARTURO SALCIDO HERNANDEZ
Rights : 2010
Tone Curve : 0, 0, 32, 22, 64, 56, 128, 128, 192, 196, 255, 255
Image Width : 300
Image Height : 199
Bits Per Sample : 8
Color Components : 3
Aperture : 3.8
Image Size : 300x199
Megapixels : 0.060
Scale Factor To 35 mm Equivalent : 1.5
Shutter Speed : 1/400
Create Date : 2010:12:28 17:11:20.33
Date/Time Original : 2010:12:28 17:11:20.33
Flash : No Flash
Circle Of Confusion : 0.020 mm
Depth Of Field : inf (5.70 m - inf)
Field Of View : 60.3 deg
Focal Length : 21.0 mm (35 mm equivalent: 31.0 mm)
Hyperfocal Distance : 5.70 m
Light Value : 11.5
Lens ID : AF-S DX VR Zoom-Nikkor 18-105mm f/3.5-5.6G ED