Uber Exif Photo
Make : NIKON CORPORATION
Camera Model Name : NIKON D3000
Orientation : Horizontal (normal)
Software : Adobe Photoshop CS6 (Windows)
Modify Date : 2016:04:14 20:18:40
Exposure Time : 1/200
F Number : 10.0
Exposure Program : Not Defined
ISO : 200
Date/Time Original : 2015:08:13 14:58:37
Create Date : 2015:08:13 14:58:37
Shutter Speed Value : 1/200
Aperture Value : 10.0
Exposure Compensation : 0
Max Aperture Value : 5.1
Metering Mode : Multi-segment
Light Source : Unknown
Flash : Off, Did not fire
Focal Length : 36.0 mm
Color Space : Uncalibrated
Exif Image Width : 5120
Exif Image Height : 3427
Sensing Method : One-chip color area
Scene Type : Directly photographed
Exposure Mode : Auto
White Balance : Auto
Digital Zoom Ratio : 1
Focal Length In 35mm Format : 54 mm
Scene Capture Type : Landscape
Gain Control : None
Contrast : Normal
Saturation : Normal
Sharpness : Normal
Subject Distance Range : Unknown
Subfile Type : Full-resolution image
Photometric Interpretation : YCbCr
Samples Per Pixel : 3
Rows Per Strip : 107
JPEG Proc : Baseline
Profile Description : Adobe RGB (1998)
Creator Tool : Ver.1.00
Rating : 0
Serial Number : 7415811
Lens Info : 18-55mm f/3.5-5.6
Lens : 18.0-55.0 mm f/3.5-5.6
Image Number : 10598
Approximate Focus Distance : 4294967295
Date Created : 2015:08:13 14:58:37.005
Color Mode : RGB
ICC Profile Name : Adobe RGB (1998)
Format : image/jpeg
Raw File Name : DSC_9100.NEF
Version : 7.1
Process Version : 6.7
Color Temperature : 6000
Tint : -2
Luminance Smoothing : 0
Color Noise Reduction : 25
Vignette Amount : 0
Shadow Tint : 0
Red Hue : 0
Red Saturation : 0
Green Hue : 0
Green Saturation : 0
Blue Hue : 0
Blue Saturation : 0
Vibrance : +5
Hue Adjustment Red : 0
Hue Adjustment Orange : 0
Hue Adjustment Yellow : +26
Hue Adjustment Green : +4
Hue Adjustment Aqua : 0
Hue Adjustment Blue : +11
Hue Adjustment Purple : 0
Hue Adjustment Magenta : 0
Saturation Adjustment Red : 0
Saturation Adjustment Orange : 0
Saturation Adjustment Yellow : 0
Saturation Adjustment Green : +12
Saturation Adjustment Aqua : 0
Saturation Adjustment Blue : -23
Saturation Adjustment Purple : 0
Saturation Adjustment Magenta : 0
Luminance Adjustment Red : 0
Luminance Adjustment Orange : 0
Luminance Adjustment Yellow : 0
Luminance Adjustment Green : 0
Luminance Adjustment Aqua : 0
Luminance Adjustment Blue : 0
Luminance Adjustment Purple : 0
Luminance Adjustment Magenta : 0
Split Toning Shadow Hue : 0
Split Toning Shadow Saturation : 0
Split Toning Highlight Hue : 0
Split Toning Highlight Saturation : 0
Split Toning Balance : 0
Parametric Shadows : 0
Parametric Darks : 0
Parametric Lights : 0
Parametric Highlights : 0
Parametric Shadow Split : 25
Parametric Midtone Split : 50
Parametric Highlight Split : 75
Sharpen Radius : +1.0
Sharpen Detail : 25
Sharpen Edge Masking : 0
Post Crop Vignette Amount : 0
Grain Amount : 0
Color Noise Reduction Detail : 50
Lens Profile Enable : 0
Lens Manual Distortion Amount : 0
Perspective Vertical : 0
Perspective Horizontal : 0
Perspective Rotate : 0.0
Perspective Scale : 100
Auto Lateral CA : 0
Exposure 2012 : -0.40
Contrast 2012 : +80
Highlights 2012 : -43
Shadows 2012 : +21
Whites 2012 : +2
Blacks 2012 : -33
Clarity 2012 : +78
Defringe Purple Amount : 0
Defringe Purple Hue Lo : 30
Defringe Purple Hue Hi : 70
Defringe Green Amount : 0
Defringe Green Hue Lo : 40
Defringe Green Hue Hi : 60
Convert To Grayscale : False
Tone Curve Name 2012 : Linear
Camera Profile : Adobe Standard
Lens Profile Setup : LensDefaults
Has Settings : True
Has Crop : False
Already Applied : True
Tone Curve PV2012 : 0, 0, 255, 255
Tone Curve PV2012 Red : 0, 0, 255, 255
Tone Curve PV2012 Green : 0, 0, 255, 255
Tone Curve PV2012 Blue : 0, 0, 255, 255
Image Width : 300
Image Height : 201
Bits Per Sample : 8
Color Components : 3
Aperture : 10.0
Image Size : 300x201
Megapixels : 0.060
Scale Factor To 35 mm Equivalent : 1.5
Shutter Speed : 1/200
Create Date : 2015:08:13 14:58:37.50
Date/Time Original : 2015:08:13 14:58:37.50
Modify Date : 2016:04:14 20:18:40.50
Circle Of Confusion : 0.020 mm
Depth Of Field : inf (6.47 m - inf)
Field Of View : 36.9 deg
Focal Length : 36.0 mm (35 mm equivalent: 54.0 mm)
Hyperfocal Distance : 6.47 m
Light Value : 13.3
Lens ID : AF-S DX VR Zoom-Nikkor 18-55mm f/3.5-5.6G