Uber Exif Photo
By-line : Randy Irving 2013
Copyright Notice : Randy Irving 2013
Make : NIKON CORPORATION
Camera Model Name : NIKON D300S
Orientation : Horizontal (normal)
Software : Adobe Photoshop CC 2014 (Windows)
Modify Date : 2015:07:12 19:52:45
Artist : Randy Irving 2013
Copyright : Randy Irving 2013
Exposure Time : 1/125
F Number : 8.0
Exposure Program : Manual
ISO : 200
Date/Time Original : 2013:08:21 17:02:47
Create Date : 2013:08:21 17:02:47
Shutter Speed Value : 1/125
Aperture Value : 8.0
Exposure Compensation : 0
Max Aperture Value : 4.8
Metering Mode : Spot
Light Source : Cloudy
Flash : No Flash
Focal Length : 45.0 mm
Color Space : Uncalibrated
Exif Image Width : 3439
Exif Image Height : 2632
Sensing Method : One-chip color area
Scene Type : Directly photographed
CFA Pattern : [Red,Green][Green,Blue]
Custom Rendered : Normal
Exposure Mode : Manual
White Balance : Manual
Digital Zoom Ratio : 1
Focal Length In 35mm Format : 67 mm
Scene Capture Type : Standard
Gain Control : None
Contrast : Normal
Saturation : Normal
Sharpness : Normal
Subject Distance Range : Unknown
Serial Number : 5003326
Lens Info : 18-105mm f/3.5-5.6
Lens Model : 18.0-105.0 mm f/3.5-5.6
Profile Description : ProPhoto RGB
Rating : 0
Label : Creator Tool : Ver.1.01
Format : image/jpeg
Lens : 18.0-105.0 mm f/3.5-5.6
Image Number : 40688
Approximate Focus Distance : 4294967295
Date Created : 2013:08:21 17:02:47.042
Color Mode : RGB
ICC Profile Name : ProPhoto RGB
Raw File Name : DSC_9550.NEF
Version : 8.7.1
Process Version : 6.7
Auto White Version : 134348800
Color Temperature : 5650
Tint : -1
Luminance Smoothing : 0
Color Noise Reduction : 25
Vignette Amount : 0
Shadow Tint : 0
Red Hue : 0
Red Saturation : 0
Green Hue : 0
Green Saturation : 0
Blue Hue : 0
Blue Saturation : 0
Vibrance : 0
Hue Adjustment Red : 0
Hue Adjustment Orange : 0
Hue Adjustment Yellow : 0
Hue Adjustment Green : 0
Hue Adjustment Aqua : 0
Hue Adjustment Blue : 0
Hue Adjustment Purple : 0
Hue Adjustment Magenta : 0
Saturation Adjustment Red : +78
Saturation Adjustment Orange : +53
Saturation Adjustment Yellow : 0
Saturation Adjustment Green : 0
Saturation Adjustment Aqua : 0
Saturation Adjustment Blue : +60
Saturation Adjustment Purple : 0
Saturation Adjustment Magenta : +2
Luminance Adjustment Red : 0
Luminance Adjustment Orange : 0
Luminance Adjustment Yellow : 0
Luminance Adjustment Green : 0
Luminance Adjustment Aqua : 0
Luminance Adjustment Blue : 0
Luminance Adjustment Purple : 0
Luminance Adjustment Magenta : 0
Split Toning Shadow Hue : 0
Split Toning Shadow Saturation : 0
Split Toning Highlight Hue : 0
Split Toning Highlight Saturation : 0
Split Toning Balance : 0
Parametric Shadows : 0
Parametric Darks : 0
Parametric Lights : 0
Parametric Highlights : 0
Parametric Shadow Split : 25
Parametric Midtone Split : 50
Parametric Highlight Split : 75
Sharpen Radius : +1.0
Sharpen Detail : 25
Sharpen Edge Masking : 83
Post Crop Vignette Amount : 0
Grain Amount : 0
Color Noise Reduction Detail : 50
Color Noise Reduction Smoothness : 50
Lens Profile Enable : 1
Lens Manual Distortion Amount : 0
Perspective Vertical : 0
Perspective Horizontal : 0
Perspective Rotate : 0.0
Perspective Scale : 100
Perspective Aspect : 0
Perspective Upright : Off
Auto Lateral CA : 0
Exposure 2012 : 0.00
Contrast 2012 : 0
Highlights 2012 : 0
Shadows 2012 : 0
Whites 2012 : 0
Blacks 2012 : 0
Clarity 2012 : +19
Defringe Purple Amount : 0
Defringe Purple Hue Lo : 30
Defringe Purple Hue Hi : 70
Defringe Green Amount : 0
Defringe Green Hue Lo : 40
Defringe Green Hue Hi : 60
Convert To Grayscale : False
Tone Curve Name : Medium Contrast
Tone Curve Name 2012 : Linear
Camera Profile : Adobe Standard
Lens Profile Setup : Custom
Lens Profile Name : Adobe (Nikon AF-S DX NIKKOR 18-105mm f/3.5-5.6G ED VR)
Lens Profile Filename : NIKON D90 (Nikon AF-S DX NIKKOR 18-105mm f3.5-5.6G ED VR) - RAW.lcp
Lens Profile Distortion Scale : 100
Lens Profile Chromatic Aberration Scale : 100
Lens Profile Vignetting Scale : 100
Has Settings : True
Crop Top : 0.069824
Crop Left : 0.00416
Crop Bottom : 0.998834
Crop Right : 0.803602
Crop Angle : 0.230984
Crop Constrain To Warp : 0
Has Crop : True
Already Applied : True
Creator : Randy Irving 2013
Rights : Randy Irving 2013
Tone Curve : 0, 0, 32, 22, 64, 56, 128, 128, 192, 196, 255, 255
Tone Curve Red : 0, 0, 255, 255
Tone Curve Green : 0, 0, 255, 255
Tone Curve Blue : 0, 0, 255, 255
Tone Curve PV2012 : 0, 0, 255, 255
Tone Curve PV2012 Red : 0, 0, 255, 255
Tone Curve PV2012 Green : 0, 0, 255, 255
Tone Curve PV2012 Blue : 0, 0, 255, 255
Image Width : 300
Image Height : 230
Bits Per Sample : 8
Color Components : 3
Aperture : 8.0
Image Size : 300x230
Megapixels : 0.069
Scale Factor To 35 mm Equivalent : 1.5
Shutter Speed : 1/125
Create Date : 2013:08:21 17:02:47.42
Date/Time Original : 2013:08:21 17:02:47.42
Modify Date : 2015:07:12 19:52:45.42
Circle Of Confusion : 0.020 mm
Depth Of Field : inf (12.54 m - inf)
Field Of View : 30.1 deg
Focal Length : 45.0 mm (35 mm equivalent: 67.0 mm)
Hyperfocal Distance : 12.54 m
Light Value : 12.0
Lens ID : AF-S DX VR Zoom-Nikkor 18-105mm f/3.5-5.6G ED