Uber Exif Photo
By-line : Randy Irving 2011
Copyright Notice : Randy Irving 2011
Photometric Interpretation : RGB
Make : NIKON CORPORATION
Camera Model Name : NIKON D300S
Orientation : Horizontal (normal)
Samples Per Pixel : 3
Software : Adobe Photoshop CS5 Windows
Modify Date : 2011:04:09 18:24:56
Artist : Randy Irving 2011
Copyright : Randy Irving 2011
Exposure Time : 1/125
F Number : 11.0
Exposure Program : Manual
ISO : 100
Sensitivity Type : Unknown
Date/Time Original : 2011:03:20 21:37:18
Create Date : 2011:03:20 21:37:18
Shutter Speed Value : 1/125
Aperture Value : 11.0
Exposure Compensation : 0
Max Aperture Value : 4.9
Subject Distance : 0.56 m
Metering Mode : Spot
Light Source : Flash
Flash : No Flash
Focal Length : 52.0 mm
Color Space : Uncalibrated
Exif Image Width : 1078
Exif Image Height : 882
Sensing Method : One-chip color area
Scene Type : Directly photographed
CFA Pattern : [Red,Green][Green,Blue]
Custom Rendered : Normal
Exposure Mode : Manual
White Balance : Manual
Digital Zoom Ratio : 1
Focal Length In 35mm Format : 78 mm
Scene Capture Type : Standard
Gain Control : None
Contrast : Normal
Saturation : Normal
Sharpness : Normal
Subject Distance Range : Unknown
Serial Number : 5003326
Lens Info : 18-105mm f/3.5-5.6
Lens Model : 18.0-105.0 mm f/3.5-5.6
Profile Description : Adobe RGB (1998)
Creator Tool : Adobe Photoshop CS5 Windows
Rating : 0
Format : image/jpeg
Lens : 18.0-105.0 mm f/3.5-5.6
Image Number : 18758
Approximate Focus Distance : 0.56
Raw File Name : DSC_8209.NEF
Version : 6.3
Process Version : 5.7
Color Temperature : 6200
Tint : -17
Exposure : +1.45
Shadows : 5
Brightness : +50
Luminance Smoothing : 0
Color Noise Reduction : 25
Chromatic Aberration R : 0
Chromatic Aberration B : 0
Vignette Amount : 0
Shadow Tint : 0
Red Hue : 0
Red Saturation : 0
Green Hue : 0
Green Saturation : 0
Blue Hue : 0
Blue Saturation : 0
Fill Light : 0
Vibrance : -21
Highlight Recovery : 0
Clarity : 0
Defringe : 0
Hue Adjustment Red : 0
Hue Adjustment Orange : 0
Hue Adjustment Yellow : 0
Hue Adjustment Green : 0
Hue Adjustment Aqua : 0
Hue Adjustment Blue : 0
Hue Adjustment Purple : 0
Hue Adjustment Magenta : 0
Saturation Adjustment Red : 0
Saturation Adjustment Orange : 0
Saturation Adjustment Yellow : 0
Saturation Adjustment Green : 0
Saturation Adjustment Aqua : 0
Saturation Adjustment Blue : 0
Saturation Adjustment Purple : 0
Saturation Adjustment Magenta : 0
Luminance Adjustment Red : 0
Luminance Adjustment Orange : 0
Luminance Adjustment Yellow : 0
Luminance Adjustment Green : 0
Luminance Adjustment Aqua : 0
Luminance Adjustment Blue : 0
Luminance Adjustment Purple : 0
Luminance Adjustment Magenta : 0
Split Toning Shadow Hue : 0
Split Toning Shadow Saturation : 0
Split Toning Highlight Hue : 0
Split Toning Highlight Saturation : 0
Split Toning Balance : 0
Parametric Shadows : 0
Parametric Darks : 0
Parametric Lights : 0
Parametric Highlights : 0
Parametric Shadow Split : 25
Parametric Midtone Split : 50
Parametric Highlight Split : 75
Sharpen Radius : +1.0
Sharpen Detail : 25
Sharpen Edge Masking : 0
Post Crop Vignette Amount : 0
Grain Amount : 0
Color Noise Reduction Detail : 50
Lens Profile Enable : 0
Lens Manual Distortion Amount : 0
Perspective Vertical : 0
Perspective Horizontal : 0
Perspective Rotate : 0.0
Perspective Scale : 100
Convert To Grayscale : False
Tone Curve Name : Medium Contrast
Camera Profile : Adobe Standard
Lens Profile Setup : LensDefaults
Has Settings : True
Crop Top : 0.032653
Crop Left : 0.140921
Crop Bottom : 1
Crop Right : 0.926829
Crop Angle : 0
Crop Constrain To Warp : 1
Has Crop : True
Already Applied : True
Date Created : 2011:03:20 21:37:18.008
Color Mode : RGB
ICC Profile Name : Adobe RGB (1998)
Creator : Randy Irving 2011
Rights : Randy Irving 2011
Tone Curve : 0, 0, 32, 22, 64, 56, 128, 128, 192, 196, 255, 255
Image Width : 300
Image Height : 245
Bits Per Sample : 8
Color Components : 3
Aperture : 11.0
Image Size : 300x245
Megapixels : 0.073
Scale Factor To 35 mm Equivalent : 1.5
Shutter Speed : 1/125
Create Date : 2011:03:20 21:37:18.08
Date/Time Original : 2011:03:20 21:37:18.08
Modify Date : 2011:04:09 18:24:56.08
Circle Of Confusion : 0.020 mm
Depth Of Field : 0.05 m (0.54 - 0.58 m)
Field Of View : 26.0 deg
Focal Length : 52.0 mm (35 mm equivalent: 78.0 mm)
Hyperfocal Distance : 12.27 m
Light Value : 13.9
Lens ID : AF-S DX VR Zoom-Nikkor 18-105mm f/3.5-5.6G ED