Uber Exif Photo
Photometric Interpretation : RGB
Camera Model Name : NIKON D7000
Orientation : Horizontal (normal)
Samples Per Pixel : 3
Software : Adobe Photoshop CS6 (Windows)
Modify Date : 2012:10:03 21:49:36
Exposure Time : 1/1600
F Number : 7.1
ISO : 200
Date/Time Original : 2012:08:03 17:39:08
Create Date : 2012:08:03 17:39:07
Shutter Speed Value : 1/1600
Aperture Value : 7.1
Focal Length : 16.0 mm
Color Space : sRGB
Exif Image Width : 1200
Exif Image Height : 856
Serial Number : 3223470
Lens Info : 11-16mm f/2.8
Lens Model : 11.0-16.0 mm f/2.8
Profile Description : sRGB IEC61966-2.1
Method : Details Enhancer
Strength : 100.0
Color Saturation : 54.0
Luminosity : 4.0
White Clip : 0.249550
Black Clip : 0.092450
Smoothing Mode : Slider
Smoothing : 6.0
Microcontrast : 3.9
Microsmoothing : 2.0
Gamma : 1.00
Highlights Smoothing : 0.0
Shadows Smoothing : 0.0
Shadows Clipping : 0.0
Color Temperature : 0.0
Saturation Highlights : 0.6
Saturation Shadows : -0.8
Is Pano 360 : No
Creator Tool : Adobe Photoshop CS4 Windows
Label : Red
Rating : 5
Lens : 11.0-16.0 mm f/2.8
Image Number : 21060
Date Created : 2012:08:03
Color Mode : RGB
ICC Profile Name : sRGB IEC61966-2.1
Format : image/jpeg
Version : 6.6
Process Version : 5.7
White Balance : Custom
Incremental Temperature : +6
Incremental Tint : 0
Exposure : 0.00
Shadows : 0
Brightness : 0
Contrast : 0
Saturation : +6
Sharpness : 0
Luminance Smoothing : 43
Color Noise Reduction : 0
Chromatic Aberration R : 0
Chromatic Aberration B : 0
Vignette Amount : 0
Shadow Tint : 0
Red Hue : 0
Red Saturation : 0
Green Hue : 0
Green Saturation : 0
Blue Hue : 0
Blue Saturation : 0
Fill Light : 10
Vibrance : +1
Highlight Recovery : 16
Clarity : +47
Defringe : 0
Hue Adjustment Red : 0
Hue Adjustment Orange : 0
Hue Adjustment Yellow : 0
Hue Adjustment Green : 0
Hue Adjustment Aqua : 0
Hue Adjustment Blue : 0
Hue Adjustment Purple : 0
Hue Adjustment Magenta : 0
Saturation Adjustment Red : 0
Saturation Adjustment Orange : 0
Saturation Adjustment Yellow : 0
Saturation Adjustment Green : 0
Saturation Adjustment Aqua : 0
Saturation Adjustment Blue : 0
Saturation Adjustment Purple : 0
Saturation Adjustment Magenta : 0
Luminance Adjustment Red : 0
Luminance Adjustment Orange : 0
Luminance Adjustment Yellow : 0
Luminance Adjustment Green : 0
Luminance Adjustment Aqua : 0
Luminance Adjustment Blue : 0
Luminance Adjustment Purple : 0
Luminance Adjustment Magenta : 0
Split Toning Shadow Hue : 0
Split Toning Shadow Saturation : 0
Split Toning Highlight Hue : 0
Split Toning Highlight Saturation : 0
Split Toning Balance : 0
Parametric Shadows : 0
Parametric Darks : 0
Parametric Lights : 0
Parametric Highlights : 0
Parametric Shadow Split : 25
Parametric Midtone Split : 50
Parametric Highlight Split : 75
Sharpen Radius : +1.0
Sharpen Detail : 25
Sharpen Edge Masking : 0
Post Crop Vignette Amount : 0
Grain Amount : 0
Luminance Noise Reduction Detail : 50
Luminance Noise Reduction Contrast : 0
Lens Profile Enable : 0
Lens Manual Distortion Amount : 0
Perspective Vertical : +1
Perspective Horizontal : -1
Perspective Rotate : 0.0
Perspective Scale : 100
Convert To Grayscale : False
Tone Curve Name : Custom
Camera Profile : Embedded
Lens Profile Setup : LensDefaults
Has Settings : True
Crop Top : 0.07786
Crop Left : 0.059228
Crop Bottom : 0.999589
Crop Right : 0.912782
Crop Angle : 0
Crop Constrain To Warp : 1
Crop Width : 4203
Crop Height : 3002
Crop Unit : pixels
Has Crop : True
Already Applied : True
Tone Curve : 0, 0, 46, 41, 185, 191, 255, 255
Image Width : 300
Image Height : 214
Bits Per Sample : 8
Color Components : 3
Aperture : 7.1
Image Size : 300x214
Megapixels : 0.064
Shutter Speed : 1/1600
Create Date : 2012:08:03 17:39:07.90
Light Value : 15.3
Lens ID : 11.0-16.0mm f/2.8