Uber Exif Photo
By-line : Vidal Smith Jr
Copyright Notice : Copyright ©VidalSmithJrPhotography
Copyright Flag : True
Make : NIKON CORPORATION
Camera Model Name : NIKON D90
Software : Adobe Photoshop Lightroom 4.0 (Macintosh)
Modify Date : 2012:04:23 12:43:22
Artist : Vidal Smith Jr
Copyright : Copyright ©VidalSmithJrPhotography
Exposure Time : 1/640
F Number : 18.0
Exposure Program : Aperture-priority AE
ISO : 200
Date/Time Original : 2011:02:27 07:05:15
Create Date : 2011:02:27 07:05:15
Shutter Speed Value : 1/640
Aperture Value : 18.0
Exposure Compensation : 0
Max Aperture Value : 3.7
Subject Distance : 4.22 m
Metering Mode : Multi-segment
Light Source : Unknown
Flash : No Flash
Focal Length : 22.0 mm
User Comment : A
Sensing Method : One-chip color area
Scene Type : Directly photographed
Exposure Mode : Auto
White Balance : Auto
Digital Zoom Ratio : 1
Focal Length In 35mm Format : 33 mm
Scene Capture Type : Standard
Gain Control : None
Contrast : Normal
Saturation : High
Sharpness : Hard
Subject Distance Range : Unknown
Serial Number : 3235715
Lens Info : 18-105mm f/3.5-5.6
Lens Model : 18.0-105.0 mm f/3.5-5.6
Profile Description : sRGB IEC61966-2.1
Rating : 4
Creator Tool : Adobe Photoshop Lightroom 4.0 (Macintosh)
Rating Percent : 75
Approximate Focus Distance : 4.22
Image Number : 3545
Lens : 18.0-105.0 mm f/3.5-5.6
Format : image/jpeg
Date Created : 2011:02:27 07:05:15-05:00
Marked : True
Version : 7.0
Process Version : 6.7
Incremental Temperature : 0
Incremental Tint : 0
Exposure : 0.00
Shadows : 0
Brightness : 0
Luminance Smoothing : 89
Color Noise Reduction : 0
Vignette Amount : 0
Shadow Tint : 0
Red Hue : 0
Red Saturation : 0
Green Hue : 0
Green Saturation : 0
Blue Hue : 0
Blue Saturation : 0
Fill Light : 0
Vibrance : 0
Highlight Recovery : 0
Clarity : 0
Defringe : 0
Hue Adjustment Red : 0
Hue Adjustment Orange : 0
Hue Adjustment Yellow : 0
Hue Adjustment Green : 0
Hue Adjustment Aqua : 0
Hue Adjustment Blue : 0
Hue Adjustment Purple : 0
Hue Adjustment Magenta : 0
Saturation Adjustment Red : 0
Saturation Adjustment Orange : 0
Saturation Adjustment Yellow : 0
Saturation Adjustment Green : 0
Saturation Adjustment Aqua : 0
Saturation Adjustment Blue : +56
Saturation Adjustment Purple : 0
Saturation Adjustment Magenta : 0
Luminance Adjustment Red : 0
Luminance Adjustment Orange : 0
Luminance Adjustment Yellow : 0
Luminance Adjustment Green : 0
Luminance Adjustment Aqua : 0
Luminance Adjustment Blue : 0
Luminance Adjustment Purple : 0
Luminance Adjustment Magenta : 0
Split Toning Shadow Hue : 0
Split Toning Shadow Saturation : 0
Split Toning Highlight Hue : 0
Split Toning Highlight Saturation : 0
Split Toning Balance : 0
Parametric Shadows : 0
Parametric Darks : 0
Parametric Lights : 0
Parametric Highlights : 0
Parametric Shadow Split : 25
Parametric Midtone Split : 50
Parametric Highlight Split : 75
Sharpen Radius : +1.0
Sharpen Detail : 25
Sharpen Edge Masking : 0
Post Crop Vignette Amount : 0
Grain Amount : 0
Luminance Noise Reduction Detail : 50
Luminance Noise Reduction Contrast : 0
Lens Profile Enable : 0
Lens Manual Distortion Amount : 0
Perspective Vertical : 0
Perspective Horizontal : 0
Perspective Rotate : 0.0
Perspective Scale : 100
Auto Lateral CA : 0
Exposure 2012 : +0.20
Contrast 2012 : 0
Highlights 2012 : -73
Shadows 2012 : +18
Whites 2012 : 0
Blacks 2012 : 0
Clarity 2012 : +40
Convert To Grayscale : False
Tone Curve Name : Linear
Tone Curve Name 2012 : Linear
Camera Profile : Embedded
Lens Profile Setup : LensDefaults
Has Settings : True
Has Crop : False
Already Applied : True
Creator : Vidal Smith Jr
Rights : Copyright ©VidalSmithJrPhotography
Usage Terms : No reproduction of any kind without prior consent
Creator City : Port Antonio
Creator Country : Jamaica
Creator Address : PO Box 201
Creator Region : Portland
Creator Work Email : vidal.smith.jr@gmail.com
Creator Work Telephone : 876 383 1472
Creator Work URL : www.vidalsmithjrphotography.com
Tone Curve : 0, 0, 255, 255
Tone Curve Red : 0, 0, 255, 255
Tone Curve Green : 0, 0, 255, 255
Tone Curve Blue : 0, 0, 255, 255
Tone Curve PV2012 : 0, 0, 255, 255
Tone Curve PV2012 Red : 0, 0, 255, 255
Tone Curve PV2012 Green : 0, 0, 255, 255
Tone Curve PV2012 Blue : 0, 0, 255, 255
Image Width : 300
Image Height : 180
Bits Per Sample : 8
Color Components : 3
Aperture : 18.0
Image Size : 300x180
Megapixels : 0.054
Scale Factor To 35 mm Equivalent : 1.5
Shutter Speed : 1/640
Create Date : 2011:02:27 07:05:15.00
Circle Of Confusion : 0.020 mm
Depth Of Field : inf (1.02 m - inf)
Field Of View : 57.2 deg
Focal Length : 22.0 mm (35 mm equivalent: 33.0 mm)
Hyperfocal Distance : 1.34 m
Light Value : 16.7
Lens ID : AF-S DX VR Zoom-Nikkor 18-105mm f/3.5-5.6G ED