Uber Exif Photo
Photometric Interpretation : RGB
Make : NIKON CORPORATION
Camera Model Name : NIKON D90
Orientation : Horizontal (normal)
Samples Per Pixel : 3
Planar Configuration : Chunky
Software : Adobe Photoshop CS5 Macintosh
Modify Date : 2011:02:14 13:26:59
Exposure Time : 1/20
F Number : 11.0
Exposure Program : Aperture-priority AE
ISO : 200
Date/Time Original : 2011:02:13 14:55:52
Create Date : 2011:02:13 14:55:52
Shutter Speed Value : 1/20
Aperture Value : 11.0
Exposure Compensation : 0
Max Aperture Value : 4.0
Subject Distance : 4.22 m
Metering Mode : Multi-segment
Light Source : Unknown
Flash : No Flash
Focal Length : 26.0 mm
User Comment : (c)VidalSmithJr
Color Space : Uncalibrated
Exif Image Width : 1000
Exif Image Height : 800
Sensing Method : One-chip color area
Scene Type : Directly photographed
CFA Pattern : [Green,Blue][Red,Green]
Custom Rendered : Normal
Exposure Mode : Auto
White Balance : Auto
Digital Zoom Ratio : 1
Focal Length In 35mm Format : 39 mm
Scene Capture Type : Standard
Gain Control : None
Contrast : Normal
Saturation : High
Sharpness : Hard
Subject Distance Range : Unknown
Profile Description : Adobe RGB (1998)
Creator Tool : Adobe Photoshop CS5 Macintosh
Rating : 0
Serial Number : 3235715
Lens Info : 18-105mm f/3.5-5.6
Lens : 18.0-105.0 mm f/3.5-5.6
Image Number : 3440
Raw File Name : DSC_0049.NEF
Version : 6.0
Process Version : 5.7
Color Temperature : 5200
Tint : +8
Exposure : 0.00
Shadows : 9
Brightness : +50
Luminance Smoothing : 0
Color Noise Reduction : 49
Chromatic Aberration R : 0
Chromatic Aberration B : 0
Vignette Amount : 0
Shadow Tint : 0
Red Hue : 0
Red Saturation : 0
Green Hue : 0
Green Saturation : 0
Blue Hue : 0
Blue Saturation : 0
Fill Light : 0
Vibrance : 0
Highlight Recovery : 0
Clarity : +20
Defringe : 0
Hue Adjustment Red : 0
Hue Adjustment Orange : 0
Hue Adjustment Yellow : 0
Hue Adjustment Green : 0
Hue Adjustment Aqua : 0
Hue Adjustment Blue : 0
Hue Adjustment Purple : 0
Hue Adjustment Magenta : 0
Saturation Adjustment Red : 0
Saturation Adjustment Orange : 0
Saturation Adjustment Yellow : 0
Saturation Adjustment Green : 0
Saturation Adjustment Aqua : 0
Saturation Adjustment Blue : 0
Saturation Adjustment Purple : 0
Saturation Adjustment Magenta : 0
Luminance Adjustment Red : 0
Luminance Adjustment Orange : 0
Luminance Adjustment Yellow : 0
Luminance Adjustment Green : 0
Luminance Adjustment Aqua : 0
Luminance Adjustment Blue : 0
Luminance Adjustment Purple : 0
Luminance Adjustment Magenta : 0
Split Toning Shadow Hue : 0
Split Toning Shadow Saturation : 0
Split Toning Highlight Hue : 0
Split Toning Highlight Saturation : 0
Split Toning Balance : 0
Parametric Shadows : 0
Parametric Darks : 0
Parametric Lights : 0
Parametric Highlights : +24
Parametric Shadow Split : 25
Parametric Midtone Split : 50
Parametric Highlight Split : 75
Sharpen Radius : +1.4
Sharpen Detail : 36
Sharpen Edge Masking : 0
Post Crop Vignette Amount : 0
Grain Amount : 0
Color Noise Reduction Detail : 45
Convert To Grayscale : False
Tone Curve Name : Medium Contrast
Camera Profile : Adobe Standard
Has Settings : True
Has Crop : False
Already Applied : True
Format : image/jpeg
Color Mode : RGB
ICC Profile Name : Adobe RGB (1998)
Date Created : 2011:02:13 14:55:52
Tone Curve : 0, 0, 32, 22, 64, 56, 128, 128, 192, 196, 255, 255
Image Width : 300
Image Height : 240
Bits Per Sample : 8
Color Components : 3
Aperture : 11.0
Image Size : 300x240
Megapixels : 0.072
Scale Factor To 35 mm Equivalent : 1.5
Shutter Speed : 1/20
Create Date : 2011:02:13 14:55:52.00
Date/Time Original : 2011:02:13 14:55:52.00
Circle Of Confusion : 0.020 mm
Depth Of Field : inf (1.78 m - inf)
Field Of View : 49.6 deg
Focal Length : 26.0 mm (35 mm equivalent: 39.0 mm)
Hyperfocal Distance : 3.07 m
Light Value : 10.2
Lens ID : AF-S DX VR Zoom-Nikkor 18-105mm f/3.5-5.6G ED