Uber Exif Photo
Keywords : Cumbria, Lake District, Langdale
Make : NIKON CORPORATION
Camera Model Name : NIKON D300
Software : Ver.1.00
Modify Date : 2011:09:19 19:49:20
Exposure Time : 1/500
F Number : 5.6
Exposure Program : Aperture-priority AE
ISO : 400
Date/Time Original : 2009:04:19 14:08:59
Create Date : 2009:04:19 14:08:59
Shutter Speed Value : 1/500
Aperture Value : 5.6
Exposure Compensation : 0
Max Aperture Value : 4.0
Subject Distance : 3.55 m
Metering Mode : Multi-segment
Light Source : Unknown
Focal Length : 10.0 mm
User Comment : Copyright 2008 Alan E Jones
Sensing Method : One-chip color area
Scene Type : Directly photographed
CFA Pattern : [Red,Green][Green,Blue]
Custom Rendered : Normal
Exposure Mode : Auto
White Balance : Auto
Digital Zoom Ratio : 1
Focal Length In 35mm Format : 15 mm
Scene Capture Type : Standard
Gain Control : Low gain up
Contrast : Normal
Saturation : High
Sharpness : Normal
Subject Distance Range : Unknown
Profile Description : sRGB IEC61966-2.1
Date/Time Digitized : 2009:04:19 14:08:59.08+01:00
Exif Image Width : 3000
Exif Image Height : 839
Creator Tool : Adobe Photoshop Lightroom
Label : Red
Serial Number : 8009146
Lens Info : 10-20mm f/4-5.6
Lens : 10.0-20.0 mm f/4.0-5.6
Image Number : 3282
Version : 5.7
Color Temperature : 5500
Tint : +3
Exposure : -0.67
Shadows : 5
Brightness : +50
Luminance Smoothing : 0
Color Noise Reduction : 25
Chromatic Aberration R : 0
Chromatic Aberration B : 0
Vignette Amount : 0
Shadow Tint : 0
Red Hue : 0
Red Saturation : 0
Green Hue : 0
Green Saturation : +44
Blue Hue : 0
Blue Saturation : +42
Fill Light : 0
Vibrance : 0
Highlight Recovery : 0
Clarity : +48
Defringe : 0
Hue Adjustment Red : 0
Hue Adjustment Orange : 0
Hue Adjustment Yellow : 0
Hue Adjustment Green : 0
Hue Adjustment Aqua : 0
Hue Adjustment Blue : 0
Hue Adjustment Purple : 0
Hue Adjustment Magenta : 0
Saturation Adjustment Red : 0
Saturation Adjustment Orange : +66
Saturation Adjustment Yellow : 0
Saturation Adjustment Green : +60
Saturation Adjustment Aqua : 0
Saturation Adjustment Blue : +73
Saturation Adjustment Purple : 0
Saturation Adjustment Magenta : 0
Luminance Adjustment Red : 0
Luminance Adjustment Orange : 0
Luminance Adjustment Yellow : 0
Luminance Adjustment Green : 0
Luminance Adjustment Aqua : 0
Luminance Adjustment Blue : 0
Luminance Adjustment Purple : 0
Luminance Adjustment Magenta : 0
Split Toning Shadow Hue : 0
Split Toning Shadow Saturation : 0
Split Toning Highlight Hue : 0
Split Toning Highlight Saturation : 0
Split Toning Balance : 0
Parametric Shadows : 0
Parametric Darks : 0
Parametric Lights : 0
Parametric Highlights : 0
Parametric Shadow Split : 25
Parametric Midtone Split : 50
Parametric Highlight Split : 75
Sharpen Radius : +1.0
Sharpen Detail : 25
Sharpen Edge Masking : 0
Post Crop Vignette Amount : 0
Convert To Grayscale : False
Tone Curve Name : Strong Contrast
Camera Profile : Camera Vivid
Has Settings : True
Crop Top : 0.238095
Crop Left : 0
Crop Bottom : 0.659341
Crop Right : 1
Crop Angle : 0
Crop Width : 3000
Crop Height : 839
Crop Unit : pixels
Has Crop : True
Already Applied : True
Flash Fired : False
Flash Return : No return detection
Flash Mode : Unknown
Flash Function : False
Flash Red Eye Mode : False
Subject : Cumbria, Lake District, Langdale
Tone Curve : 0, 0, 32, 16, 64, 50, 128, 128, 192, 202, 255, 255
Image Width : 300
Image Height : 84
Bits Per Sample : 8
Color Components : 3
Aperture : 5.6
Image Size : 300x84
Megapixels : 0.025
Scale Factor To 35 mm Equivalent : 1.5
Shutter Speed : 1/500
Create Date : 2009:04:19 14:08:59.08
Date/Time Original : 2009:04:19 14:08:59.08
Flash : No Flash
Circle Of Confusion : 0.020 mm
Depth Of Field : inf (0.71 m - inf)
Field Of View : 100.4 deg
Focal Length : 10.0 mm (35 mm equivalent: 15.0 mm)
Hyperfocal Distance : 0.89 m
Light Value : 11.9
Lens ID : Sigma 10-20mm F4-5.6 EX DC HSM