Uber Exif Photo
Keywords : BTCC, Touring Cars
Copyright Notice : Alan E Jones
Copyright Flag : True
Make : NIKON CORPORATION
Camera Model Name : NIKON D300
Orientation : Horizontal (normal)
Software : Adobe Photoshop CS5 Windows
Modify Date : 2011:11:17 21:49:38
Copyright : Alan E Jones
Exposure Time : 1/640
F Number : 5.6
Exposure Program : Aperture-priority AE
ISO : 200
Date/Time Original : 2008:07:26 14:39:50
Create Date : 2008:07:26 14:39:50
Shutter Speed Value : 1/640
Aperture Value : 5.6
Exposure Compensation : 0
Max Aperture Value : 5.1
Subject Distance : 15 m
Metering Mode : Multi-segment
Light Source : Unknown
Flash : No Flash
Focal Length : 82.0 mm
User Comment : Copyright 2008 Alan E Jones
Color Space : Uncalibrated
Exif Image Width : 794
Exif Image Height : 238
Sensing Method : One-chip color area
Scene Type : Directly photographed
CFA Pattern : [Red,Green][Green,Blue]
Custom Rendered : Normal
Exposure Mode : Auto
White Balance : Auto
Digital Zoom Ratio : 1
Focal Length In 35mm Format : 123 mm
Scene Capture Type : Standard
Gain Control : None
Contrast : Normal
Saturation : High
Sharpness : Normal
Subject Distance Range : Unknown
Creator Tool : Ver.1.00
Rating : 0
Serial Number : 8009146
Lens Info : 18-200mm f/3.5-5.6
Lens : 18.0-200.0 mm f/3.5-5.6
Image Number : 1693
Marked : True
Format : image/jpeg
Color Mode : RGB
ICC Profile Name : ProPhoto RGB
Date Created : 2008:07:26 14:39:50.008
Raw File Name : Oulton Park-34.DNG
Version : 6.0
Process Version : 5.0
Color Temperature : 5100
Tint : +1
Exposure : 0.00
Shadows : 0
Brightness : +50
Luminance Smoothing : 0
Color Noise Reduction : 25
Chromatic Aberration R : 0
Chromatic Aberration B : 0
Vignette Amount : 0
Shadow Tint : 0
Red Hue : 0
Red Saturation : +38
Green Hue : 0
Green Saturation : 0
Blue Hue : 0
Blue Saturation : +52
Fill Light : 0
Highlight Recovery : 39
Clarity : +51
Defringe : 0
Gray Mixer Red : -39
Gray Mixer Orange : -19
Gray Mixer Yellow : -30
Gray Mixer Green : -62
Gray Mixer Aqua : -17
Gray Mixer Blue : -17
Gray Mixer Purple : +17
Gray Mixer Magenta : +4
Split Toning Shadow Hue : 0
Split Toning Shadow Saturation : 0
Split Toning Highlight Hue : 0
Split Toning Highlight Saturation : 0
Split Toning Balance : 0
Parametric Shadows : 0
Parametric Darks : 0
Parametric Lights : 0
Parametric Highlights : 0
Parametric Shadow Split : 25
Parametric Midtone Split : 50
Parametric Highlight Split : 75
Sharpen Radius : +1.0
Sharpen Detail : 25
Sharpen Edge Masking : 0
Post Crop Vignette Amount : 0
Grain Amount : 0
Convert To Grayscale : True
Tone Curve Name : Strong Contrast
Camera Profile : Camera Vivid
Has Settings : True
Crop Top : 0.389742
Crop Left : 0
Crop Bottom : 0.832083
Crop Right : 0.998207
Crop Angle : 0
Has Crop : True
Already Applied : True
Usage Terms : No usage without prior written consent.
Creator Work Email : alanejones@hotmail.com
Rights : Alan E Jones
Subject : BTCC, Touring Cars
Hierarchical Subject : BTCC, Touring Cars
Tone Curve : 0, 0, 32, 16, 64, 50, 128, 128, 192, 202, 255, 255
Image Width : 300
Image Height : 90
Bits Per Sample : 8
Color Components : 1
Aperture : 5.6
Image Size : 300x90
Megapixels : 0.027
Scale Factor To 35 mm Equivalent : 1.5
Shutter Speed : 1/640
Create Date : 2008:07:26 14:39:50.08
Date/Time Original : 2008:07:26 14:39:50.08
Modify Date : 2011:11:17 21:49:38.08
Circle Of Confusion : 0.020 mm
Depth Of Field : 7.96 m (12.01 - 19.97 m)
Field Of View : 16.7 deg
Focal Length : 82.0 mm (35 mm equivalent: 123.0 mm)
Hyperfocal Distance : 59.94 m
Light Value : 13.3
Lens ID : AF-S DX VR Zoom-Nikkor 18-200mm f/3.5-5.6G IF-ED or AF-S DX VR Zoom-Nikkor 18-200mm f/3.5-5.6G IF-ED [II]