Uber Exif Photo
Keywords : 2009, Avro Vulcan, Fighters, Jets, Military Aircraft, RAF, RAF Cosford Air Show, RAF Cosford Air Show.2009, Vulcan, XH558
By-line : Alan EJjones
Copyright Notice : Alan E Jones 2009
Copyright Flag : True
Make : NIKON CORPORATION
Camera Model Name : NIKON D300
Software : Ver.1.00
Modify Date : 2011:01:22 22:03:02
Artist : Alan EJjones
Copyright : Alan E Jones 2009
Exposure Time : 1/800
F Number : 4.8
Exposure Program : Aperture-priority AE
ISO : 200
Date/Time Original : 2009:06:14 18:22:18
Create Date : 2009:06:14 18:22:18
Shutter Speed Value : 1/800
Aperture Value : 4.8
Exposure Compensation : 0
Max Aperture Value : 4.8
Subject Distance : 4294967295 m
Metering Mode : Multi-segment
Light Source : Unknown
Focal Length : 130.0 mm
User Comment : Copyright 2008 Alan E Jones
Sensing Method : One-chip color area
Scene Type : Directly photographed
CFA Pattern : [Red,Green][Green,Blue]
Custom Rendered : Normal
Exposure Mode : Auto
White Balance : Auto
Digital Zoom Ratio : 1
Focal Length In 35mm Format : 195 mm
Scene Capture Type : Standard
Gain Control : None
Contrast : Normal
Saturation : High
Sharpness : Normal
Subject Distance Range : Unknown
Profile Description : sRGB IEC61966-2.1
Date/Time Digitized : 2009:06:14 18:22:18.55+01:00
Exif Image Width : 2723
Exif Image Height : 2848
Creator Tool : Adobe Photoshop Lightroom
Serial Number : 8009146
Lens Info : 70-200mm f/2.8
Lens : 70.0-200.0 mm f/2.8
Image Number : 4613
Marked : True
Version : 5.7
Color Temperature : 6050
Tint : -3
Exposure : 0.00
Shadows : 5
Brightness : +50
Luminance Smoothing : 0
Color Noise Reduction : 25
Chromatic Aberration R : 0
Chromatic Aberration B : 0
Vignette Amount : 0
Shadow Tint : 0
Red Hue : 0
Red Saturation : 0
Green Hue : 0
Green Saturation : 0
Blue Hue : 0
Blue Saturation : +37
Fill Light : 0
Vibrance : 0
Highlight Recovery : 0
Clarity : +26
Defringe : 0
Hue Adjustment Red : 0
Hue Adjustment Orange : 0
Hue Adjustment Yellow : 0
Hue Adjustment Green : 0
Hue Adjustment Aqua : 0
Hue Adjustment Blue : 0
Hue Adjustment Purple : 0
Hue Adjustment Magenta : 0
Saturation Adjustment Red : 0
Saturation Adjustment Orange : 0
Saturation Adjustment Yellow : 0
Saturation Adjustment Green : 0
Saturation Adjustment Aqua : 0
Saturation Adjustment Blue : +29
Saturation Adjustment Purple : 0
Saturation Adjustment Magenta : 0
Luminance Adjustment Red : 0
Luminance Adjustment Orange : 0
Luminance Adjustment Yellow : 0
Luminance Adjustment Green : 0
Luminance Adjustment Aqua : 0
Luminance Adjustment Blue : 0
Luminance Adjustment Purple : 0
Luminance Adjustment Magenta : 0
Split Toning Shadow Hue : 0
Split Toning Shadow Saturation : 0
Split Toning Highlight Hue : 0
Split Toning Highlight Saturation : 0
Split Toning Balance : 0
Parametric Shadows : 0
Parametric Darks : 0
Parametric Lights : 0
Parametric Highlights : 0
Parametric Shadow Split : 25
Parametric Midtone Split : 50
Parametric Highlight Split : 75
Sharpen Radius : +1.0
Sharpen Detail : 25
Sharpen Edge Masking : 0
Post Crop Vignette Amount : 0
Convert To Grayscale : False
Tone Curve Name : Medium Contrast
Camera Profile : Camera Vivid
Has Settings : True
Crop Top : 0
Crop Left : 0.092457
Crop Bottom : 1
Crop Right : 0.727494
Crop Angle : 0
Crop Width : 2723
Crop Height : 2848
Crop Unit : pixels
Has Crop : True
Already Applied : True
Flash Fired : False
Flash Return : No return detection
Flash Mode : Unknown
Flash Function : False
Flash Red Eye Mode : False
Creator City : Liverpool
Creator Work Email : alanejones@hotmail.com
Usage Terms : No usage without prior written consent
Creator : Alan EJjones
Rights : Alan E Jones 2009
Subject : 2009, Avro Vulcan, Fighters, Jets, Military Aircraft, RAF, RAF Cosford Air Show, RAF Cosford Air Show.2009, Vulcan, XH558
Tone Curve : 0, 0, 32, 22, 64, 56, 128, 128, 192, 196, 255, 255
Image Width : 287
Image Height : 300
Bits Per Sample : 8
Color Components : 3
Aperture : 4.8
Image Size : 287x300
Megapixels : 0.086
Scale Factor To 35 mm Equivalent : 1.5
Shutter Speed : 1/800
Create Date : 2009:06:14 18:22:18.55
Date/Time Original : 2009:06:14 18:22:18.55
Flash : No Flash
Circle Of Confusion : 0.020 mm
Depth Of Field : inf (175.77 m - inf)
Field Of View : 10.5 deg
Focal Length : 130.0 mm (35 mm equivalent: 195.0 mm)
Hyperfocal Distance : 175.77 m
Light Value : 13.2
Lens ID : AF-S VR Zoom-Nikkor 70-200mm f/2.8G IF-ED