Uber Exif Photo
Keywords : Fairford, General Dynamics, Military Aircraft, RIAT 2010
By-line : Copyright_AlanEJones_2010
Copyright Flag : True
Make : NIKON CORPORATION
Camera Model Name : NIKON D300
Software : Ver.1.10
Modify Date : 2011:01:19 20:24:53
Artist : Copyright_AlanEJones_2010
Exposure Time : 1/1000
F Number : 8.0
Exposure Program : Aperture-priority AE
ISO : 200
Date/Time Original : 2010:07:17 11:34:58
Create Date : 2010:07:17 11:34:58
Shutter Speed Value : 1/1000
Aperture Value : 8.0
Exposure Compensation : 0
Max Aperture Value : 4.8
Subject Distance : 4294967295 m
Metering Mode : Spot
Light Source : Unknown
Focal Length : 340.0 mm
User Comment : Copyright 2008 Alan E Jones
Sensing Method : One-chip color area
Scene Type : Directly photographed
CFA Pattern : [Red,Green][Green,Blue]
Custom Rendered : Normal
Exposure Mode : Auto
White Balance : Auto
Digital Zoom Ratio : 1
Focal Length In 35mm Format : 510 mm
Scene Capture Type : Standard
Gain Control : None
Contrast : Normal
Saturation : Normal
Sharpness : Normal
Subject Distance Range : Unknown
Profile Description : sRGB IEC61966-2.1
Date/Time Digitized : 2010:07:17 11:34:58.08+01:00
Exif Image Width : 2830
Exif Image Height : 1458
Creator Tool : Adobe Photoshop Lightroom
Rating : 5
Serial Number : 8009146
Lens Info : 70-200mm f/2.8
Lens : 70.0-200.0 mm f/2.8
Image Number : 7191
Marked : True
Version : 5.7
Color Temperature : 5600
Tint : +9
Exposure : 0.00
Shadows : 5
Brightness : +59
Luminance Smoothing : 0
Color Noise Reduction : 25
Chromatic Aberration R : 0
Chromatic Aberration B : 0
Vignette Amount : 0
Shadow Tint : 0
Red Hue : 0
Red Saturation : 0
Green Hue : 0
Green Saturation : 0
Blue Hue : 0
Blue Saturation : 0
Fill Light : 10
Vibrance : +28
Highlight Recovery : 10
Clarity : +51
Defringe : 0
Hue Adjustment Red : 0
Hue Adjustment Orange : 0
Hue Adjustment Yellow : 0
Hue Adjustment Green : 0
Hue Adjustment Aqua : 0
Hue Adjustment Blue : 0
Hue Adjustment Purple : 0
Hue Adjustment Magenta : 0
Saturation Adjustment Red : 0
Saturation Adjustment Orange : 0
Saturation Adjustment Yellow : 0
Saturation Adjustment Green : 0
Saturation Adjustment Aqua : 0
Saturation Adjustment Blue : 0
Saturation Adjustment Purple : 0
Saturation Adjustment Magenta : 0
Luminance Adjustment Red : 0
Luminance Adjustment Orange : 0
Luminance Adjustment Yellow : 0
Luminance Adjustment Green : 0
Luminance Adjustment Aqua : 0
Luminance Adjustment Blue : 0
Luminance Adjustment Purple : 0
Luminance Adjustment Magenta : 0
Split Toning Shadow Hue : 0
Split Toning Shadow Saturation : 0
Split Toning Highlight Hue : 0
Split Toning Highlight Saturation : 0
Split Toning Balance : 0
Parametric Shadows : 0
Parametric Darks : 0
Parametric Lights : 0
Parametric Highlights : 0
Parametric Shadow Split : 25
Parametric Midtone Split : 50
Parametric Highlight Split : 75
Sharpen Radius : +1.0
Sharpen Detail : 25
Sharpen Edge Masking : 0
Post Crop Vignette Amount : 0
Convert To Grayscale : False
Tone Curve Name : Strong Contrast
Camera Profile : Camera Vivid
Has Settings : True
Crop Top : 0.221557
Crop Left : 0.170974
Crop Bottom : 0.733533
Crop Right : 0.831014
Crop Angle : 0
Crop Width : 2830
Crop Height : 1458
Crop Unit : pixels
Has Crop : True
Already Applied : True
Flash Fired : False
Flash Return : No return detection
Flash Mode : Unknown
Flash Function : False
Flash Red Eye Mode : False
Creator : Copyright_AlanEJones_2010
Subject : Fairford, General Dynamics, Military Aircraft, RIAT 2010
Tone Curve : 0, 0, 32, 16, 64, 50, 128, 128, 192, 202, 255, 255
Image Width : 300
Image Height : 155
Bits Per Sample : 8
Color Components : 3
Aperture : 8.0
Image Size : 300x155
Megapixels : 0.046
Scale Factor To 35 mm Equivalent : 1.5
Shutter Speed : 1/1000
Create Date : 2010:07:17 11:34:58.08
Date/Time Original : 2010:07:17 11:34:58.08
Flash : No Flash
Circle Of Confusion : 0.020 mm
Depth Of Field : inf (721.39 m - inf)
Field Of View : 4.0 deg
Focal Length : 340.0 mm (35 mm equivalent: 510.0 mm)
Hyperfocal Distance : 721.39 m
Light Value : 15.0
Lens ID : AF-S VR Zoom-Nikkor 70-200mm f/2.8G IF-ED