Uber Exif Photo
Make : NIKON CORPORATION
Camera Model Name : NIKON D300
Software : Ver.1.00
Modify Date : 2011:01:15 22:11:07
Exposure Time : 1/1000
F Number : 4.8
Exposure Program : Shutter speed priority AE
ISO : 320
Date/Time Original : 2009:06:14 11:26:50
Create Date : 2009:06:14 11:26:50
Shutter Speed Value : 1/1000
Aperture Value : 4.8
Exposure Compensation : 0
Max Aperture Value : 4.8
Subject Distance : 11.9 m
Metering Mode : Multi-segment
Light Source : Unknown
Focal Length : 145.0 mm
User Comment : Copyright 2008 Alan E Jones
Sensing Method : One-chip color area
Scene Type : Directly photographed
CFA Pattern : [Red,Green][Green,Blue]
Custom Rendered : Normal
Exposure Mode : Auto
White Balance : Auto
Digital Zoom Ratio : 1
Focal Length In 35mm Format : 217 mm
Scene Capture Type : Standard
Gain Control : None
Contrast : Normal
Saturation : High
Sharpness : Normal
Subject Distance Range : Unknown
Profile Description : sRGB IEC61966-2.1
Date/Time Digitized : 2009:06:14 11:26:50.00+01:00
Exif Image Width : 4288
Exif Image Height : 2848
Creator Tool : Adobe Photoshop Lightroom
Serial Number : 8009146
Lens Info : 70-200mm f/2.8
Lens : 70.0-200.0 mm f/2.8
Image Number : 3485
Version : 5.7
Color Temperature : 5000
Tint : +9
Exposure : -0.40
Shadows : 0
Brightness : +50
Luminance Smoothing : 0
Color Noise Reduction : 25
Chromatic Aberration R : 0
Chromatic Aberration B : 0
Vignette Amount : 0
Shadow Tint : 0
Red Hue : 0
Red Saturation : 0
Green Hue : 0
Green Saturation : 0
Blue Hue : 0
Blue Saturation : 0
Fill Light : 0
Vibrance : 0
Highlight Recovery : 18
Clarity : +46
Defringe : 0
Hue Adjustment Red : 0
Hue Adjustment Orange : 0
Hue Adjustment Yellow : 0
Hue Adjustment Green : 0
Hue Adjustment Aqua : 0
Hue Adjustment Blue : 0
Hue Adjustment Purple : 0
Hue Adjustment Magenta : 0
Saturation Adjustment Red : 0
Saturation Adjustment Orange : 0
Saturation Adjustment Yellow : 0
Saturation Adjustment Green : 0
Saturation Adjustment Aqua : 0
Saturation Adjustment Blue : 0
Saturation Adjustment Purple : 0
Saturation Adjustment Magenta : 0
Luminance Adjustment Red : 0
Luminance Adjustment Orange : 0
Luminance Adjustment Yellow : 0
Luminance Adjustment Green : 0
Luminance Adjustment Aqua : 0
Luminance Adjustment Blue : 0
Luminance Adjustment Purple : 0
Luminance Adjustment Magenta : 0
Split Toning Shadow Hue : 0
Split Toning Shadow Saturation : 0
Split Toning Highlight Hue : 0
Split Toning Highlight Saturation : 0
Split Toning Balance : 0
Parametric Shadows : 0
Parametric Darks : 0
Parametric Lights : 0
Parametric Highlights : 0
Parametric Shadow Split : 25
Parametric Midtone Split : 50
Parametric Highlight Split : 75
Sharpen Radius : +1.0
Sharpen Detail : 25
Sharpen Edge Masking : 0
Post Crop Vignette Amount : 0
Convert To Grayscale : False
Tone Curve Name : Strong Contrast
Camera Profile : Camera Vivid
Has Settings : True
Has Crop : False
Already Applied : True
Flash Fired : False
Flash Return : No return detection
Flash Mode : Unknown
Flash Function : False
Flash Red Eye Mode : False
Tone Curve : 0, 0, 32, 16, 64, 50, 128, 128, 192, 202, 255, 255
Image Width : 300
Image Height : 199
Bits Per Sample : 8
Color Components : 3
Aperture : 4.8
Image Size : 300x199
Megapixels : 0.060
Scale Factor To 35 mm Equivalent : 1.5
Shutter Speed : 1/1000
Create Date : 2009:06:14 11:26:50.00
Date/Time Original : 2009:06:14 11:26:50.00
Flash : No Flash
Circle Of Confusion : 0.020 mm
Depth Of Field : 1.29 m (11.29 - 12.58 m)
Field Of View : 9.5 deg
Focal Length : 145.0 mm (35 mm equivalent: 217.0 mm)
Hyperfocal Distance : 218.17 m
Light Value : 12.8
Lens ID : AF-S VR Zoom-Nikkor 70-200mm f/2.8G IF-ED