Uber Exif Photo
Copyright Notice : Alan E Jones
Copyright Flag : True
Make : NIKON CORPORATION
Camera Model Name : NIKON D300
Software : Ver.1.00
Modify Date : 2010:03:07 19:47:40
Copyright : Alan E Jones
Exposure Time : 1/80
F Number : 5.0
Exposure Program : Aperture-priority AE
ISO : 200
Date/Time Original : 2008:07:11 10:49:27
Create Date : 2008:07:11 10:49:27
Shutter Speed Value : 1/80
Aperture Value : 5.0
Exposure Compensation : 0
Max Aperture Value : 4.0
Subject Distance : 3.55 m
Metering Mode : Multi-segment
Light Source : Unknown
Focal Length : 10.0 mm
User Comment : Copyright 2008 Alan E Jones
Sensing Method : One-chip color area
Scene Type : Directly photographed
CFA Pattern : [Red,Green][Green,Blue]
Custom Rendered : Normal
Exposure Mode : Auto
White Balance : Auto
Digital Zoom Ratio : 1
Focal Length In 35mm Format : 15 mm
Scene Capture Type : Standard
Gain Control : None
Contrast : Normal
Saturation : High
Sharpness : Normal
Subject Distance Range : Unknown
Profile Description : sRGB IEC61966-2.1
Date/Time Digitized : 2008:07:11 10:49:27.68+01:00
Exif Image Width : 664
Exif Image Height : 1000
Creator Tool : Adobe Photoshop Lightroom
Rating : 5
Serial Number : 8009146
Lens Info : 10-20mm f/4-5.6
Lens : 10.0-20.0 mm f/4.0-5.6
Image Number : 1437
Marked : True
Version : 5.6
Color Temperature : 3950
Tint : -5
Exposure : -1.52
Shadows : 0
Brightness : +50
Luminance Smoothing : 0
Color Noise Reduction : 25
Chromatic Aberration R : 0
Chromatic Aberration B : 0
Vignette Amount : 0
Shadow Tint : 0
Red Hue : 0
Red Saturation : 0
Green Hue : 0
Green Saturation : 0
Blue Hue : 0
Blue Saturation : 0
Fill Light : 67
Vibrance : 0
Highlight Recovery : 90
Clarity : 0
Defringe : 0
Hue Adjustment Red : 0
Hue Adjustment Orange : 0
Hue Adjustment Yellow : 0
Hue Adjustment Green : 0
Hue Adjustment Aqua : 0
Hue Adjustment Blue : 0
Hue Adjustment Purple : 0
Hue Adjustment Magenta : 0
Saturation Adjustment Red : 0
Saturation Adjustment Orange : 0
Saturation Adjustment Yellow : 0
Saturation Adjustment Green : 0
Saturation Adjustment Aqua : 0
Saturation Adjustment Blue : 0
Saturation Adjustment Purple : 0
Saturation Adjustment Magenta : 0
Luminance Adjustment Red : 0
Luminance Adjustment Orange : 0
Luminance Adjustment Yellow : 0
Luminance Adjustment Green : 0
Luminance Adjustment Aqua : 0
Luminance Adjustment Blue : 0
Luminance Adjustment Purple : 0
Luminance Adjustment Magenta : 0
Split Toning Shadow Hue : 0
Split Toning Shadow Saturation : 0
Split Toning Highlight Hue : 0
Split Toning Highlight Saturation : 0
Split Toning Balance : 0
Parametric Shadows : 0
Parametric Darks : 0
Parametric Lights : 0
Parametric Highlights : 0
Parametric Shadow Split : 25
Parametric Midtone Split : 50
Parametric Highlight Split : 75
Sharpen Radius : +1.0
Sharpen Detail : 25
Sharpen Edge Masking : 0
Post Crop Vignette Amount : 0
Convert To Grayscale : False
Tone Curve Name : Medium Contrast
Camera Profile : Camera Vivid
Has Settings : True
Has Crop : False
Already Applied : True
Flash Fired : False
Flash Return : No return detection
Flash Mode : Unknown
Flash Function : False
Flash Red Eye Mode : False
Usage Terms : No usage without prior written consent.
Creator Work Email : alanejones@hotmail.com
Rights : Alan E Jones
Tone Curve : 0, 0, 32, 22, 64, 56, 128, 128, 192, 196, 255, 255
Image Width : 199
Image Height : 300
Bits Per Sample : 8
Color Components : 3
Aperture : 5.0
Image Size : 199x300
Megapixels : 0.060
Scale Factor To 35 mm Equivalent : 1.5
Shutter Speed : 1/80
Create Date : 2008:07:11 10:49:27.68
Date/Time Original : 2008:07:11 10:49:27.68
Flash : No Flash
Circle Of Confusion : 0.020 mm
Depth Of Field : inf (0.78 m - inf)
Field Of View : 100.4 deg
Focal Length : 10.0 mm (35 mm equivalent: 15.0 mm)
Hyperfocal Distance : 1.00 m
Light Value : 10.0
Lens ID : Sigma 10-20mm F4-5.6 EX DC HSM