Uber Exif Photo
Copyright Notice : RC COPELAND
Make : NIKON CORPORATION
Camera Model Name : NIKON D700
Orientation : Horizontal (normal)
Software : Adobe Photoshop Elements 8.0 Macintosh
Modify Date : 2011:06:25 16:26:52
Copyright : RC COPELAND
Exposure Time : 1/1250
F Number : 5.0
Exposure Program : Aperture-priority AE
ISO : 200
Date/Time Original : 2011:06:24 10:53:09
Create Date : 2011:06:24 10:53:09
Shutter Speed Value : 1/1250
Aperture Value : 5.0
Exposure Compensation : 0
Max Aperture Value : 4.0
Subject Distance : 4294967295 m
Metering Mode : Spot
Light Source : Unknown
Focal Length : 24.0 mm
Color Space : sRGB
Exif Image Width : 4256
Exif Image Height : 2832
Sensing Method : One-chip color area
Scene Type : Directly photographed
CFA Pattern : [Red,Green][Green,Blue]
Custom Rendered : Normal
Exposure Mode : Auto
White Balance : Auto
Digital Zoom Ratio : 1
Focal Length In 35mm Format : 24 mm
Scene Capture Type : Standard
Gain Control : None
Contrast : Normal
Saturation : Normal
Sharpness : Normal
Subject Distance Range : Unknown
Profile Description : sRGB IEC61966-2.1
Date/Time Digitized : 2011:06:24 10:53:09.89+01:00
Creator Tool : Ver.1.02
Rating : 0
Format : image/jpeg
Serial Number : 2174842
Lens Info : 24-120mm f/4
Lens : 24.0-120.0 mm f/4.0
Image Number : 9421
Raw File Name : _RCC8547.NEF
Version : 5.5
Color Temperature : 5150
Tint : -4
Exposure : 0.00
Shadows : 5
Brightness : +50
Luminance Smoothing : 0
Color Noise Reduction : 25
Chromatic Aberration R : 0
Chromatic Aberration B : 0
Vignette Amount : +8
Vignette Midpoint : 66
Shadow Tint : 0
Red Hue : 0
Red Saturation : 0
Green Hue : 0
Green Saturation : 0
Blue Hue : 0
Blue Saturation : 0
Fill Light : 0
Highlight Recovery : 28
Clarity : 0
Defringe : 0
Gray Mixer Red : +2
Gray Mixer Orange : +71
Gray Mixer Yellow : +49
Gray Mixer Green : -27
Gray Mixer Aqua : -34
Gray Mixer Blue : -58
Gray Mixer Purple : +30
Gray Mixer Magenta : -3
Split Toning Shadow Hue : 0
Split Toning Shadow Saturation : 0
Split Toning Highlight Hue : 0
Split Toning Highlight Saturation : 0
Split Toning Balance : 0
Parametric Shadows : 0
Parametric Darks : 0
Parametric Lights : 0
Parametric Highlights : 0
Parametric Shadow Split : 25
Parametric Midtone Split : 50
Parametric Highlight Split : 75
Sharpen Radius : +1.0
Sharpen Detail : 25
Sharpen Edge Masking : 0
Post Crop Vignette Amount : 0
Convert To Grayscale : True
Tone Curve Name : Medium Contrast
Camera Profile : Adobe Standard
Has Settings : True
Has Crop : False
Already Applied : True
Sidecar For Extension : NEF
Color Mode : RGB
ICC Profile Name : sRGB IEC61966-2.1
Flash Fired : False
Flash Return : No return detection
Flash Mode : Unknown
Flash Function : False
Flash Red Eye Mode : False
Rights : RC COPELAND
Tone Curve : 0, 0, 32, 22, 64, 56, 128, 128, 192, 196, 255, 255
Gradient Based Corr What : Correction
Gradient Based Corr Amount : 1.000000
Gradient Based Corr Active : true
Gradient Based Corr Exposure : -0.162500
Gradient Based Corr Saturation : 0.460000
Gradient Based Corr Contrast : 0.040000
Gradient Based Corr Clarity : 0.100000
Gradient Based Corr Sharpness : 0.000000
Gradient Based Corr Brightness : -0.170000
Gradient Based Corr Toning Hue : 50.000000
Gradient Based Corr Toning Saturation : 0.250000
Gradient Based Corr Mask What : Mask/Gradient
Gradient Based Corr Mask Value : 1.000000
Gradient Based Corr Mask Zero X : 0.526539
Gradient Based Corr Mask Zero Y : 0.223285
Gradient Based Corr Mask Full X : 0.526539
Gradient Based Corr Mask Full Y : -0.011164
Image Width : 300
Image Height : 200
Bits Per Sample : 8
Color Components : 3
Aperture : 5.0
Image Size : 300x200
Megapixels : 0.060
Scale Factor To 35 mm Equivalent : 1.0
Shutter Speed : 1/1250
Create Date : 2011:06:24 10:53:09.89
Date/Time Original : 2011:06:24 10:53:09.89
Modify Date : 2011:06:25 16:26:52.89
Flash : No Flash
Circle Of Confusion : 0.030 mm
Depth Of Field : inf (3.83 m - inf)
Field Of View : 73.7 deg
Focal Length : 24.0 mm (35 mm equivalent: 24.0 mm)
Hyperfocal Distance : 3.83 m
Light Value : 13.9
Lens ID : AF-S Nikkor 24-120mm f/4G ED VR