Uber Exif Photo
Make : NIKON CORPORATION
Camera Model Name : NIKON D50
Orientation : Horizontal (normal)
Software : Adobe Photoshop Elements 8.0 Macintosh
Modify Date : 2011:02:15 11:19:35
Exposure Time : 1/60
F Number : 9.0
Exposure Program : Aperture-priority AE
ISO : 400
Sensitivity Type : Unknown
Date/Time Original : 2005:10:03 11:56:18
Create Date : 2005:10:03 11:56:18
Shutter Speed Value : 1/60
Aperture Value : 9.0
Exposure Compensation : 0
Max Aperture Value : 3.7
Subject Distance : 4294967295 m
Metering Mode : Multi-segment
Light Source : Unknown
Focal Length : 25.0 mm
Color Space : Uncalibrated
Exif Image Width : 2000
Exif Image Height : 3008
Sensing Method : One-chip color area
Scene Type : Directly photographed
CFA Pattern : [Blue,Green][Green,Red]
Custom Rendered : Normal
Exposure Mode : Auto
White Balance : Auto
Digital Zoom Ratio : 1
Focal Length In 35mm Format : 37 mm
Scene Capture Type : Standard
Gain Control : None
Contrast : Normal
Saturation : Normal
Sharpness : Normal
Subject Distance Range : Unknown
Lens Info : 18-70mm f/3.5-4.5
Lens Model : 18.0-70.0 mm f/3.5-4.5
Profile Description : Adobe RGB (1998)
Date/Time Digitized : 2005:10:03 11:56:18.90+01:00
Creator Tool : Ver.1.00
Rating : 0
Lens : 18.0-70.0 mm f/3.5-4.5
Image Number : 1673
Approximate Focus Distance : 4294967295
Raw File Name : _DSC1444.NEF
Version : 6.2
Process Version : 5.7
Color Temperature : 5350
Tint : -15
Exposure : -1.55
Shadows : 7
Brightness : +74
Luminance Smoothing : 0
Color Noise Reduction : 25
Chromatic Aberration R : 0
Chromatic Aberration B : 0
Vignette Amount : 0
Shadow Tint : 0
Red Hue : 0
Red Saturation : 0
Green Hue : 0
Green Saturation : 0
Blue Hue : 0
Blue Saturation : 0
Fill Light : 0
Vibrance : 0
Highlight Recovery : 25
Clarity : 0
Defringe : 0
Hue Adjustment Red : 0
Hue Adjustment Orange : 0
Hue Adjustment Yellow : 0
Hue Adjustment Green : 0
Hue Adjustment Aqua : 0
Hue Adjustment Blue : 0
Hue Adjustment Purple : 0
Hue Adjustment Magenta : 0
Saturation Adjustment Red : 0
Saturation Adjustment Orange : 0
Saturation Adjustment Yellow : 0
Saturation Adjustment Green : 0
Saturation Adjustment Aqua : 0
Saturation Adjustment Blue : 0
Saturation Adjustment Purple : 0
Saturation Adjustment Magenta : 0
Luminance Adjustment Red : 0
Luminance Adjustment Orange : 0
Luminance Adjustment Yellow : 0
Luminance Adjustment Green : 0
Luminance Adjustment Aqua : 0
Luminance Adjustment Blue : 0
Luminance Adjustment Purple : 0
Luminance Adjustment Magenta : 0
Split Toning Shadow Hue : 0
Split Toning Shadow Saturation : 0
Split Toning Highlight Hue : 0
Split Toning Highlight Saturation : 0
Split Toning Balance : 0
Parametric Shadows : 0
Parametric Darks : 0
Parametric Lights : 0
Parametric Highlights : 0
Parametric Shadow Split : 25
Parametric Midtone Split : 50
Parametric Highlight Split : 75
Sharpen Radius : +1.0
Sharpen Detail : 25
Sharpen Edge Masking : 0
Post Crop Vignette Amount : 0
Grain Amount : 0
Color Noise Reduction Detail : 50
Lens Profile Enable : 0
Lens Manual Distortion Amount : 0
Perspective Vertical : 0
Perspective Horizontal : 0
Perspective Rotate : 0.0
Perspective Scale : 100
Convert To Grayscale : False
Tone Curve Name : Medium Contrast
Camera Profile : Adobe Standard
Lens Profile Setup : LensDefaults
Has Settings : True
Has Crop : False
Already Applied : True
Sidecar For Extension : NEF
Color Mode : RGB
ICC Profile Name : Adobe RGB (1998)
Format : image/jpeg
Flash Fired : False
Flash Return : No return detection
Flash Mode : Unknown
Flash Function : False
Flash Red Eye Mode : False
Tone Curve : 0, 0, 32, 22, 64, 56, 128, 128, 192, 196, 255, 255
Image Width : 199
Image Height : 300
Bits Per Sample : 8
Color Components : 3
Aperture : 9.0
Image Size : 199x300
Megapixels : 0.060
Scale Factor To 35 mm Equivalent : 1.5
Shutter Speed : 1/60
Create Date : 2005:10:03 11:56:18.90
Date/Time Original : 2005:10:03 11:56:18.90
Modify Date : 2011:02:15 11:19:35.90
Flash : No Flash
Circle Of Confusion : 0.020 mm
Depth Of Field : inf (3.42 m - inf)
Field Of View : 51.9 deg
Focal Length : 25.0 mm (35 mm equivalent: 37.0 mm)
Hyperfocal Distance : 3.42 m
Light Value : 10.2
Lens ID : AF-S DX Zoom-Nikkor 18-70mm f/3.5-4.5G IF-ED