Uber Exif Photo
Copyright Notice : RC COPELAND
Make : NIKON CORPORATION
Camera Model Name : NIKON D700
Orientation : Horizontal (normal)
Software : Adobe Photoshop Elements 8.0 Macintosh
Modify Date : 2010:12:21 20:32:50
Copyright : RC COPELAND
Exposure Time : 1/100
F Number : 11.0
Exposure Program : Aperture-priority AE
ISO : 100
Date/Time Original : 2010:04:08 13:29:51
Create Date : 2010:04:08 13:29:51
Shutter Speed Value : 1/100
Aperture Value : 11.0
Exposure Compensation : 0
Max Aperture Value : 4.0
Metering Mode : Multi-segment
Light Source : Unknown
Focal Length : 48.0 mm
Color Space : sRGB
Exif Image Width : 2554
Exif Image Height : 1699
Sensing Method : One-chip color area
Scene Type : Directly photographed
CFA Pattern : [Red,Green][Green,Blue]
Custom Rendered : Normal
Exposure Mode : Auto
White Balance : Auto
Digital Zoom Ratio : 1
Focal Length In 35mm Format : 48 mm
Scene Capture Type : Standard
Gain Control : None
Contrast : Normal
Saturation : Normal
Sharpness : Normal
Subject Distance Range : Unknown
Profile Description : sRGB IEC61966-2.1
Photometric Interpretation : RGB
Samples Per Pixel : 3
Date/Time Digitized : 2010:04:08 13:29:51.33+01:00
Creator Tool : Ver.1.02
Rating : 5
Format : image/jpeg
Serial Number : 2174842
Lens Info : 28-105mm f/3.5-4.5
Lens : 28.0-105.0 mm f/3.5-4.5
Image Number : 3989
Raw File Name : _RCC3577.NEF
Version : 5.5
Color Temperature : 4600
Tint : -11
Exposure : 0.00
Shadows : 6
Brightness : +23
Luminance Smoothing : 0
Color Noise Reduction : 25
Chromatic Aberration R : 0
Chromatic Aberration B : 0
Vignette Amount : 0
Shadow Tint : 0
Red Hue : 0
Red Saturation : 0
Green Hue : 0
Green Saturation : 0
Blue Hue : 0
Blue Saturation : 0
Fill Light : 0
Vibrance : 0
Highlight Recovery : 18
Clarity : 0
Defringe : 0
Hue Adjustment Red : 0
Hue Adjustment Orange : 0
Hue Adjustment Yellow : 0
Hue Adjustment Green : 0
Hue Adjustment Aqua : 0
Hue Adjustment Blue : 0
Hue Adjustment Purple : 0
Hue Adjustment Magenta : 0
Saturation Adjustment Red : 0
Saturation Adjustment Orange : 0
Saturation Adjustment Yellow : 0
Saturation Adjustment Green : 0
Saturation Adjustment Aqua : 0
Saturation Adjustment Blue : 0
Saturation Adjustment Purple : 0
Saturation Adjustment Magenta : 0
Luminance Adjustment Red : 0
Luminance Adjustment Orange : 0
Luminance Adjustment Yellow : 0
Luminance Adjustment Green : 0
Luminance Adjustment Aqua : 0
Luminance Adjustment Blue : 0
Luminance Adjustment Purple : 0
Luminance Adjustment Magenta : 0
Split Toning Shadow Hue : 0
Split Toning Shadow Saturation : 0
Split Toning Highlight Hue : 0
Split Toning Highlight Saturation : 0
Split Toning Balance : 0
Parametric Shadows : 0
Parametric Darks : 0
Parametric Lights : 0
Parametric Highlights : 0
Parametric Shadow Split : 25
Parametric Midtone Split : 50
Parametric Highlight Split : 75
Sharpen Radius : +1.0
Sharpen Detail : 25
Sharpen Edge Masking : 0
Post Crop Vignette Amount : 0
Convert To Grayscale : False
Tone Curve Name : Medium Contrast
Camera Profile : Camera Neutral v2
Has Settings : True
Has Crop : False
Already Applied : True
Sidecar For Extension : NEF
Color Mode : RGB
ICC Profile Name : sRGB IEC61966-2.1
Flash Fired : False
Flash Return : No return detection
Flash Mode : Unknown
Flash Function : False
Flash Red Eye Mode : False
Rights : RC COPELAND
Tone Curve : 0, 0, 32, 22, 64, 56, 128, 128, 192, 196, 255, 255
Image Width : 300
Image Height : 200
Bits Per Sample : 8
Color Components : 3
Aperture : 11.0
Image Size : 300x200
Megapixels : 0.060
Scale Factor To 35 mm Equivalent : 1.0
Shutter Speed : 1/100
Create Date : 2010:04:08 13:29:51.33
Date/Time Original : 2010:04:08 13:29:51.33
Modify Date : 2010:12:21 20:32:50.33
Flash : No Flash
Circle Of Confusion : 0.030 mm
Field Of View : 41.1 deg
Focal Length : 48.0 mm (35 mm equivalent: 48.0 mm)
Hyperfocal Distance : 6.97 m
Light Value : 13.6
Lens ID : 28.0-105.0mm f/3.5-4.5