Uber Exif Photo
Copyright Notice : RC COPELAND
Make : NIKON CORPORATION
Camera Model Name : NIKON D700
Orientation : Horizontal (normal)
Software : Adobe Photoshop Elements 8.0 Macintosh
Modify Date : 2010:12:21 20:33:41
White Point : 0.313 0.329
Primary Chromaticities : 0.64 0.33 0.21 0.71 0.15 0.06
Copyright : RC COPELAND
Exposure Time : 1/500
F Number : 6.3
Exposure Program : Aperture-priority AE
Date/Time Original : 2010:10:17 12:15:04
Create Date : 2010:10:17 12:15:04
Compressed Bits Per Pixel : 4
Exposure Compensation : 0
Max Aperture Value : 4.0
Metering Mode : Multi-segment
Light Source : Unknown
Focal Length : 32.0 mm
User Comment : Sub Sec Time : 82
Color Space : Uncalibrated
Exif Image Width : 2700
Exif Image Height : 1800
Sensing Method : One-chip color area
Scene Type : Directly photographed
CFA Pattern : [Red,Green][Green,Blue]
Custom Rendered : Normal
Exposure Mode : Auto
White Balance : Auto
Digital Zoom Ratio : 1
Focal Length In 35mm Format : 32 mm
Scene Capture Type : Standard
Gain Control : None
Contrast : Normal
Saturation : Normal
Sharpness : Normal
Subject Distance Range : Unknown
Gamma : 2.2
GPS Version ID : 2.2.0.0
Profile Description : Adobe RGB (1998)
Shutter Speed Value : 1/500
Aperture Value : 6.3
Date/Time Digitized : 2010:10:17 12:15:04.82+01:00
Subject Distance : 4294967295 m
Creator Tool : Ver.1.02
Rating : 0
Serial Number : 2174842
Lens Info : 24-120mm f/4
Lens : 24.0-120.0 mm f/4.0
Image Number : 6983
Color Mode : RGB
ICC Profile Name : Adobe RGB (1998)
Raw File Name : _RCC6285.JPG
Version : 5.7
Process Version : 5.0
Incremental Temperature : 0
Incremental Tint : 0
Exposure : 0.00
Shadows : 1
Brightness : 0
Luminance Smoothing : 0
Color Noise Reduction : 0
Chromatic Aberration R : 0
Chromatic Aberration B : 0
Vignette Amount : 0
Shadow Tint : 0
Red Hue : 0
Red Saturation : 0
Green Hue : 0
Green Saturation : 0
Blue Hue : 0
Blue Saturation : 0
Fill Light : 50
Vibrance : 0
Highlight Recovery : 58
Clarity : 0
Defringe : 0
Hue Adjustment Red : 0
Hue Adjustment Orange : 0
Hue Adjustment Yellow : 0
Hue Adjustment Green : 0
Hue Adjustment Aqua : 0
Hue Adjustment Blue : 0
Hue Adjustment Purple : 0
Hue Adjustment Magenta : 0
Saturation Adjustment Red : 0
Saturation Adjustment Orange : 0
Saturation Adjustment Yellow : 0
Saturation Adjustment Green : 0
Saturation Adjustment Aqua : 0
Saturation Adjustment Blue : 0
Saturation Adjustment Purple : 0
Saturation Adjustment Magenta : 0
Luminance Adjustment Red : 0
Luminance Adjustment Orange : 0
Luminance Adjustment Yellow : 0
Luminance Adjustment Green : 0
Luminance Adjustment Aqua : 0
Luminance Adjustment Blue : 0
Luminance Adjustment Purple : 0
Luminance Adjustment Magenta : 0
Split Toning Shadow Hue : 0
Split Toning Shadow Saturation : 0
Split Toning Highlight Hue : 0
Split Toning Highlight Saturation : 0
Split Toning Balance : 0
Parametric Shadows : 0
Parametric Darks : 0
Parametric Lights : 0
Parametric Highlights : 0
Parametric Shadow Split : 25
Parametric Midtone Split : 50
Parametric Highlight Split : 75
Sharpen Radius : +1.0
Sharpen Detail : 25
Sharpen Edge Masking : 0
Post Crop Vignette Amount : 0
Grain Amount : 0
Convert To Grayscale : False
Tone Curve Name : Linear
Camera Profile : Embedded
Has Settings : True
Has Crop : False
Already Applied : False
Format : image/jpeg
ISO : 100
Flash Fired : False
Flash Return : No return detection
Flash Mode : Unknown
Flash Function : False
Flash Red Eye Mode : False
Tone Curve : 0, 0, 255, 255
Rights : RC COPELAND
Creator : History Action : saved, saved, saved, saved
Image Width : 300
Image Height : 200
Bits Per Sample : 8
Color Components : 3
Aperture : 6.3
Image Size : 300x200
Megapixels : 0.060
Scale Factor To 35 mm Equivalent : 1.0
Shutter Speed : 1/500
Create Date : 2010:10:17 12:15:04.82
Date/Time Original : 2010:10:17 12:15:04.82
Modify Date : 2010:12:21 20:33:41.82
Flash : No Flash
Circle Of Confusion : 0.030 mm
Depth Of Field : inf (5.41 m - inf)
Field Of View : 58.7 deg
Focal Length : 32.0 mm (35 mm equivalent: 32.0 mm)
Hyperfocal Distance : 5.41 m
Light Value : 14.3
Lens ID : AF-S Nikkor 24-120mm f/4G ED VR