Uber Exif Photo
Make : NIKON CORPORATION
Camera Model Name : NIKON D300
Orientation : Horizontal (normal)
Software : Adobe Photoshop Elements 9.0 Macintosh
Modify Date : 2013:09:16 19:44:56
Exposure Time : 1/1000
F Number : 5.3
Exposure Program : Aperture-priority AE
ISO : 450
Date/Time Original : 2013:09:16 15:32:55
Create Date : 2013:09:16 15:32:55
Shutter Speed Value : 1/1000
Aperture Value : 5.3
Exposure Compensation : 0
Max Aperture Value : 5.3
Subject Distance : 18.8 m
Metering Mode : Multi-segment
Light Source : Unknown
Focal Length : 270.0 mm
Color Space : sRGB
Exif Image Width : 2998
Exif Image Height : 2356
Sensing Method : One-chip color area
Scene Type : Directly photographed
CFA Pattern : [Red,Green][Green,Blue]
Custom Rendered : Normal
Exposure Mode : Auto
White Balance : Auto
Digital Zoom Ratio : 1
Focal Length In 35mm Format : 405 mm
Scene Capture Type : Standard
Gain Control : Low gain up
Contrast : Normal
Saturation : Normal
Sharpness : Hard
Subject Distance Range : Unknown
Serial Number : 6055215
Lens Info : 80-400mm f/4.5-5.6
Lens Model : 80.0-400.0 mm f/4.5-5.6
Profile Description : sRGB IEC61966-2.1
Rating Percent : 0
Date/Time Digitized : 2013:09:16 15:32:55-05:00
Creator Tool : Nikon Transfer 2.3 M
Rating : 0
Lens : 80.0-400.0 mm f/4.5-5.6
Image Number : 18617
Approximate Focus Distance : 18.8
Date Created : 2013:09:16
Color Mode : RGB
ICC Profile Name : sRGB IEC61966-2.1
Format : image/jpeg
Raw File Name : DSC_8415.NEF
Version : 6.5
Process Version : 5.7
Color Temperature : 5001
Tint : +10
Exposure : 0.00
Shadows : 0
Brightness : +49
Luminance Smoothing : 0
Color Noise Reduction : 25
Chromatic Aberration R : 0
Chromatic Aberration B : 0
Vignette Amount : 0
Shadow Tint : 0
Red Hue : 0
Red Saturation : 0
Green Hue : 0
Green Saturation : 0
Blue Hue : 0
Blue Saturation : 0
Fill Light : 0
Vibrance : +11
Highlight Recovery : 39
Clarity : +55
Defringe : 0
Hue Adjustment Red : 0
Hue Adjustment Orange : 0
Hue Adjustment Yellow : 0
Hue Adjustment Green : 0
Hue Adjustment Aqua : 0
Hue Adjustment Blue : 0
Hue Adjustment Purple : 0
Hue Adjustment Magenta : 0
Saturation Adjustment Red : 0
Saturation Adjustment Orange : 0
Saturation Adjustment Yellow : 0
Saturation Adjustment Green : 0
Saturation Adjustment Aqua : 0
Saturation Adjustment Blue : 0
Saturation Adjustment Purple : 0
Saturation Adjustment Magenta : 0
Luminance Adjustment Red : 0
Luminance Adjustment Orange : 0
Luminance Adjustment Yellow : 0
Luminance Adjustment Green : 0
Luminance Adjustment Aqua : 0
Luminance Adjustment Blue : 0
Luminance Adjustment Purple : 0
Luminance Adjustment Magenta : 0
Split Toning Shadow Hue : 0
Split Toning Shadow Saturation : 0
Split Toning Highlight Hue : 0
Split Toning Highlight Saturation : 0
Split Toning Balance : 0
Parametric Shadows : 0
Parametric Darks : 0
Parametric Lights : 0
Parametric Highlights : 0
Parametric Shadow Split : 25
Parametric Midtone Split : 50
Parametric Highlight Split : 75
Sharpen Radius : +1.0
Sharpen Detail : 41
Sharpen Edge Masking : 0
Post Crop Vignette Amount : 0
Grain Amount : 0
Color Noise Reduction Detail : 50
Lens Profile Enable : 0
Lens Manual Distortion Amount : 0
Perspective Vertical : 0
Perspective Horizontal : 0
Perspective Rotate : 0.0
Perspective Scale : 100
Convert To Grayscale : False
Tone Curve Name : Medium Contrast
Camera Profile : Camera Vivid
Lens Profile Setup : LensDefaults
Has Settings : True
Has Crop : False
Already Applied : True
Flash Fired : False
Flash Return : No return detection
Flash Mode : Unknown
Flash Function : False
Flash Red Eye Mode : False
Tone Curve : 0, 0, 32, 22, 64, 56, 128, 128, 192, 196, 255, 255
Image Width : 300
Image Height : 236
Bits Per Sample : 8
Color Components : 3
Aperture : 5.3
Image Size : 300x236
Megapixels : 0.071
Scale Factor To 35 mm Equivalent : 1.5
Shutter Speed : 1/1000
Create Date : 2013:09:16 15:32:55.05
Date/Time Original : 2013:09:16 15:32:55.05
Modify Date : 2013:09:16 19:44:56.05
Flash : No Flash
Circle Of Confusion : 0.020 mm
Depth Of Field : 1.02 m (18.31 - 19.32 m)
Field Of View : 5.1 deg
Focal Length : 270.0 mm (35 mm equivalent: 405.0 mm)
Hyperfocal Distance : 686.68 m
Light Value : 12.6
Lens ID : AF VR Zoom-Nikkor 80-400mm f/4.5-5.6D ED