Uber Exif Photo
Make : NIKON CORPORATION
Camera Model Name : NIKON D300
Orientation : Horizontal (normal)
Software : Adobe Photoshop Elements 8.0 Windows
Modify Date : 2011:05:20 10:38:54
Exposure Time : 1/800
F Number : 8.0
Exposure Program : Aperture-priority AE
ISO : 320
Date/Time Original : 2011:05:19 08:05:33
Create Date : 2011:05:19 08:05:33
Shutter Speed Value : 1/800
Aperture Value : 8.0
Exposure Compensation : -2/3
Max Aperture Value : 4.4
Metering Mode : Multi-segment
Light Source : Unknown
Focal Length : 80.0 mm
Color Space : Uncalibrated
Exif Image Width : 2569
Exif Image Height : 2055
Sensing Method : One-chip color area
Scene Type : Directly photographed
CFA Pattern : [Red,Green][Green,Blue]
Custom Rendered : Normal
Exposure Mode : Auto
White Balance : Auto
Digital Zoom Ratio : 1
Focal Length In 35mm Format : 120 mm
Scene Capture Type : Standard
Gain Control : None
Contrast : Normal
Saturation : Normal
Sharpness : Hard
Subject Distance Range : Unknown
Profile Description : Adobe RGB (1998)
Rating Percent : 0
Date/Time Digitized : 2011:05:19 08:05:33.23-05:00
Creator Tool : Nikon Transfer 1.5 W
Rating : 0
Serial Number : 6055215
Lens Info : 80-400mm f/4.5-5.6
Lens : 80.0-400.0 mm f/4.5-5.6
Image Number : 12527
Raw File Name : DSC_2457.NEF
Version : 5.5
Color Temperature : 5200
Tint : +6
Exposure : +1.35
Shadows : 7
Brightness : 0
Luminance Smoothing : 82
Color Noise Reduction : 82
Chromatic Aberration R : 0
Chromatic Aberration B : 0
Vignette Amount : 0
Shadow Tint : 0
Red Hue : 0
Red Saturation : 0
Green Hue : 0
Green Saturation : 0
Blue Hue : 0
Blue Saturation : 0
Fill Light : 0
Vibrance : 0
Highlight Recovery : 29
Clarity : 0
Defringe : 0
Hue Adjustment Red : 0
Hue Adjustment Orange : 0
Hue Adjustment Yellow : 0
Hue Adjustment Green : 0
Hue Adjustment Aqua : 0
Hue Adjustment Blue : 0
Hue Adjustment Purple : 0
Hue Adjustment Magenta : 0
Saturation Adjustment Red : 0
Saturation Adjustment Orange : 0
Saturation Adjustment Yellow : 0
Saturation Adjustment Green : 0
Saturation Adjustment Aqua : 0
Saturation Adjustment Blue : 0
Saturation Adjustment Purple : 0
Saturation Adjustment Magenta : 0
Luminance Adjustment Red : 0
Luminance Adjustment Orange : 0
Luminance Adjustment Yellow : 0
Luminance Adjustment Green : 0
Luminance Adjustment Aqua : 0
Luminance Adjustment Blue : 0
Luminance Adjustment Purple : 0
Luminance Adjustment Magenta : 0
Split Toning Shadow Hue : 0
Split Toning Shadow Saturation : 0
Split Toning Highlight Hue : 0
Split Toning Highlight Saturation : 0
Split Toning Balance : 0
Parametric Shadows : 0
Parametric Darks : 0
Parametric Lights : 0
Parametric Highlights : 0
Parametric Shadow Split : 25
Parametric Midtone Split : 50
Parametric Highlight Split : 75
Sharpen Radius : +1.0
Sharpen Detail : 48
Sharpen Edge Masking : 0
Post Crop Vignette Amount : 0
Convert To Grayscale : False
Tone Curve Name : Medium Contrast
Camera Profile : Camera Vivid
Has Settings : True
Has Crop : False
Already Applied : True
Sidecar For Extension : NEF
Color Mode : RGB
ICC Profile Name : Adobe RGB (1998)
Format : image/jpeg
Flash Fired : False
Flash Return : No return detection
Flash Mode : Unknown
Flash Function : False
Flash Red Eye Mode : False
Tone Curve : 0, 0, 32, 22, 64, 56, 128, 128, 192, 196, 255, 255
Image Width : 300
Image Height : 240
Bits Per Sample : 8
Color Components : 3
Aperture : 8.0
Image Size : 300x240
Megapixels : 0.072
Scale Factor To 35 mm Equivalent : 1.5
Shutter Speed : 1/800
Create Date : 2011:05:19 08:05:33.23
Date/Time Original : 2011:05:19 08:05:33.23
Modify Date : 2011:05:20 10:38:54.23
Flash : No Flash
Circle Of Confusion : 0.020 mm
Field Of View : 17.1 deg
Focal Length : 80.0 mm (35 mm equivalent: 120.0 mm)
Hyperfocal Distance : 39.94 m
Light Value : 14.0
Lens ID : 80.0-400.0mm f/4.5-5.6